Workbook

Sheet Sjåførliste
A1: 1602 | B1: Trond Østborg
A2: 1217 | B2: Harald Holst
A3: 1215 | B3: Siw Gjerstad
A4: 1202 | B4: Rune Andersen
A5: 1212 | B5: Elisabeth Bye Tollefsen
A6: 1221 | B6: Tove Rædergård
A7: 1230 | B7: Morten Myhrvold
A8: 1620 | B8: Erik Molstad - Toten
A9: 1621 | B9: Sten Valleraune - Toten
A10: 1622 | B10: Kjell Ivar Brekstad - Toten
A11: 1623 | B11: Daniel Valleraune - Toten
A12: 1624 | B12: Klaus Ringen - Toten
A13: TDS1 | B13: Zygimantas Kazakevicius
A14: TDS2 | B14: Roger Midtbøen
A15: TDS3 | B15: Cuong Quoc Treung

Sheet Kommuneoversikt
A1: Postnummer | B1: Poststed | C1: Kommunenummer | D1: Kommunenavn | E1: Fylke
A2: 1 | B2: OSLO | C2: 301 | D2: OSLO | E2: OSLO
A3: 10 | B3: OSLO | C3: 301 | D3: OSLO | E3: OSLO
A4: 15 | B4: OSLO | C4: 301 | D4: OSLO | E4: OSLO
A5: 18 | B5: OSLO | C5: 301 | D5: OSLO | E5: OSLO
A6: 21 | B6: OSLO | C6: 301 | D6: OSLO | E6: OSLO
A7: 24 | B7: OSLO | C7: 301 | D7: OSLO | E7: OSLO
A8: 26 | B8: OSLO | C8: 301 | D8: OSLO | E8: OSLO
A9: 28 | B9: OSLO | C9: 301 | D9: OSLO | E9: OSLO
A10: 30 | B10: OSLO | C10: 301 | D10: OSLO | E10: OSLO
A11: 31 | B11: OSLO | C11: 301 | D11: OSLO | E11: OSLO
A12: 32 | B12: OSLO | C12: 301 | D12: OSLO | E12: OSLO
A13: 33 | B13: OSLO | C13: 301 | D13: OSLO | E13: OSLO
... A4396: 8098 | B4396: LANDEGODE | C4396: 1804 | D4396: BODØ | E4396: NORDLAND
A4397: 8099 | B4397: JAN MAYEN | C4397: 2211 | D4397: JAN MAYEN | E4397: #N/A
A4398: 8100 | B4398: MISVÆR | C4398: 1804 | D4398: BODØ | E4398: NORDLAND
A4399: 8102 | B4399: SKJERSTAD | C4399: 1804 | D4399: BODØ | E4399: NORDLAND
A4400: 8103 | B4400: BREIVIK I SALTEN | C4400: 1804 | D4400: BODØ | E4400: NORDLAND
A4401: 8108 | B4401: MISVÆR | C4401: 1804 | D4401: BODØ | E4401: NORDLAND
A4402: 8110 | B4402: MOLDJORD | C4402: 1839 | D4402: BEIARN | E4402: NORDLAND
A4403: 8114 | B4403: TOLLÅ | C4403: 1839 | D4403: BEIARN | E4403: NORDLAND
A4404: 8118 | B4404: MOLDJORD | C4404: 1839 | D4404: BEIARN | E4404: NORDLAND
A4405: 8120 | B4405: NYGÅRDSJØEN | C4405: 1838 | D4405: GILDESKÅL | E4405: NORDLAND
A4406: 8128 | B4406: YTRE BEIARN | C4406: 1839 | D4406: BEIARN | E4406: NORDLAND
A4407: 8130 | B4407: SANDHORNØY | C4407: 1838 | D4407: GILDESKÅL | E4407: NORDLAND
A4408: 8134 | B4408: SØRARNØY | C4408: 1838 | D4408: GILDESKÅL | E4408: NORDLAND
A4409: 8135 | B4409: SØRARNØY | C4409: 1838 | D4409: GILDESKÅL | E4409: NORDLAND
... A4806: 9169 | B4806: BURFJORD | C4806: 5429 | D4806: KVÆNANGEN | E4806: TROMS OG FINNMARK
A4807: 9170 | B4807: LONGYEARBYEN | C4807: 2100 | D4807: SVALBARD | E4807: #N/A
A4808: 9171 | B4808: LONGYEARBYEN | C4808: 2100 | D4808: SVALBARD | E4808: #N/A
A4809: 9173 | B4809: NY-ÅLESUND | C4809: 2100 | D4809: SVALBARD | E4809: #N/A
A4810: 9174 | B4810: HOPEN | C4810: 2100 | D4810: SVALBARD | E4810: #N/A
A4811: 9175 | B4811: SVEAGRUVA | C4811: 2100 | D4811: SVALBARD | E4811: #N/A
A4812: 9176 | B4812: BJØRNØYA | C4812: 2100 | D4812: SVALBARD | E4812: #N/A
A4813: 9178 | B4813: BARENTSBURG | C4813: 2100 | D4813: SVALBARD | E4813: #N/A
A4814: 9180 | B4814: SKJERVØY | C4814: 5427 | D4814: SKJERVØY | E4814: TROMS OG FINNMARK
A4815: 9181 | B4815: HAMNEIDET | C4815: 5428 | D4815: NORDREISA | E4815: TROMS OG FINNMARK
A4816: 9182 | B4816: SEGLVIK | C4816: 5429 | D4816: KVÆNANGEN | E4816: TROMS OG FINNMARK
A4817: 9184 | B4817: REINFJORD | C4817: 5429 | D4817: KVÆNANGEN | E4817: TROMS OG FINNMARK
A4818: 9185 | B4818: SPILDRA | C4818: 5429 | D4818: KVÆNANGEN | E4818: TROMS OG FINNMARK
...

Sheet SHA
A1: Sykehusapoteket i Levanger | B1: Kirkegt. 2 | C1: 7600 | D1: Levanger | E1: Heidi Skjetne | F1: 41930547 | G1: Heidi.H.Skjetne@sykehusapoteket.no
A2: Sjukehusapoteka Førde | B2: Svanehaugvegen 2 | C2: 6812 | D2: Førde | E2: Gunvor Steine Tufte | F2: 41436975 | G2: gunvor.steine.tufte@ihelse.net
A3: Sjukehusapoteket i Bergen | B3: Jonas Lies veg 89 | C3: 5021 | D3: Bergen | E3: Pål Espen Johannsesen | F3: 99104972 | G3: pal.espen.johannessen@sav.no
A4: Sjukehusapoteket i Haugesund | B4: Karmsundgata 120 | C4: 5528 | D4: Haugesund | E4: Lene Svanberg Jakobsen | F4: 98845265 | G4: lene.svanberg.jakobsen@sav.no
A5: Sjukehusapoteket i Stavanger | B5: Gerd-Ragna Bloch Thorsens gate 8 | C5: 4011 | D5: Stavanger | E5: Tonje Folkvang | F5: 91144639 | G5: tonje.folkvang@sav.no
A6: Sykehusapoteket i Trondheim | B6: Edvard Griegsgt. 10 | C6: 7030 | D6: Trondheim | E6: Morten Loennechen / Maja Nesjan | F6: 99393313 | G6: Morten.Loennechen@sykehusapoteket.no
A7: Sjukehusapoteket i Ålesund | B7: Åsehaugen 5 | C7: 6017 | D7: Ålesund | E7: Åse Østrem | F7: 47885111 | G7: Ase.B.Ostrem@sykehusapoteket.no
A8: Sykehusapoteket i Tromsø | B8: Sykehusveien 38 | C8: 9038 | D8: Tromsø | E8: Sidsel Kristiansen | F8: 92427 919 | G8: Sidsel.Kristiansen@sykehusapotek-nord.no
A9: Sykehusapoteket i Bodø | B9: Parkveien 95 | C9: 8005 | D9: Bodø | E9: Cathrine Strømhaug | F9: 91723 838 | G9: Cathrine.Stromhaug@sykehusapotek-nord.no
A10: Sykehusapoteket Oslo, Ullevål | B10: Kirkeveien 166 | C10: 450 | D10: Oslo | E10: Jalil Djahromi | F10: 90685317 | G10: Jalil.djahromi@sykehusapotekene.no
A11: Sykehusapoteket Ahus, Nordbyhagen | B11: Sykehusveien 25 | C11: 1474 | D11: Lørenskog | E11: Ida Maugesten | F11: 99399550 | G11: ida.maugesten@sykehusapotekene.no
A12: Sykehusapoteket Gjøvik | B12: Kyrre Greppsgate 11 | C12: 2819 | D12: Gjøvik | E12: Trine Berg | F12: 90046076 | G12: Trine.berg@sykehusapotekene.no
A13: Sykehusapoteket Skien | B13: Ulefossvegen 55 (bygg 54) | C13: 3710 | D13: Skien | E13: Rose-Marie Stange Semb | F13: 99284476 | G13: Rose-Marie.Stange.Semb@sykehusapotekene.no
A14: Sykehusapoteket Kristiansand | B14: Egsveien 100 | C14: 4615 | D14: Kristiansand S | E14: Rune Vatnøy | F14: 90530225 | G14: Rune.vatnoy@sykehusapotekene.no
A15: Folkehelseinstituttet, Vaksineforsyning | B15: Myrens verksted 6J | C15: 473 | D15: Oslo | E15: Kari Opheim | F15: 95752748 | G15: Kari.Opheim@fhi.no
A100: Uke 52-20 | B100: Uke 53-20 | C100: Uke 1 | D100: Uke 2 | E100: Uke 3 | F100: Uke 4 | G100: Uke 5 | H100: Uke 6 | I100: Uke 7 | J100: Uke 8 | K100: Uke 9 | L100: Uke 10 | M100: Uke 11 | N100: Uke 12 | O100: Uke 13 | P100: Uke 14 | Q100: Uke 15 | R100: Uke 16 | S100: Uke 17 | T100: Uke 18 | U100: Uke 19 | V100: Uke 20 | W100: Uke 21 | X100: Uke 22 | Y100: Uke 23 | Z100: Uke 24 | AA100: Uke 25 | AB100: Uke 26 | AC100: Uke 27 | AD100: Uke 28 | AE100: Uke 29 | AF100: Uke 30 | AG100: Uke 31 | AH100: Uke 32 | AI100: Uke 33 | AJ100: Uke 34 | AK100: Uke 35 | AL100: Uke 36 | AM100: Uke 37 | AN100: Uke 38 | AO100: Uke 39 | AP100: Uke 40 | AQ100: Uke 41 | AR100: Uke 42 | AS100: Uke 43 | AT100: Uke 44 | AU100: Uke 45 | AV100: Uke 46 | AW100: Uke 47 | AX100: Uke 48 | AY100: Uke 49 | AZ100: Uke 50 | BA100: Uke 51 | BB100: Uke 52 | BC100: 2022 Uke 1 | BD100: 2022 Uke 2 | BE100: 2022 Uke 3 | BF100: 2022 Uke 4 | BG100: 2022 Uke 5 | BH100: 2022 Uke 6 | BI100: 2022 Uke 7 | BJ100: 2022 Uke 8 | BK100: 2022 Uke 9 | BL100: 2022 Uke 10 | BM100: 2022 Uke 11 | BN100: 2022 Uke 12 | BO100: 2022 Uke 13 | BP100: 2022 Uke 14 | BQ100: 2022 Uke 15 | BR100: 2022 Uke 16 | BS100: 2022 Uke 17 | BT100: 2022 Uke 18 | BU100: 2022 Uke 19 | BV100: 2022 Uke 20 | BW100: 2022 Uke 21 | BX100: 2022 Uke 22 | BY100: 2022 Uke 23 | BZ100: 2022 Uke 24 | CA100: 2022 Uke 25 | CB100: 2022 Uke 26 | CC100: 2022 Uke 27 | CD100: 2022 Uke 28

Sheet JETPAK NORD-NORGE FLYPLASS
A1: Transferpoint | B1: Supplier | C1: Street | D1: Postcode | E1: City
A2: ANX | B2: Norbase | C2: Flyplass | D2: 8480 | E2: Andenes
A3: BOO | B3: Svenns Transport | C3: Flyplass | D3: 8004 | E3: Bodø
A4: BNN | B4: WGH BNN | C4: Flyplass | D4: 8900 | E4: Brønnøysund
A5: LKN | B5: Norbase | C5: Flyplass | D5: 8370 | E5: Leknes
A6: RET | B6: WGH RET | C6: Flyplass | D6: 8064 | E6: Røst
A7: SSJ | B7: Helgeland Transport | C7: Flyplass | D7: 8804 | E7: Sandnessjøen
A8: SKN | B8: Norbase | C8: Flyplass | D8: 8450 | E8: Stokmarknes
A9: SVJ | B9: Norbase | C9: Flyplass | D9: 8300 | E9: Svolvær
A10: VRY | B10: N/A | C10: Flyplass | D10: 8063 | E10: Værøy
A11: ALF | B11: ALF SGH | C11: Flyplass | D11: 9515 | E11: Alta
A12: TOS | B12: Tromsø Budbilsentral A/S | C12: Flyplass | D12: 9016 | E12: Tromsø
A13: BVG | B13: WGH BVG | C13: Flyplass | D13: 9981 | E13: Berlevåg
... A25: LYR | B25: Pole-Position | C25: Flyplass | D25: 9170 | E25: Longyearbyen

Sheet Vaksinefordeling
A1: Vaksinetype | B1: Kommune | C1: Region | D1: Kommunenr. | E1: Kundenummer | F1: Mottakertype | G1: Leveringssted | H1: 2022 Uke 25
A2: AstraZeneca | B2: STEINKJER | C2: Levanger | D2: 5 006 | E2: 538176 | F2: Kommune | G2: Steinkjer teststasjon | H2: 0
A3: AstraZeneca | B3: STJØRDAL | C3: Levanger | D3: 5 035 | E3: 538556 | F3: Kommune | G3: Stjørdal Helsestasjon | H3: 0
A4: AstraZeneca | B4: LEVANGER | C4: Levanger | D4: 5 037 | E4: 538470 | F4: Kommune | G4: Levanger rådhus | H4: 0
A5: AstraZeneca | B5: NAMSOS | C5: Levanger | D5: 5 007 | E5: 538182 | F5: Kommune | G5: Namsos helsehus | H5: 0
A6: AstraZeneca | B6: VERDAL | C6: Levanger | D6: 5 038 | E6: 538561 | F6: Kommune | G6: Verdal Helsestasjon | H6: 0
A7: AstraZeneca | B7: NÆRØYSUND | C7: Levanger | D7: 5 060 | E7: 538509 | F7: Kommune | G7: Rørvik helsesenter | H7: 0
A8: AstraZeneca | B8: INDERØY | C8: Levanger | D8: 5 053 | E8: 538419 | F8: Kommune | G8: Inderøy helsestasjon | H8: 0
A9: AstraZeneca | B9: OVERHALLA | C9: Levanger | D9: 5 047 | E9: 538435 | F9: Kommune | G9: Overhalla helsestasjon | H9: 0
A10: AstraZeneca | B10: MERÅKER | C10: Levanger | D10: 5 034 | E10: 538430 | F10: Kommune | G10: Meråker Helsestasjon | H10: 0
A11: AstraZeneca | B11: FROSTA | C11: Levanger | D11: 5 036 | E11: 538495 | F11: Kommune | G11: Frosta Legekontor | H11: 0
A12: AstraZeneca | B12: GRONG | C12: Levanger | D12: 5 045 | E12: 538626 | F12: Kommune | G12: Grong legekontor | H12: 0
A13: AstraZeneca | B13: SNÅSA | C13: Levanger | D13: 5 041 | E13: 538599 | F13: Kommune | G13: Snåsa Helsestasjon | H13: 0
... A602: AstraZeneca | B602: Sykehusapoteket Oslo, Ullevål | C602: - | D602: 0 | E602: 538498 | F602: Helseforetak | G602: XXX | H602: 0
A603: AstraZeneca | B603: Forsvaret | C603: - | D603: Oslo, Ullevål | E603: 1 | F603: Andre grupper | H603: 0
A604: AstraZeneca | B604: FHI - vaksineforsyningen mf | C604: - | D604: Oslo, Ullevål | E604: 0 | H604: 0
A605: AstraZeneca | B605: Svalbard | C605: - | D605: Tromsø | E605: 0 | H605: 0
A606: AstraZeneca | B606: Rusinstusjoner | C606: - | D606: Oslo, Ullevål | E606: 0 | H606: 0
A607: AstraZeneca | B607: Diplomater med mer | C607: - | D607: Oslo, Ullevål | E607: 0 | H607: 0
A608: AstraZeneca | B608: OL, Oslo | C608: - | D608: Oslo, Ullevål | E608: 0 | H608: 0
A609: AstraZeneca | B609: OL, Stavanger | C609: - | D609: Stavanger | E609: 0 | H609: 0
A610: AstraZeneca | B610: OL, Bergen | C610: - | D610: Bergen | E610: 0 | H610: 0
A611: AstraZeneca | B611: OL, Trondheim | C611: - | D611: Trondheim | E611: 0 | H611: 0
A612: AstraZeneca | B612: 2.8.22 Skjold | C612: - | D612: Tromsø | E612: 0 | H612: 0
A613: AstraZeneca | B613: Fengselskommuner - Kristiansand | C613: - | D613: Kristiansand | E613: 0 | H613: 0
A614: AstraZeneca | B614: Fengselskommuner - Ahus | C614: - | D614: Ahus, Nordbyhagen | E614: 0 | H614: 0
A615: AstraZeneca | B615: Fengselskommuner - Gjøvik | C615: - | D615: Gjøvik | E615: 0 | H615: 0
... A618: AstraZeneca | B618: Fengselskommuner - Stavanger | C618: - | D618: Stavanger | E618: 0 | H618: 0
A619: Barnedoser Pfizer | B619: STEINKJER | D619: 5 006 | E619: 538176 | F619: Kommune | G619: Steinkjer teststasjon | H619: 0
A620: Barnedoser Pfizer | B620: STJØRDAL | D620: 5 035 | E620: 538556 | F620: Kommune | G620: Stjørdal Helsestasjon | H620: 0
A621: Barnedoser Pfizer | B621: LEVANGER | D621: 5 037 | E621: 538470 | F621: Kommune | G621: Levanger rådhus | H621: 0
A622: Barnedoser Pfizer | B622: NAMSOS | D622: 5 007 | E622: 538182 | F622: Kommune | G622: Namsos helsehus | H622: 10
A623: Barnedoser Pfizer | B623: VERDAL | D623: 5 038 | E623: 538561 | F623: Kommune | G623: Verdal Helsestasjon | H623: 0
A624: Barnedoser Pfizer | B624: NÆRØYSUND | D624: 5 060 | E624: 538509 | F624: Kommune | G624: Rørvik helsesenter | H624: 0
A625: Barnedoser Pfizer | B625: INDERØY | D625: 5 053 | E625: 538419 | F625: Kommune | G625: Inderøy helsestasjon | H625: 0
A626: Barnedoser Pfizer | B626: OVERHALLA | D626: 5 047 | E626: 538435 | F626: Kommune | G626: Overhalla helsestasjon | H626: 0
A627: Barnedoser Pfizer | B627: MERÅKER | D627: 5 034 | E627: 538430 | F627: Kommune | G627: Meråker Helsestasjon | H627: 0
A628: Barnedoser Pfizer | B628: FROSTA | D628: 5 036 | E628: 538495 | F628: Kommune | G628: Frosta Legekontor | H628: 0
A629: Barnedoser Pfizer | B629: GRONG | D629: 5 045 | E629: 538626 | F629: Kommune | G629: Grong legekontor | H629: 0
A630: Barnedoser Pfizer | B630: SNÅSA | D630: 5 041 | E630: 538599 | F630: Kommune | G630: Snåsa Helsestasjon | H630: 0
...

Sheet Pandemiregister
A1: Fullt kommunenavn | B1: Kommunenavn | C1: Kommune-nummer | D1: Fylke | E1: Navn på leveringssted | F1: Opphentingssted | G1: Kundenr. hos FHI | H1: Gateadresse | I1: Postnr. | J1: Poststed | K1: Kontaktperson på leveringssted | L1: Email leveringskontakt | M1: Telefon leverings-kontakt | N1: Navn koordinator | O1: Email koordinator | P1: Telefon koordinator | Q1: Kommune ovelege /Smittevernlege | R1: Kommuneoverlege Epost | S1: Kommune-overlege telefon | T1: Primær tlf nr leveringskontakt | U1: Sortering | V1: Sortering_1 | W1: Område | X1: Column24 | Y1: Column25 | Z1: Column26 | AA1: Column27
A2: Akershus universitetssykehus (sykehusapoteket) | B2: Akershus universitetssykehus (sykehusapoteket) - Internt | C2: 3029 | D2: VIKEN | E2: Sykehusapoteket Ahus, Nordbyhagen - Internlevering HF | F2: Sykehusapoteket Ahus, Nordbyhagen | G2: 538361 | H2: Intern | I2: 1474 | J2: Nordbyhagen | K2: Ida Maugesten | L2: ida.maugesten@sykehusapotekene.no | M2: 99399550 | N2: Karl Johan Seim-Wikse | O2: Karl.Johan.Seim-Wikse@ahus.no | P2: 92221597 | R2: Oystein.maeland@ahus.no | T2: 99399550 | U2: Akershus universitetssykehus (sykehusapoteket) - Internt | V2: 627 | W2: Østlandet
A3: Akershus universitetssykehus HF | B3: Akershus universitetssykehus HF | C3: 3020 | D3: VIKEN | E3: Akershus universitetssykehus, Ski sykehus | F3: Sykehusapoteket Ahus, Nordbyhagen | G3: 538278 | H3: Vardåsveien 3 | I3: 1400 | J3: Ski | L3: v | U3: Akershus universitetssykehus, Ski sykehus | V3: 476 | W3: Østlandet
A4: Akershus universitetssykehus HF - Kongsvinger avd. røntgen | B4: Akershus universitetssykehus HF - Kongsvinger avd. røntgen | C4: 3401 | D4: INNLANDET | E4: Akershus universitetssykehus, Kongsvinger avd. røntgen | F4: Sykehusapoteket Ahus, Nordbyhagen | G4: 538277 | H4: Parkveien 35 | I4: 2212 | J4: Kongsvinger | U4: Akershus universitetssykehus, Kongsvinger avd. røntgen | V4: 504 | W4: Østlandet
A5: Akershus universitetssykehus HF - Kongsvinger, somatikk | B5: Akershus universitetssykehus HF - Kongsvinger, somatikk | C5: 3401 | D5: INNLANDET | E5: Akershus universitetssykehus, Kongsvinger, somatikk | F5: Sykehusapoteket Ahus, Nordbyhagen | G5: 538276 | H5: Parkveien 35 | I5: 2212 | J5: Kongsvinger | U5: Akershus universitetssykehus, Kongsvinger, somatikk | V5: 503 | W5: Østlandet
A6: Alvdal kommune | B6: Alvdal | C6: 3428 | D6: INNLANDET | E6: Alvdal legekontor | F6: Sykehusapoteket Gjøvik | G6: 538422 | H6: Gjelen 3 | I6: 2560 | J6: Alvdal | K6: Bente Havdal | L6: bente.havdal@alvdal.kommune.no | M6: 41410741 | N6: Anita Engelberg / Janne Kjeldsen / Bente Havdal | O6: anita.engelberg@alvdal.kommune.no / Janne.kjeldsen@alvdal.kommune.no / bente.havdal@alvdal.kommune.no | P6: 456 38 953 | Q6: Håkon Spæren Henningsen | R6: hakon.s.henningsen@alvdal.kommune.no | S6: 994 86 954 | T6: 41410741 | U6: Alvdal legekontor | V6: 208 | W6: Østlandet
A7: Aremark kommune | B7: Aremark | C7: 3012 | D7: VIKEN | E7: Aremark helsestasjon og legekontor | F7: Sykehusapoteket Ahus, Nordbyhagen | G7: 538603 | H7: Fossbyåsen 41 | I7: 1798 | J7: Aremark | K7: Helsesykepleier Hege Nøkleby | L7: hegenokleby@gmail.com | M7: 45406311 | N7: Rita Martinsen | O7: rita.martinsen@aremark.kommune.no | P7: 69199690/ 69198446 /97726217 | Q7: Rita Martinsen | R7: rita.martinsen@aremark.kommune.no | S7: 69199690/ 69198446 /97726217 | T7: 45406311 | U7: Aremark helsestasjon og legekontor | V7: 144 | W7: Østlandet
A8: Asker kommune | B8: Asker | C8: 3025 | D8: VIKEN | E8: Søndre Borgen sykehjem | F8: Sykehusapoteket Oslo, Ullevål | G8: 538261 | H8: Søndre Borgen 16 | I8: 1388 | J8: Asker | K8: Elias Heimdal Leon | L8: elias.heimdal.leon@asker.kommune.no | M8: 94002178/90828882 | N8: Elias Heimdal Leon/Matteo Botta | O8: elias.heimdal.leon@asker.kommune.no/matteo.botta@asker.kommune.no | P8: 94002178/46218288 | Q8: Kjell Daniel Sørli | R8: Kjell.Daniel.Sorli@asker.kommune.no | S8: 95118365 | T8: 94002178 | U8: Søndre Borgen Sykehjem | V8: 157 | W8: Østlandet
A9: Aurskog-Høland kommune | B9: Aurskog-Høland | C9: 3026 | D9: VIKEN | E9: Legevakten i Aurskog-Høland kommune | F9: Sykehusapoteket Ahus, Nordbyhagen | G9: 538577 | H9: Parkveien 2 | I9: 1940 | J9: Bjørkelangen | K9: Lasse Fure | L9: lasse.fure@ahk.no | M9: 95986560 | N9: Lasse Fure | O9: lasse.fure@ahk.no | P9: 95986560 | Q9: Lasse Christensen | R9: lasse.christensen@ahk.no | S9: 93049769 | T9: 95986560 | U9: Legevakten i Aurskog-Høland kommune | V9: 158 | W9: Østlandet
A10: Avonova Ringerike Rehabilitering | B10: Avonova Ringerike Rehabilitering | C10: 3038 | D10: VIKEN | E10: Avonova Ringerike Rehabilitering | F10: Sykehusapoteket Oslo, Ullevål | G10: 538232 | H10: Kapteinveien 9 | I10: 3512 | J10: Hønefoss | K10: Liv Simarud | L10: Liv.Simarud@avonova.no | M10: 23265320 | N10: Christina Nafstad | O10: Christina.Nafstad@avonova.no | P10: 91123907 | R10: Dikka.g.wibe@avonova.no | T10: 23265320 | U10: Avonova Ringerike Rehabilitering | V10: 496 | W10: Østlandet
A11: Bamble kommune | B11: Bamble | C11: 3813 | D11: VESTFOLD OG TELEMARK | E11: Rådhuset - Vaksinasjonskontoret Bamble | F11: Sykehusapoteket Skien | G11: 538048 | H11: Kirkeveien 12 | I11: 3970 | J11: Langesund | K11: Grete Vardheim | L11: grete.vardheim@bamble.kommune.no | M11: 97058581/35965165 | N11: Birgitte Giæver Johnsen | O11: birgitte.giaever.johnsen@bamble.kommune.no | P11: 35965165 | Q11: Anders Mølmen | R11: anders.molmen@bamble.kommune.no | S11: 996 36 415 | T11: 97058581 | U11: Rådhuset. Vaksinasjonskontoret | V11: 243 | W11: Østlandet
A12: Betanien Hospital | B12: Betanien Hospital | C12: 3807 | D12: VESTFOLD OG TELEMARK | E12: Betanien Hospital Skien | F12: Sykehusapoteket Skien | G12: 538365 | H12: Bjørnstjerne Bjørnsons gate 6 | I12: 3722 | J12: Skien | K12: Terje Danielsen | L12: terje.danielsen@betanienhospital.no | M12: 90933026 | N12: Terje Danielsen | O12: terje.danielsen@betanienhospital.no | P12: 90933026 | R12: terje.danielsen@betanienhospital.no | T12: 90933026 | U12: Betanien Hospital | V12: 539 | W12: Østlandet
A13: Blå Kors Borgestadklinikken.no | B13: Blå Kors Borgestadklinikken.no | C13: 3807 | D13: VESTFOLD OG TELEMARK | E13: Blå Kors Borgestadklinikken Skien | F13: Sykehusapoteket Skien | G13: 538172 | H13: Kongensgate 33 | I13: 3717 | J13: Skien | K13: Yngvar Thorjussen | L13: Yngvar.Thorjussen@borgestadklinikken.no | M13: 93422556 | N13: Ragnhild Lien | O13: Ragnhild.Lien@Borgestadklinikken.no | P13: 99560335 | R13: rn.Vadal@borgestadklinikken.no | T13: 93422556 | U13: Blå Kors Borgestadklinikken | V13: 537 | W13: Østlandet
A14: Bærum kommune | B14: Bærum | C14: 3024 | D14: VIKEN | E14: Fornebu teststasjon/Vaksinesenter | F14: Sykehusapoteket Oslo, Ullevål | G14: 538338 | H14: Forneburingen 51 | I14: 1360 | J14: Fornebu | K14: Gunn Elisabeth Næss | L14: gunn.nass@baerum.kommune.no | M14: 40450910/67503203 | N14: Rita Danese | O14: rita.danese@baerum.kommune.no, | P14: 47787172 | Q14: Bjørg Dysthe | R14: bjorg.dysthe@baerum.kommune.no | S14: 91516885 | T14: 40450910 | U14: Folkehelsekontoret Sandvika | V14: 156 | W14: Østlandet
A15: Capio Anoreksisenter | B15: Capio Anoreksisenter | C15: 3004 | D15: VIKEN | E15: Capio Anoreksisenter | F15: Sykehusapoteket Ahus, Nordbyhagen | G15: 113856 | H15: Jens Wilhelmsensgt.1, inngang E | I15: 1671 | J15: Kråkerøy | K15: Monika Fagerli 41808088 | M15: 41808088 | T15: 41808088 | U15: Capio Anoreksisenter | V15: 464 | W15: Østlandet
A16: CatoSenteret Vestby Son | B16: CatoSenteret | C16: 3019 | D16: VIKEN | E16: CatoSenteret Vestby Son | F16: Sykehusapoteket Ahus, Nordbyhagen | G16: 538130 | H16: Kvartsveien 2 | I16: 1555 | J16: Son | K16: Siri Skumlien | L16: siri.skumlien@catosenteret.no | M16: 93895390 | N16: Siri Skumlien | O16: siri.skumlien@catosenteret.no | P16: 93895390 | T16: 93895390 | U16: CatoSenteret | V16: 475 | W16: Østlandet
A17: CRUX Bergfløtt behandlingssenter | B17: CRUX Bergfløtt behandlingssenter | C17: 3049 | D17: VIKEN | E17: CRUX Bergfløtt behandlingssenter | F17: Sykehusapoteket Oslo, Ullevål | G17: 538218 | H17: Bergflødtveien 69 | I17: 3404 | J17: LIER | K17: Mette Kristine Dyve | L17: epost: mk.dyve@stiftelsencrux.no | M17: 92684636 | N17: Mette Kristine Dyve | O17: mk.dyve@stiftelsencrux.no | P17: 92684636 | T17: 92684636 | U17: CRUX Bergfløtt behandlingssenter | V17: 501 | W17: Østlandet
A18: Diakonhjemmet sykehus AS | B18: Diakonhjemmet sykehus AS | C18: 301 | D18: OSLO | E18: Diakonhjemmet sykehusapotek | F18: Sykehusapoteket Oslo, Ullevål | G18: 538368 | H18: Diakonveien 12, innkjøring Reidar Kobrosvei 5 | I18: 370 | J18: Oslo | K18: Randi Hukari | L18: Randi.hukari@diakonsyk.no | M18: 22451580/41646105 | N18: Kari Gaarder Osnes | O18: k-osnes@diakonsyk.no | P18: 95733447 | R18: AndersMohn.Frafjord@diakonsyk.no | T18: 41646105 | U18: Diakonhjemmet sykehusapotek | V18: 430 | W18: Østlandet
A19: DIAKONISTIFTELSEN RØYSUM | B19: DIAKONISTIFTELSEN RØYSUM | C19: 3446 | D19: INNLANDET | E19: DIAKONISTIFTELSEN RØYSUM, avdeling for rehabilitering | F19: Sykehusapoteket Gjøvik | G19: 538189 | H19: Røysumslinna 41 | I19: 2770 | J19: Jaren | K19: Heidi Hallum Framstad | L19: hf@roysumtunet.no | M19: 48118330 | N19: Heidi Hallum Framstad | O19: hf@roysumtunet.no | P19: 48118330 | R19: en@roysumtunet.no | T19: 48118330 | U19: DIAKONISTIFTELSEN RØYSUM, avdeling for rehabilitering | V19: 525 | W19: Østlandet
A20: Dovre kommune | B20: Dovre | C20: 3431 | D20: INNLANDET | E20: Helsehuset Dovre | F20: Sykehusapoteket Gjøvik | G20: 538031 | H20: Lars Moens veg 3 | I20: 2660 | J20: Dombås | K20: Legekontoret (ingen fast kontaktperson) | L20: post.legekontor@dovre.kommune.no | M20: 62 24 22 00 | N20: Anne-Irene Hole | O20: post.legekontor@dovre.kommune.no | P20: 414 48 591 | Q20: Gurgen Nazaretian | R20: gurgen.nazaretian@dovre.kommune.no | S20: 957 31 396 | T20: 62242200 | U20: Helsehuset | V20: 211 | W20: Østlandet
A21: Drammen kommune | B21: Drammen | C21: 3005 | D21: VIKEN | E21: Smittevernkontoret Drammen | F21: Sykehusapoteket Oslo, Ullevål | G21: 538137 | H21: Schwartzgate 6 | I21: 3043 | J21: Drammen | K21: Anette Solvang | L21: anette.solvang@drammen.kommune.no | M21: 93283732 | N21: Anette Solvang | O21: anette.solvang@drammen.kommune.no | P21: 93283732 | Q21: Einar Sagberg | R21: einar.sagberg@drammen.kommune.no | S21: 928 10 975 | T21: 93283732 | U21: Smittevernkontoret | V21: 140 | W21: Østlandet
A22: Drangedal kommune | B22: Drangedal | C22: 3815 | D22: VESTFOLD OG TELEMARK | E22: Drangedal Legekontor | F22: Sykehusapoteket Skien | G22: 538574 | H22: Stemmenveien 6 | I22: 3815 | J22: Drangedal | K22: Maria Aasen Dukefoss | L22: maria.dukefoss@drangedal.kommune.no | M22: 90559492 | N22: Eva Strand | O22: eva.strand@drangedal.kommune.no | P22: 35997124 / 40919153 | Q22: Ivar A. Skogvold | R22: ivar.skogvold@kragero.kommune.no | T22: 90559492 | U22: Drangedal Helsestasjon | V22: 245 | W22: Østlandet
A23: Eidskog kommune | B23: Eidskog | C23: 3416 | D23: INNLANDET | E23: Eidskog legesenter | F23: Sykehusapoteket Ahus, Nordbyhagen | G23: 538025 | H23: Boligvegen 43 | I23: 2230 | J23: Skotterud | K23: Åste Østgård | L23: aste.ostgard@eidskog.kommune.no | M23: 48868902 | N23: Åste Østgård | O23: aste.ostgard@eidskog.kommune.no | P23: 40448671 | Q23: Jan Øyvind Lorgen | R23: jan.oyvind.lorgen@eidskog.kommune.no | S23: 98481011 | T23: 48868902 | U23: Eidskog Helsetun | V23: 196 | W23: Østlandet
A24: Eidsvoll kommune | B24: Eidsvoll | C24: 3035 | D24: VIKEN | E24: Badet kulturtun Eidsvoll | F24: Sykehusapoteket Ahus, Nordbyhagen | G24: 538449 | H24: Eidsvollbakken 42 | I24: 2080 | J24: Eidsvoll | K24: Tina Limbodal | L24: tina.limbodal@eidsvoll.kommune.no | M24: 48121536 | N24: Tina Limbodal | O24: tina.limbodal@eidsvoll.kommune.no | P24: 48121536 | Q24: Carl Magnus Jensen | R24: carl.magnus.jensen@eidsvoll.kommune.no | S24: 41191855 | T24: 48121536 | U24: Eidsvoll helsestasjon | V24: 167 | W24: Østlandet
A25: Elverum kommune | B25: Elverum | C25: 3420 | D25: INNLANDET | E25: Helsestasjonen - Elverum | F25: Sykehusapoteket Gjøvik | G25: 538034 | H25: Skogvegen 3 | I25: 2413 | J25: Elverum | K25: Helene Skybakk | L25: Helene.Skybak@elverum.kommune.no | M25: 96942894/62436060 | N25: Helene Skybak | O25: Helene.Skybak@elverum.kommune.no | P25: 969 42 894 | Q25: Jon Iver Fougner | R25: jon.iver.fougner@elverum.kommune.no | S25: 902 19 873 | U25: Helsehuset i Elverum | V25: 200 | W25: Østlandet
A26: Elverum/HSØ | B26: Elverum/HSØ | C26: 3420 | D26: INNLANDET | E26: Hernes institutt | F26: Sykehusapoteket Gjøvik | G26: 538235 | H26: Instituttvegen 34 | I26: 2410 | J26: Hernes | K26: Åshild Fatland | L26: af@hernesinstitutt.no | M26: 62422400/92618062 | N26: Åshild Fatland | O26: af@hernesinstitutt.no | P26: 62422400/92618062 | R26: olejo@hernesinstitutt.no | T26: 92618062 | U26: Hernes institutt | V26: 517 | W26: Østlandet
A27: Enebakk kommune | B27: Enebakk | C27: 3028 | D27: VIKEN | E27: Smittevern og vaksinering, Enebakk | F27: Sykehusapoteket Ahus, Nordbyhagen | G27: 538437 | H27: Ignaveien 18 | I27: 1912 | J27: Enebakk | K27: Vibeke Bjørkås | L27: vibeke.bjorkas@enebakk.kommune.no | M27: 477 86 429 | N27: Trude Hellmann Holte | O27: trude.hellmann.holte@enebakk.kommune.no | P27: 90192769 | Q27: Lars-Erik Fikke | R27: lfikke@me.com | S27: 92668324 | T27: 477 86 429 | U27: Enebakk Helsestasjon | V27: 160 | W27: Østlandet
A28: Engerdal kommune | B28: Engerdal | C28: 3425 | D28: INNLANDET | E28: Engerdal helsesenter | F28: Sykehusapoteket Gjøvik | G28: 538589 | H28: Futveien 8 | I28: 2443 | J28: Drevsjø | K28: Andi Cornelia Berndtsson | L28: andi.cornelia.berndtsson@engerdal.kommune.no | M28: 40024965 | N28: Stine Spånberg Husfloen | O28: Stine.Husfloen.Spanberg@engerdal.kommune.no | Q28: Ilona Pliadiene | R28: ilkapli@gmail.com | S28: 48893990 | T28: 40024965 | U28: Engerdal helsesenter | V28: 205 | W28: Østlandet
A29: Etnedal Kommune | B29: Etnedal | C29: 3450 | D29: INNLANDET | E29: Etnedal Helsehus, legekontor | F29: Sykehusapoteket Gjøvik | G29: 583044 | H29: Kyrkjevegen 12 | I29: 2890 | J29: Etnedal | K29: Tor Inge Kristianslund | L29: tor.inge.kristianslund@etnedal.kommune.no | M29: 61121330 / 48070520 | N29: Aud Bakken | O29: a.bakken@etnedal.kommune.no | P29: 99518353 | Q29: Tor Inge Kristianslund | R29: tor.inge.kristianslund@etnedal.kommune.no | S29: 61121330 / 48070520 | T29: 48070520 | U29: Etnedal Helsehus, legekontor | V29: 228 | W29: Østlandet
A30: Flesberg kommune | B30: Flesberg | C30: 3050 | D30: VIKEN | E30: Flesbergtunet bo- og service senter | F30: Sykehusapoteket Oslo, Ullevål | G30: 538167 | H30: Lyngdalsvegen 30 | I30: 3623 | J30: Lampeland | K30: Nina Stølen | L30: nina.evensen.stolen@flesberg.kommune.no | M30: 46811959 | N30: Frøydis Lislevatn | O30: , froydis.lislevatn@flesberg.kommune.no | P30: 47508978 | Q30: Einar Braathen | R30: Einar.Braaten@kongsberg.kommune.no | S30: 40203004 | T30: 46811959 | U30: Flesbergtunet bo- og service senter | V30: 182 | W30: Østlandet
A31: Flå kommune | B31: Flå | C31: 3039 | D31: VIKEN | E31: Flå helsestasjon | F31: Sykehusapoteket Oslo, Ullevål | G31: 538434 | H31: Sentrumsvegen 24 | I31: 3539 | J31: Flå | K31: Siv Merethe Glesne | L31: siv.merethe.glesne@flaa.kommune.no | M31: 32053622 / 95148061 | N31: Siv Merethe Glesne | O31: siv.merethe.glesne@flaa.kommune.no | P31: 32053622 / 95148061 | Q31: Roger Hyldmo | R31: roger.hyldmo@flaa.kommune.no | S31: 48132475 / 32053627 | T31: 95148061 | U31: Flå helsestasjon | V31: 171 | W31: Østlandet
A32: Folldal kommune | B32: Folldal | C32: 3429 | D32: INNLANDET | E32: Folldal Legekontor | F32: Sykehusapoteket Gjøvik | G32: 538510 | H32: Wilhelms veg 15 | I32: 2580 | J32: Folldal | K32: Ann-Kristin U. Furuhovde | L32: ann-kristin.furuhovde@folldal.kommune.no | M32: 479 75 422 | N32: Ann-Kristin U. Furuhovde | O32: ann-kristin.furuhovde@folldal.kommune.no | P32: 479 75 422 | Q32: Barbara Inauen | R32: Barbara.inauen@folldal.kommune.no | S32: 48 95 27 14 | T32: 47975422 | U32: Folldal Legekontor | V32: 209 | W32: Østlandet
A33: Fredrikstad kommune | B33: Fredrikstad | C33: 3004 | D33: VIKEN | E33: Kråkerøy Helsestasjon | F33: Sykehusapoteket Ahus, Nordbyhagen | G33: 538021 | H33: Kråkerøyveien 21 | I33: 1671 | J33: Kråkerøy | K33: Inger Johanne Bråten | L33: ingebr@fredrikstad.kommune.no | M33: 99468752 | N33: Nina Holmen Pedersen | O33: nihp@fredrikstad.kommune.no | P33: 69 95 94 50 | Q33: Guro Steine Letting | R33: gurs@fredrikstad.kommune.no | S33: 996 02 781 | T33: 99468752 | U33: Fredrikstad korttidssenter | V33: 139 | W33: Østlandet
A34: Fredrikstad/ Helse Sør Øst | B34: Fredrikstad/ Helse Sør Øst | C34: 3004 | D34: VIKEN | E34: Capio Anoreksi Senter | F34: Sykehusapoteket Ahus, Nordbyhagen | G34: 538222 | H34: Jens Wilhemsens gate 1 E | I34: 1676 | J34: Kråkerøy | K34: Eva Ogre | L34: eva.ogre@capio.no | M34: 69367100 | N34: Eva Ogre | O34: eva.ogre@capio.no | P34: 69361900 | T34: 69367100 | U34: Capio Anoreksi Senter | V34: 462 | W34: Østlandet
A35: Friskstiftelsen | B35: Friskstiftelsen | C35: 301 | D35: OSLO | E35: Friskstiftelsen Elverum | F35: Sykehusapoteket Oslo, Ullevål | G35: 538230 | H35: Hamarvegen 112 | I35: 2406 | J35: Elverum | K35: Eirin Valerie Kårevik | L35: eirin.valerie.karevik@friskstiftelsen.no | M35: 99415821 | N35: Eirin Valerie Kårevik | O35: eirin.valerie.karevik@friskstiftelsen.no | P35: 99415821 | R35: runar.hedenstad@friskstiftelsen.no | T35: 99415821 | U35: Friskstiftelsen | V35: 420 | W35: Østlandet
A36: Frogn kommune | B36: Frogn | C36: 3022 | D36: VIKEN | E36: Ullerud Helsebygg | F36: Sykehusapoteket Ahus, Nordbyhagen | G36: 538257 | H36: Ullerudveien 28 | I36: 1443 | J36: Drøbak | K36: Mikael H. Karijord | L36: mikael.karijord@frogn.kommune.no | M36: 40027367 | N36: Maria Martinsen/Christine Haugen | O36: maria.martinsen@frogn.kommune.no/Christine.Haugan@frogn.kommune.no | P36: 48103605/94007538 | Q36: Merete Nordaas Hvistendahl | R36: merete.hvistendahl@frogn.kommune.no | S36: 95288013 | T36: 40027367 | U36: Ullerud Helsebygg | V36: 154 | W36: Østlandet
A37: Furukollen Psykiatriske Senter | B37: Furukollen Psykiatriske Senter | C37: 3034 | D37: VIKEN | E37: Furukollen Psykiatriske Senter | F37: Sykehusapoteket Ahus, Nordbyhagen | G37: 538219 | H37: Svarverudvegen 200A | I37: 2150 | J37: Årnes | K37: Irene Tveter | L37: irene.tveter@sfps.no | M37: 950 50 523 | N37: Irene Tveter | O37: irene.tveter@sfps.no | P37: 950 50 523 | R37: roger@sfps.no | T37: 95050523 | U37: Furukollen Psykiatriske Senter | V37: 493 | W37: Østlandet
A38: Fyresdal kommune | B38: Fyresdal | C38: 3823 | D38: VESTFOLD OG TELEMARK | E38: Fyresdal legekontor | F38: Sykehusapoteket Skien | G38: 538400 | H38: Landstadvegen 35 | I38: 3870 | J38: Fyresdal | K38: Nina Breivik | L38: nina.breivik@fyresdal.kommune.no | M38: 35067300/90897855 | N38: Ragnhild Bjorheim | O38: ragnhild.bjorheim@fyresdal.kommune.no | P38: 35067300/97146527 | Q38: Karin Kristin Østerhus | R38: karin.osterhus@fyresdal.kommune.no | S38: 35067300 / 99691499 | T38: 97146527 | U38: Fyresdal legekontor | V38: 253 | W38: Østlandet
A39: Fürst Medisinsk Laboratorium | B39: Fürst Medisinsk Laboratorium | C39: 301 | D39: OSLO | E39: Fürst Medisinsk Laboratorium Oslo | F39: Sykehusapoteket Oslo, Ullevål | G39: 538071 | H39: Søren Bullsvei 25 | I39: 1051 | J39: Oslo | K39: Vibeke C. Reiling | L39: vcreiling@furst.no | M39: 920 29 888 | N39: Vibeke C. Reiling | O39: vcreiling@furst.no | P39: 920 29 888 | T39: 92029888 | U39: Fürst Medisinsk Laboratorium | V39: 405 | W39: Østlandet
A40: Færder kommune | B40: Færder | C40: 3811 | D40: VESTFOLD OG TELEMARK | E40: Smidsrød helsehus Færder | F40: Sykehusapoteket Skien | G40: 538003 | H40: Øreveien 7 | I40: 3140 | J40: Nøtterøy | K40: Maria T.Rindsem | L40: maria.tandberg.rindsem@faerder.kommune.no | M40: 905 25 428 | N40: Maria T.Rindsem | O40: maria.tandberg.rindsem@faerder.kommune.no | P40: 905 25 428 | Q40: Elin Nordstrand Jakobsen | R40: elin.jakobsen@faerder.kommune.no | S40: 91620590 | T40: 90525428 | U40: Smidsrød helsehus | V40: 241 | W40: Østlandet
...

Sheet Leveringsinfo
A1: Ordrenr. | B1: Informasjon om levering
A2: 390026663 | B2: Kontakt meg 10 minutter før levering, jeg har kontor et annet sted. Må rekke å komme.
A3: 390026500 | B3: Leveres til helsestasjonssjef Kjerstin Hagland -tlf 47261463
A4: 390027135 | B4: skal leveres vaktrom Observasjonsposten 5 etg
A5: 390027182 | B5: Ring 99548425 grunnet begrenset åpningstid
A6: 390026856 | B6: Ring oss hvis ytterdøren er låst ved levering, tlf 99708557
A7: 390026811 | B7: Leveres på lab i Fredrikstad mellom kl 08-15.
A8: 390026871 | B8: Leveres i 1.etasje, bydelskontoret
A9: 390027176 | B9: Andre Strømstad må bli ringt før levering. 92679768.
A10: 390026727 | B10: Ring serviceteam tlf 40027367
A11: 390026905 | B11: Ring 57839735 ved levering. Dersom ikke svar leveres vaksinene på kjølen på mikrobiologen.
A12: 390026375 | B12: Senere levering går til sykehjemmet. Samme bygg, men annen inngang.
A13: 390026477 | B13: Leveres i resepsjonen. Mottaker Andreas Voraa
... A34: 390026768 | B34: Leveres på Legekontoret

Sheet Marius cleanup
A1: K.nr - FHI | B1: Artikkelnr | C1: Ordrenr (muitple FHI) | D1: Nr 1 | E1: Nr 3 | F1: Vaxigrip | G1: Influvac | H1: Fluad | I1: Fluarix | J1: Antall kolli | K1: Ant. kolli CONTROL | L1: DIFF | M1: Volum | N1: Bruttovekt | O1: Sporingsnr. | P1: Sporingsnr control | Q1: Checksum | R1: Ant. Pakninger hetteglass | S1: Navn på leveringssted | T1: Adresselinje 1 | U1: Adresselinje 2 | V1: Postnr. | W1: Poststed | X1: Navn | Y1: Telefon1 | Z1: Navn opphentingssted | AA1: Adresselinje 1 | AB1: Adresselinje 2 | AC1: Postnr | AD1: Postested | AE1: Kontakperson | AF1: Telefonnr | AG1: Volum | AH1: Bruttovekt | AI1: Rute | AJ1: Container | AK1: Rekkefølge | AL1: Navn Sjåfør | AM1: Dato henting | AN1: Tidspunkt for henting | AO1: Dato levering | AP1: KM fra start | AQ1: Klokken | AR1: Ferge/Bom Fee | AS1: AWB | AT1: KN: Produkt | AU1: KN: XML
A2: =#REF! -> #REF! | B2: =#REF! -> #REF! | C2: =#REF! -> #REF! | D2: =#REF! -> #REF! | E2: =#REF! -> #REF! | F2: =#REF! -> #REF! | G2: =#REF! -> #REF! | H2: =#REF! -> #REF! | ... J2: =#REF! -> #REF! | K2: =D2+E2+F2+G2+H2+I2 -> #REF! | L2: =J2-K2 -> #REF! | M2: =D2*#REF!+'Marius cleanup'!E2*#REF!+'Marius cleanup'!F2*#REF!+'Marius cleanup'!G2*#REF!+'Marius cleanup'!H2*#REF!+'Marius cleanup'!I2*#REF! -> #REF! | N2: =D2*#REF!+'Marius cleanup'!E2*#REF!+'Marius cleanup'!F2*#REF!+'Marius cleanup'!G2*#REF!+'Marius cleanup'!H2*#REF!+'Marius cleanup'!I2*#REF! -> #REF! | O2: =#REF! -> #REF! | P2: =O2-Q2 -> 0 | Q2: =O2-P2 -> 390029280 | R2: =#REF! -> #REF! | S2: =#REF! -> #REF! | T2: =#REF! -> #REF! | U2: =#REF! -> #REF! | V2: =#REF! -> #REF! | W2: =#REF! -> #REF! | X2: =#REF! -> #REF! | Y2: =#REF! -> #REF! | Z2: =SHA!A$15 -> Folkehelseinstituttet, Vaksineforsyning | AA2: =SHA!B$15 -> Myrens verksted 6J | AC2: =SHA!C$15 -> 473 | AD2: =SHA!D$15 -> Oslo | AE2: =SHA!E$15 -> Kari Opheim | AF2: =SHA!F$15 -> 95752748 | AG2: =M2 -> #REF! | AH2: =N2 -> #REF!
A3: =#REF! -> #REF! | B3: =#REF! -> #REF! | C3: =#REF! -> #REF! | D3: =#REF! -> #REF! | E3: =#REF! -> #REF! | F3: =#REF! -> #REF! | G3: =#REF! -> #REF! | H3: =#REF! -> #REF! | ... J3: =#REF! -> #REF! | K3: =D3+E3+F3+G3+H3+I3 -> #REF! | L3: =J3-K3 -> #REF! | M3: =D3*#REF!+'Marius cleanup'!E3*#REF!+'Marius cleanup'!F3*#REF!+'Marius cleanup'!G3*#REF!+'Marius cleanup'!H3*#REF!+'Marius cleanup'!I3*#REF! -> #REF! | N3: =D3*#REF!+'Marius cleanup'!E3*#REF!+'Marius cleanup'!F3*#REF!+'Marius cleanup'!G3*#REF!+'Marius cleanup'!H3*#REF!+'Marius cleanup'!I3*#REF! -> #REF! | O3: =#REF! -> #REF! | P3: =O3-Q3 -> 0 | Q3: =O3-P3 -> 390029280 | R3: =#REF! -> #REF! | S3: =#REF! -> #REF! | T3: =#REF! -> #REF! | U3: =#REF! -> #REF! | V3: =#REF! -> #REF! | W3: =#REF! -> #REF! | X3: =#REF! -> #REF! | Y3: =#REF! -> #REF! | Z3: =SHA!A$15 -> Folkehelseinstituttet, Vaksineforsyning | AA3: =SHA!B$15 -> Myrens verksted 6J | AC3: =SHA!C$15 -> 473 | AD3: =SHA!D$15 -> Oslo | AE3: =SHA!E$15 -> Kari Opheim | AF3: =SHA!F$15 -> 95752748 | AG3: =M3 -> #REF! | AH3: =N3 -> #REF! | AW3: Volum
A4: =#REF! -> #REF! | B4: =#REF! -> #REF! | C4: =#REF! -> #REF! | D4: =#REF! -> #REF! | E4: =#REF! -> #REF! | F4: =#REF! -> #REF! | G4: =#REF! -> #REF! | H4: =#REF! -> #REF! | ... J4: =#REF! -> #REF! | K4: =D4+E4+F4+G4+H4+I4 -> #REF! | L4: =J4-K4 -> #REF! | M4: =D4*#REF!+'Marius cleanup'!E4*#REF!+'Marius cleanup'!F4*#REF!+'Marius cleanup'!G4*#REF!+'Marius cleanup'!H4*#REF!+'Marius cleanup'!I4*#REF! -> #REF! | N4: =D4*#REF!+'Marius cleanup'!E4*#REF!+'Marius cleanup'!F4*#REF!+'Marius cleanup'!G4*#REF!+'Marius cleanup'!H4*#REF!+'Marius cleanup'!I4*#REF! -> #REF! | O4: =#REF! -> #REF! | P4: =O4-Q4 -> 0 | Q4: =O4-P4 -> 390029280 | R4: =#REF! -> #REF! | S4: =#REF! -> #REF! | T4: =#REF! -> #REF! | U4: =#REF! -> #REF! | V4: =#REF! -> #REF! | W4: =#REF! -> #REF! | X4: =#REF! -> #REF! | Y4: =#REF! -> #REF! | Z4: =SHA!A$15 -> Folkehelseinstituttet, Vaksineforsyning | AA4: =SHA!B$15 -> Myrens verksted 6J | AC4: =SHA!C$15 -> 473 | AD4: =SHA!D$15 -> Oslo | AE4: =SHA!E$15 -> Kari Opheim | AF4: =SHA!F$15 -> 95752748 | AG4: =M4 -> #REF! | AH4: =N4 -> #REF! | AW4: 5 | AX4: =SUMIFS($AG:$AG,$AI:$AI,$AW4,$AJ:$AJ,RIGHT(AX$4,(LEN(AX$4)-5))) -> 0 | AY4: =SUMIFS($AG:$AG,$AI:$AI,$AW4,$AJ:$AJ,RIGHT(AY$4,(LEN(AY$4)-5))) -> 0 | AZ4: =SUMIFS($AG:$AG,$AI:$AI,$AW4,$AJ:$AJ,RIGHT(AZ$4,(LEN(AZ$4)-5))) -> 0 | BA4: =SUMIFS($AG:$AG,$AI:$AI,$AW4,$AJ:$AJ,RIGHT(BA$4,(LEN(BA$4)-5))) -> 0 | BB4: =SUMIFS($AG:$AG,$AI:$AI,$AW4,$AJ:$AJ,RIGHT(BB$4,(LEN(BB$4)-5))) -> 0 | BC4: =SUMIFS($AG:$AG,$AI:$AI,$AW4,$AJ:$AJ,RIGHT(BC$4,(LEN(BC$4)-5))) -> 0 | BH4: =VLOOKUP(BF4,Sjåførliste!A:B,2,FALSE) -> #N/A
A5: =#REF! -> #REF! | B5: =#REF! -> #REF! | C5: =#REF! -> #REF! | D5: =#REF! -> #REF! | E5: =#REF! -> #REF! | F5: =#REF! -> #REF! | G5: =#REF! -> #REF! | H5: =#REF! -> #REF! | ... J5: =#REF! -> #REF! | K5: =D5+E5+F5+G5+H5+I5 -> #REF! | L5: =J5-K5 -> #REF! | M5: =D5*#REF!+'Marius cleanup'!E5*#REF!+'Marius cleanup'!F5*#REF!+'Marius cleanup'!G5*#REF!+'Marius cleanup'!H5*#REF!+'Marius cleanup'!I5*#REF! -> #REF! | N5: =D5*#REF!+'Marius cleanup'!E5*#REF!+'Marius cleanup'!F5*#REF!+'Marius cleanup'!G5*#REF!+'Marius cleanup'!H5*#REF!+'Marius cleanup'!I5*#REF! -> #REF! | O5: =#REF! -> #REF! | P5: =O5-Q5 -> 0 | Q5: =O5-P5 -> 390029280 | R5: =#REF! -> #REF! | S5: =#REF! -> #REF! | T5: =#REF! -> #REF! | U5: =#REF! -> #REF! | V5: =#REF! -> #REF! | W5: =#REF! -> #REF! | X5: =#REF! -> #REF! | Y5: =#REF! -> #REF! | Z5: =SHA!A$15 -> Folkehelseinstituttet, Vaksineforsyning | AA5: =SHA!B$15 -> Myrens verksted 6J | AC5: =SHA!C$15 -> 473 | AD5: =SHA!D$15 -> Oslo | AE5: =SHA!E$15 -> Kari Opheim | AF5: =SHA!F$15 -> 95752748 | AG5: =M5 -> #REF! | AH5: =N5 -> #REF!
A6: =#REF! -> #REF! | B6: =#REF! -> #REF! | C6: =#REF! -> #REF! | D6: =#REF! -> #REF! | E6: =#REF! -> #REF! | F6: =#REF! -> #REF! | G6: =#REF! -> #REF! | H6: =#REF! -> #REF! | ... J6: =#REF! -> #REF! | K6: =D6+E6+F6+G6+H6+I6 -> #REF! | L6: =J6-K6 -> #REF! | M6: =D6*#REF!+'Marius cleanup'!E6*#REF!+'Marius cleanup'!F6*#REF!+'Marius cleanup'!G6*#REF!+'Marius cleanup'!H6*#REF!+'Marius cleanup'!I6*#REF! -> #REF! | N6: =D6*#REF!+'Marius cleanup'!E6*#REF!+'Marius cleanup'!F6*#REF!+'Marius cleanup'!G6*#REF!+'Marius cleanup'!H6*#REF!+'Marius cleanup'!I6*#REF! -> #REF! | O6: =#REF! -> #REF! | P6: =O6-Q6 -> 0 | Q6: =O6-P6 -> 390029280 | R6: =#REF! -> #REF! | S6: =#REF! -> #REF! | T6: =#REF! -> #REF! | U6: =#REF! -> #REF! | V6: =#REF! -> #REF! | W6: =#REF! -> #REF! | X6: =#REF! -> #REF! | Y6: =#REF! -> #REF! | Z6: =SHA!A$15 -> Folkehelseinstituttet, Vaksineforsyning | AA6: =SHA!B$15 -> Myrens verksted 6J | AC6: =SHA!C$15 -> 473 | AD6: =SHA!D$15 -> Oslo | AE6: =SHA!E$15 -> Kari Opheim | AF6: =SHA!F$15 -> 95752748 | AG6: =M6 -> #REF! | AH6: =N6 -> #REF!
A7: =#REF! -> #REF! | B7: =#REF! -> #REF! | C7: =#REF! -> #REF! | D7: =#REF! -> #REF! | E7: =#REF! -> #REF! | F7: =#REF! -> #REF! | G7: =#REF! -> #REF! | H7: =#REF! -> #REF! | ... J7: =#REF! -> #REF! | K7: =D7+E7+F7+G7+H7+I7 -> #REF! | L7: =J7-K7 -> #REF! | M7: =D7*#REF!+'Marius cleanup'!E7*#REF!+'Marius cleanup'!F7*#REF!+'Marius cleanup'!G7*#REF!+'Marius cleanup'!H7*#REF!+'Marius cleanup'!I7*#REF! -> #REF! | N7: =D7*#REF!+'Marius cleanup'!E7*#REF!+'Marius cleanup'!F7*#REF!+'Marius cleanup'!G7*#REF!+'Marius cleanup'!H7*#REF!+'Marius cleanup'!I7*#REF! -> #REF! | O7: =#REF! -> #REF! | P7: =O7-Q7 -> 0 | Q7: =O7-P7 -> 390029280 | R7: =#REF! -> #REF! | S7: =#REF! -> #REF! | T7: =#REF! -> #REF! | U7: =#REF! -> #REF! | V7: =#REF! -> #REF! | W7: =#REF! -> #REF! | X7: =#REF! -> #REF! | Y7: =#REF! -> #REF! | Z7: =SHA!A$15 -> Folkehelseinstituttet, Vaksineforsyning | AA7: =SHA!B$15 -> Myrens verksted 6J | AC7: =SHA!C$15 -> 473 | AD7: =SHA!D$15 -> Oslo | AE7: =SHA!E$15 -> Kari Opheim | AF7: =SHA!F$15 -> 95752748 | AG7: =M7 -> #REF! | AH7: =N7 -> #REF!
A8: =#REF! -> #REF! | B8: =#REF! -> #REF! | C8: =#REF! -> #REF! | D8: =#REF! -> #REF! | E8: =#REF! -> #REF! | F8: =#REF! -> #REF! | G8: =#REF! -> #REF! | H8: =#REF! -> #REF! | ... J8: =#REF! -> #REF! | K8: =D8+E8+F8+G8+H8+I8 -> #REF! | L8: =J8-K8 -> #REF! | M8: =D8*#REF!+'Marius cleanup'!E8*#REF!+'Marius cleanup'!F8*#REF!+'Marius cleanup'!G8*#REF!+'Marius cleanup'!H8*#REF!+'Marius cleanup'!I8*#REF! -> #REF! | N8: =D8*#REF!+'Marius cleanup'!E8*#REF!+'Marius cleanup'!F8*#REF!+'Marius cleanup'!G8*#REF!+'Marius cleanup'!H8*#REF!+'Marius cleanup'!I8*#REF! -> #REF! | O8: =#REF! -> #REF! | P8: =O8-Q8 -> 0 | Q8: =O8-P8 -> 390029280 | R8: =#REF! -> #REF! | S8: =#REF! -> #REF! | T8: =#REF! -> #REF! | U8: =#REF! -> #REF! | V8: =#REF! -> #REF! | W8: =#REF! -> #REF! | X8: =#REF! -> #REF! | Y8: =#REF! -> #REF! | Z8: =SHA!A$15 -> Folkehelseinstituttet, Vaksineforsyning | AA8: =SHA!B$15 -> Myrens verksted 6J | AC8: =SHA!C$15 -> 473 | AD8: =SHA!D$15 -> Oslo | AE8: =SHA!E$15 -> Kari Opheim | AF8: =SHA!F$15 -> 95752748 | AG8: =M8 -> #REF! | AH8: =N8 -> #REF!
A9: =#REF! -> #REF! | B9: =#REF! -> #REF! | C9: =#REF! -> #REF! | D9: =#REF! -> #REF! | E9: =#REF! -> #REF! | F9: =#REF! -> #REF! | G9: =#REF! -> #REF! | H9: =#REF! -> #REF! | ... J9: =#REF! -> #REF! | K9: =D9+E9+F9+G9+H9+I9 -> #REF! | L9: =J9-K9 -> #REF! | M9: =D9*#REF!+'Marius cleanup'!E9*#REF!+'Marius cleanup'!F9*#REF!+'Marius cleanup'!G9*#REF!+'Marius cleanup'!H9*#REF!+'Marius cleanup'!I9*#REF! -> #REF! | N9: =D9*#REF!+'Marius cleanup'!E9*#REF!+'Marius cleanup'!F9*#REF!+'Marius cleanup'!G9*#REF!+'Marius cleanup'!H9*#REF!+'Marius cleanup'!I9*#REF! -> #REF! | O9: =#REF! -> #REF! | P9: =O9-Q9 -> 0 | Q9: =O9-P9 -> 390029280 | R9: =#REF! -> #REF! | S9: =#REF! -> #REF! | T9: =#REF! -> #REF! | U9: =#REF! -> #REF! | V9: =#REF! -> #REF! | W9: =#REF! -> #REF! | X9: =#REF! -> #REF! | Y9: =#REF! -> #REF! | Z9: =SHA!A$15 -> Folkehelseinstituttet, Vaksineforsyning | AA9: =SHA!B$15 -> Myrens verksted 6J | AC9: =SHA!C$15 -> 473 | AD9: =SHA!D$15 -> Oslo | AE9: =SHA!E$15 -> Kari Opheim | AF9: =SHA!F$15 -> 95752748 | AG9: =M9 -> #REF! | AH9: =N9 -> #REF!
A10: =#REF! -> #REF! | B10: =#REF! -> #REF! | C10: =#REF! -> #REF! | D10: =#REF! -> #REF! | E10: =#REF! -> #REF! | F10: =#REF! -> #REF! | G10: =#REF! -> #REF! | H10: =#REF! -> #REF! | ... J10: =#REF! -> #REF! | K10: =D10+E10+F10+G10+H10+I10 -> #REF! | L10: =J10-K10 -> #REF! | M10: =D10*#REF!+'Marius cleanup'!E10*#REF!+'Marius cleanup'!F10*#REF!+'Marius cleanup'!G10*#REF!+'Marius cleanup'!H10*#REF!+'Marius cleanup'!I10*#REF! -> #REF! | N10: =D10*#REF!+'Marius cleanup'!E10*#REF!+'Marius cleanup'!F10*#REF!+'Marius cleanup'!G10*#REF!+'Marius cleanup'!H10*#REF!+'Marius cleanup'!I10*#REF! -> #REF! | O10: =#REF! -> #REF! | P10: =O10-Q10 -> 0 | Q10: =O10-P10 -> 390029280 | R10: =#REF! -> #REF! | S10: =#REF! -> #REF! | T10: =#REF! -> #REF! | U10: =#REF! -> #REF! | V10: =#REF! -> #REF! | W10: =#REF! -> #REF! | X10: =#REF! -> #REF! | Y10: =#REF! -> #REF! | Z10: =SHA!A$15 -> Folkehelseinstituttet, Vaksineforsyning | AA10: =SHA!B$15 -> Myrens verksted 6J | AC10: =SHA!C$15 -> 473 | AD10: =SHA!D$15 -> Oslo | AE10: =SHA!E$15 -> Kari Opheim | AF10: =SHA!F$15 -> 95752748 | AG10: =M10 -> #REF! | AH10: =N10 -> #REF!
A11: =#REF! -> #REF! | B11: =#REF! -> #REF! | C11: =#REF! -> #REF! | D11: =#REF! -> #REF! | E11: =#REF! -> #REF! | F11: =#REF! -> #REF! | G11: =#REF! -> #REF! | H11: =#REF! -> #REF! | ... J11: =#REF! -> #REF! | K11: =D11+E11+F11+G11+H11+I11 -> #REF! | L11: =J11-K11 -> #REF! | M11: =D11*#REF!+'Marius cleanup'!E11*#REF!+'Marius cleanup'!F11*#REF!+'Marius cleanup'!G11*#REF!+'Marius cleanup'!H11*#REF!+'Marius cleanup'!I11*#REF! -> #REF! | N11: =D11*#REF!+'Marius cleanup'!E11*#REF!+'Marius cleanup'!F11*#REF!+'Marius cleanup'!G11*#REF!+'Marius cleanup'!H11*#REF!+'Marius cleanup'!I11*#REF! -> #REF! | O11: =#REF! -> #REF! | P11: =O11-Q11 -> 0 | Q11: =O11-P11 -> 390029280 | R11: =#REF! -> #REF! | S11: =#REF! -> #REF! | T11: =#REF! -> #REF! | U11: =#REF! -> #REF! | V11: =#REF! -> #REF! | W11: =#REF! -> #REF! | X11: =#REF! -> #REF! | Y11: =#REF! -> #REF! | Z11: =SHA!A$15 -> Folkehelseinstituttet, Vaksineforsyning | AA11: =SHA!B$15 -> Myrens verksted 6J | AC11: =SHA!C$15 -> 473 | AD11: =SHA!D$15 -> Oslo | AE11: =SHA!E$15 -> Kari Opheim | AF11: =SHA!F$15 -> 95752748 | AG11: =M11 -> #REF! | AH11: =N11 -> #REF!
A12: =#REF! -> #REF! | B12: =#REF! -> #REF! | C12: =#REF! -> #REF! | D12: =#REF! -> #REF! | E12: =#REF! -> #REF! | F12: =#REF! -> #REF! | G12: =#REF! -> #REF! | H12: =#REF! -> #REF! | ... J12: =#REF! -> #REF! | K12: =D12+E12+F12+G12+H12+I12 -> #REF! | L12: =J12-K12 -> #REF! | M12: =D12*#REF!+'Marius cleanup'!E12*#REF!+'Marius cleanup'!F12*#REF!+'Marius cleanup'!G12*#REF!+'Marius cleanup'!H12*#REF!+'Marius cleanup'!I12*#REF! -> #REF! | N12: =D12*#REF!+'Marius cleanup'!E12*#REF!+'Marius cleanup'!F12*#REF!+'Marius cleanup'!G12*#REF!+'Marius cleanup'!H12*#REF!+'Marius cleanup'!I12*#REF! -> #REF! | O12: =#REF! -> #REF! | P12: =O12-Q12 -> 0 | Q12: =O12-P12 -> 390029280 | R12: =#REF! -> #REF! | S12: =#REF! -> #REF! | T12: =#REF! -> #REF! | U12: =#REF! -> #REF! | V12: =#REF! -> #REF! | W12: =#REF! -> #REF! | X12: =#REF! -> #REF! | Y12: =#REF! -> #REF! | Z12: =SHA!A$15 -> Folkehelseinstituttet, Vaksineforsyning | AA12: =SHA!B$15 -> Myrens verksted 6J | AC12: =SHA!C$15 -> 473 | AD12: =SHA!D$15 -> Oslo | AE12: =SHA!E$15 -> Kari Opheim | AF12: =SHA!F$15 -> 95752748 | AG12: =M12 -> #REF! | AH12: =N12 -> #REF!
A13: =#REF! -> #REF! | B13: =#REF! -> #REF! | C13: =#REF! -> #REF! | D13: =#REF! -> #REF! | E13: =#REF! -> #REF! | F13: =#REF! -> #REF! | G13: =#REF! -> #REF! | H13: =#REF! -> #REF! | ... J13: =#REF! -> #REF! | K13: =D13+E13+F13+G13+H13+I13 -> #REF! | L13: =J13-K13 -> #REF! | M13: =D13*#REF!+'Marius cleanup'!E13*#REF!+'Marius cleanup'!F13*#REF!+'Marius cleanup'!G13*#REF!+'Marius cleanup'!H13*#REF!+'Marius cleanup'!I13*#REF! -> #REF! | N13: =D13*#REF!+'Marius cleanup'!E13*#REF!+'Marius cleanup'!F13*#REF!+'Marius cleanup'!G13*#REF!+'Marius cleanup'!H13*#REF!+'Marius cleanup'!I13*#REF! -> #REF! | O13: =#REF! -> #REF! | P13: =O13-Q13 -> 0 | Q13: =O13-P13 -> 390029280 | R13: =#REF! -> #REF! | S13: =#REF! -> #REF! | T13: =#REF! -> #REF! | U13: =#REF! -> #REF! | V13: =#REF! -> #REF! | W13: =#REF! -> #REF! | X13: =#REF! -> #REF! | Y13: =#REF! -> #REF! | Z13: =SHA!A$15 -> Folkehelseinstituttet, Vaksineforsyning | AA13: =SHA!B$15 -> Myrens verksted 6J | AC13: =SHA!C$15 -> 473 | AD13: =SHA!D$15 -> Oslo | AE13: =SHA!E$15 -> Kari Opheim | AF13: =SHA!F$15 -> 95752748 | AG13: =M13 -> #REF! | AH13: =N13 -> #REF!
A14: =#REF! -> #REF! | B14: =#REF! -> #REF! | C14: =#REF! -> #REF! | D14: =#REF! -> #REF! | E14: =#REF! -> #REF! | F14: =#REF! -> #REF! | G14: =#REF! -> #REF! | H14: =#REF! -> #REF! | ... J14: =#REF! -> #REF! | K14: =D14+E14+F14+G14+H14+I14 -> #REF! | L14: =J14-K14 -> #REF! | M14: =D14*#REF!+'Marius cleanup'!E14*#REF!+'Marius cleanup'!F14*#REF!+'Marius cleanup'!G14*#REF!+'Marius cleanup'!H14*#REF!+'Marius cleanup'!I14*#REF! -> #REF! | N14: =D14*#REF!+'Marius cleanup'!E14*#REF!+'Marius cleanup'!F14*#REF!+'Marius cleanup'!G14*#REF!+'Marius cleanup'!H14*#REF!+'Marius cleanup'!I14*#REF! -> #REF! | O14: =#REF! -> #REF! | P14: =O14-Q14 -> 0 | Q14: =O14-P14 -> 390029280 | R14: =#REF! -> #REF! | S14: =#REF! -> #REF! | T14: =#REF! -> #REF! | U14: =#REF! -> #REF! | V14: =#REF! -> #REF! | W14: =#REF! -> #REF! | X14: =#REF! -> #REF! | Y14: =#REF! -> #REF! | Z14: =SHA!A$15 -> Folkehelseinstituttet, Vaksineforsyning | AA14: =SHA!B$15 -> Myrens verksted 6J | AC14: =SHA!C$15 -> 473 | AD14: =SHA!D$15 -> Oslo | AE14: =SHA!E$15 -> Kari Opheim | AF14: =SHA!F$15 -> 95752748 | AG14: =M14 -> #REF! | AH14: =N14 -> #REF!
A15: =#REF! -> #REF! | B15: =#REF! -> #REF! | C15: =#REF! -> #REF! | D15: =#REF! -> #REF! | E15: =#REF! -> #REF! | F15: =#REF! -> #REF! | G15: =#REF! -> #REF! | H15: =#REF! -> #REF! | ... J15: =#REF! -> #REF! | K15: =D15+E15+F15+G15+H15+I15 -> #REF! | L15: =J15-K15 -> #REF! | M15: =D15*#REF!+'Marius cleanup'!E15*#REF!+'Marius cleanup'!F15*#REF!+'Marius cleanup'!G15*#REF!+'Marius cleanup'!H15*#REF!+'Marius cleanup'!I15*#REF! -> #REF! | N15: =D15*#REF!+'Marius cleanup'!E15*#REF!+'Marius cleanup'!F15*#REF!+'Marius cleanup'!G15*#REF!+'Marius cleanup'!H15*#REF!+'Marius cleanup'!I15*#REF! -> #REF! | O15: =#REF! -> #REF! | P15: =O15-Q15 -> 0 | Q15: =O15-P15 -> 390029280 | R15: =#REF! -> #REF! | S15: =#REF! -> #REF! | T15: =#REF! -> #REF! | U15: =#REF! -> #REF! | V15: =#REF! -> #REF! | W15: =#REF! -> #REF! | X15: =#REF! -> #REF! | Y15: =#REF! -> #REF! | Z15: =SHA!A$15 -> Folkehelseinstituttet, Vaksineforsyning | AA15: =SHA!B$15 -> Myrens verksted 6J | AC15: =SHA!C$15 -> 473 | AD15: =SHA!D$15 -> Oslo | AE15: =SHA!E$15 -> Kari Opheim | AF15: =SHA!F$15 -> 95752748 | AG15: =M15 -> #REF! | AH15: =N15 -> #REF!
A16: =#REF! -> #REF! | B16: =#REF! -> #REF! | C16: =#REF! -> #REF! | D16: =#REF! -> #REF! | E16: =#REF! -> #REF! | F16: =#REF! -> #REF! | G16: =#REF! -> #REF! | H16: =#REF! -> #REF! | ... J16: =#REF! -> #REF! | K16: =D16+E16+F16+G16+H16+I16 -> #REF! | L16: =J16-K16 -> #REF! | M16: =D16*#REF!+'Marius cleanup'!E16*#REF!+'Marius cleanup'!F16*#REF!+'Marius cleanup'!G16*#REF!+'Marius cleanup'!H16*#REF!+'Marius cleanup'!I16*#REF! -> #REF! | N16: =D16*#REF!+'Marius cleanup'!E16*#REF!+'Marius cleanup'!F16*#REF!+'Marius cleanup'!G16*#REF!+'Marius cleanup'!H16*#REF!+'Marius cleanup'!I16*#REF! -> #REF! | O16: =#REF! -> #REF! | P16: =O16-Q16 -> 0 | Q16: =O16-P16 -> 390029280 | R16: =#REF! -> #REF! | S16: =#REF! -> #REF! | T16: =#REF! -> #REF! | U16: =#REF! -> #REF! | V16: =#REF! -> #REF! | W16: =#REF! -> #REF! | X16: =#REF! -> #REF! | Y16: =#REF! -> #REF! | Z16: =SHA!A$15 -> Folkehelseinstituttet, Vaksineforsyning | AA16: =SHA!B$15 -> Myrens verksted 6J | AC16: =SHA!C$15 -> 473 | AD16: =SHA!D$15 -> Oslo | AE16: =SHA!E$15 -> Kari Opheim | AF16: =SHA!F$15 -> 95752748 | AG16: =M16 -> #REF! | AH16: =N16 -> #REF!
... A282: =#REF! -> #REF! | B282: =#REF! -> #REF! | C282: =#REF! -> #REF! | D282: =#REF! -> #REF! | E282: =#REF! -> #REF! | F282: =#REF! -> #REF! | G282: =#REF! -> #REF! | H282: =#REF! -> #REF! | ... J282: =#REF! -> #REF! | K282: =D282+E282+F282+G282+H282+I282 -> #REF! | L282: =J282-K282 -> #REF! | M282: =D282*#REF!+'Marius cleanup'!E282*#REF!+'Marius cleanup'!F282*#REF!+'Marius cleanup'!G282*#REF!+'Marius cleanup'!H282*#REF!+'Marius cleanup'!I282*#REF! -> #REF! | N282: =D282*#REF!+'Marius cleanup'!E282*#REF!+'Marius cleanup'!F282*#REF!+'Marius cleanup'!G282*#REF!+'Marius cleanup'!H282*#REF!+'Marius cleanup'!I282*#REF! -> #REF! | O282: =#REF! -> #REF! | P282: =O282-Q282 -> 0 | Q282: =O282-P282 -> 390029280 | R282: =#REF! -> #REF! | S282: =#REF! -> #REF! | T282: =#REF! -> #REF! | U282: =#REF! -> #REF! | V282: =#REF! -> #REF! | W282: =#REF! -> #REF! | X282: =#REF! -> #REF! | Y282: =#REF! -> #REF! | Z282: =SHA!A$15 -> Folkehelseinstituttet, Vaksineforsyning | AA282: =SHA!B$15 -> Myrens verksted 6J | AC282: =SHA!C$15 -> 473 | AD282: =SHA!D$15 -> Oslo | AE282: =SHA!E$15 -> Kari Opheim | AF282: =SHA!F$15 -> 95752748 | AG282: =M282 -> #REF! | AH282: =N282 -> #REF!
A283: =#REF! -> #REF! | B283: =#REF! -> #REF! | C283: =#REF! -> #REF! | D283: =#REF! -> #REF! | E283: =#REF! -> #REF! | F283: =#REF! -> #REF! | G283: =#REF! -> #REF! | H283: =#REF! -> #REF! | ... J283: =#REF! -> #REF! | K283: =D283+E283+F283+G283+H283+I283 -> #REF! | L283: =J283-K283 -> #REF! | M283: =D283*#REF!+'Marius cleanup'!E283*#REF!+'Marius cleanup'!F283*#REF!+'Marius cleanup'!G283*#REF!+'Marius cleanup'!H283*#REF!+'Marius cleanup'!I283*#REF! -> #REF! | N283: =D283*#REF!+'Marius cleanup'!E283*#REF!+'Marius cleanup'!F283*#REF!+'Marius cleanup'!G283*#REF!+'Marius cleanup'!H283*#REF!+'Marius cleanup'!I283*#REF! -> #REF! | O283: =#REF! -> #REF! | P283: =O283-Q283 -> 0 | Q283: =O283-P283 -> 390029280 | R283: =#REF! -> #REF! | S283: =#REF! -> #REF! | T283: =#REF! -> #REF! | U283: =#REF! -> #REF! | V283: =#REF! -> #REF! | W283: =#REF! -> #REF! | X283: =#REF! -> #REF! | Y283: =#REF! -> #REF! | Z283: =SHA!A$15 -> Folkehelseinstituttet, Vaksineforsyning | AA283: =SHA!B$15 -> Myrens verksted 6J | AC283: =SHA!C$15 -> 473 | AD283: =SHA!D$15 -> Oslo | AE283: =SHA!E$15 -> Kari Opheim | AF283: =SHA!F$15 -> 95752748 | AG283: =M283 -> #REF! | AH283: =N283 -> #REF! | AW283: 10 | AX283: =SUMIFS($AG:$AG,$AI:$AI,$AW283,$AJ:$AJ,RIGHT(AX$4,(LEN(AX$4)-5))) -> 0 | AY283: =SUMIFS($AG:$AG,$AI:$AI,$AW283,$AJ:$AJ,RIGHT(AY$4,(LEN(AY$4)-5))) -> 0 | AZ283: =SUMIFS($AG:$AG,$AI:$AI,$AW283,$AJ:$AJ,RIGHT(AZ$4,(LEN(AZ$4)-5))) -> 0 | BA283: =SUMIFS($AG:$AG,$AI:$AI,$AW283,$AJ:$AJ,RIGHT(BA$4,(LEN(BA$4)-5))) -> 0 | BB283: =SUMIFS($AG:$AG,$AI:$AI,$AW283,$AJ:$AJ,RIGHT(BB$4,(LEN(BB$4)-5))) -> 0 | BC283: =SUMIFS($AG:$AG,$AI:$AI,$AW283,$AJ:$AJ,RIGHT(BC$4,(LEN(BC$4)-5))) -> 0 | BH283: =VLOOKUP(BF283,Sjåførliste!A:B,2,FALSE) -> #N/A
A284: =#REF! -> #REF! | B284: =#REF! -> #REF! | C284: =#REF! -> #REF! | D284: =#REF! -> #REF! | E284: =#REF! -> #REF! | F284: =#REF! -> #REF! | G284: =#REF! -> #REF! | H284: =#REF! -> #REF! | ... J284: =#REF! -> #REF! | K284: =D284+E284+F284+G284+H284+I284 -> #REF! | L284: =J284-K284 -> #REF! | M284: =D284*#REF!+'Marius cleanup'!E284*#REF!+'Marius cleanup'!F284*#REF!+'Marius cleanup'!G284*#REF!+'Marius cleanup'!H284*#REF!+'Marius cleanup'!I284*#REF! -> #REF! | N284: =D284*#REF!+'Marius cleanup'!E284*#REF!+'Marius cleanup'!F284*#REF!+'Marius cleanup'!G284*#REF!+'Marius cleanup'!H284*#REF!+'Marius cleanup'!I284*#REF! -> #REF! | O284: =#REF! -> #REF! | P284: =O284-Q284 -> 0 | Q284: =O284-P284 -> 390029280 | R284: =#REF! -> #REF! | S284: =#REF! -> #REF! | T284: =#REF! -> #REF! | U284: =#REF! -> #REF! | V284: =#REF! -> #REF! | W284: =#REF! -> #REF! | X284: =#REF! -> #REF! | Y284: =#REF! -> #REF! | Z284: =SHA!A$15 -> Folkehelseinstituttet, Vaksineforsyning | AA284: =SHA!B$15 -> Myrens verksted 6J | AC284: =SHA!C$15 -> 473 | AD284: =SHA!D$15 -> Oslo | AE284: =SHA!E$15 -> Kari Opheim | AF284: =SHA!F$15 -> 95752748 | AG284: =M284 -> #REF! | AH284: =N284 -> #REF!
A285: =#REF! -> #REF! | B285: =#REF! -> #REF! | C285: =#REF! -> #REF! | D285: =#REF! -> #REF! | E285: =#REF! -> #REF! | F285: =#REF! -> #REF! | G285: =#REF! -> #REF! | H285: =#REF! -> #REF! | ... J285: =#REF! -> #REF! | K285: =D285+E285+F285+G285+H285+I285 -> #REF! | L285: =J285-K285 -> #REF! | M285: =D285*#REF!+'Marius cleanup'!E285*#REF!+'Marius cleanup'!F285*#REF!+'Marius cleanup'!G285*#REF!+'Marius cleanup'!H285*#REF!+'Marius cleanup'!I285*#REF! -> #REF! | N285: =D285*#REF!+'Marius cleanup'!E285*#REF!+'Marius cleanup'!F285*#REF!+'Marius cleanup'!G285*#REF!+'Marius cleanup'!H285*#REF!+'Marius cleanup'!I285*#REF! -> #REF! | O285: =#REF! -> #REF! | P285: =O285-Q285 -> 0 | Q285: =O285-P285 -> 390029280 | R285: =#REF! -> #REF! | S285: =#REF! -> #REF! | T285: =#REF! -> #REF! | U285: =#REF! -> #REF! | V285: =#REF! -> #REF! | W285: =#REF! -> #REF! | X285: =#REF! -> #REF! | Y285: =#REF! -> #REF! | Z285: =SHA!A$15 -> Folkehelseinstituttet, Vaksineforsyning | AA285: =SHA!B$15 -> Myrens verksted 6J | AC285: =SHA!C$15 -> 473 | AD285: =SHA!D$15 -> Oslo | AE285: =SHA!E$15 -> Kari Opheim | AF285: =SHA!F$15 -> 95752748 | AG285: =M285 -> #REF! | AH285: =N285 -> #REF!
A286: =#REF! -> #REF! | B286: =#REF! -> #REF! | C286: =#REF! -> #REF! | D286: =#REF! -> #REF! | E286: =#REF! -> #REF! | F286: =#REF! -> #REF! | G286: =#REF! -> #REF! | H286: =#REF! -> #REF! | ... J286: =#REF! -> #REF! | K286: =D286+E286+F286+G286+H286+I286 -> #REF! | L286: =J286-K286 -> #REF! | M286: =D286*#REF!+'Marius cleanup'!E286*#REF!+'Marius cleanup'!F286*#REF!+'Marius cleanup'!G286*#REF!+'Marius cleanup'!H286*#REF!+'Marius cleanup'!I286*#REF! -> #REF! | N286: =D286*#REF!+'Marius cleanup'!E286*#REF!+'Marius cleanup'!F286*#REF!+'Marius cleanup'!G286*#REF!+'Marius cleanup'!H286*#REF!+'Marius cleanup'!I286*#REF! -> #REF! | O286: =#REF! -> #REF! | P286: =O286-Q286 -> 0 | Q286: =O286-P286 -> 390029280 | R286: =#REF! -> #REF! | S286: =#REF! -> #REF! | T286: =#REF! -> #REF! | U286: =#REF! -> #REF! | V286: =#REF! -> #REF! | W286: =#REF! -> #REF! | X286: =#REF! -> #REF! | Y286: =#REF! -> #REF! | Z286: =SHA!A$15 -> Folkehelseinstituttet, Vaksineforsyning | AA286: =SHA!B$15 -> Myrens verksted 6J | AC286: =SHA!C$15 -> 473 | AD286: =SHA!D$15 -> Oslo | AE286: =SHA!E$15 -> Kari Opheim | AF286: =SHA!F$15 -> 95752748 | AG286: =M286 -> #REF! | AH286: =N286 -> #REF!
A287: =#REF! -> #REF! | B287: =#REF! -> #REF! | C287: =#REF! -> #REF! | D287: =#REF! -> #REF! | E287: =#REF! -> #REF! | F287: =#REF! -> #REF! | G287: =#REF! -> #REF! | H287: =#REF! -> #REF! | ... J287: =#REF! -> #REF! | K287: =D287+E287+F287+G287+H287+I287 -> #REF! | L287: =J287-K287 -> #REF! | M287: =D287*#REF!+'Marius cleanup'!E287*#REF!+'Marius cleanup'!F287*#REF!+'Marius cleanup'!G287*#REF!+'Marius cleanup'!H287*#REF!+'Marius cleanup'!I287*#REF! -> #REF! | N287: =D287*#REF!+'Marius cleanup'!E287*#REF!+'Marius cleanup'!F287*#REF!+'Marius cleanup'!G287*#REF!+'Marius cleanup'!H287*#REF!+'Marius cleanup'!I287*#REF! -> #REF! | O287: =#REF! -> #REF! | P287: =O287-Q287 -> 0 | Q287: =O287-P287 -> 390029280 | R287: =#REF! -> #REF! | S287: =#REF! -> #REF! | T287: =#REF! -> #REF! | U287: =#REF! -> #REF! | V287: =#REF! -> #REF! | W287: =#REF! -> #REF! | X287: =#REF! -> #REF! | Y287: =#REF! -> #REF! | Z287: =SHA!A$15 -> Folkehelseinstituttet, Vaksineforsyning | AA287: =SHA!B$15 -> Myrens verksted 6J | AC287: =SHA!C$15 -> 473 | AD287: =SHA!D$15 -> Oslo | AE287: =SHA!E$15 -> Kari Opheim | AF287: =SHA!F$15 -> 95752748 | AG287: =M287 -> #REF! | AH287: =N287 -> #REF!
