Workbook

Sheet Sjåførliste
A1: 1602 | B1: Trond Østborg
A2: 1217 | B2: Harald Holst
A3: 1215 | B3: Siw Gjerstad
A4: 1202 | B4: Rune Andersen
A5: 1212 | B5: Elisabeth Bye Tollefsen
A6: 1221 | B6: Tove Rædergård
A7: 1230 | B7: Morten Myhrvold
A8: 1620 | B8: Erik Molstad - Toten
A9: 1621 | B9: Sten Valleraune - Toten
A10: 1622 | B10: Kjell Ivar Brekstad - Toten
A11: 1623 | B11: Daniel Valleraune - Toten
A12: 1624 | B12: Klaus Ringen - Toten
A13: TDS1 | B13: Zygimantas Kazakevicius
A14: TDS2 | B14: Roger Midtbøen
A15: TDS3 | B15: Cuong Quoc Treung

Sheet Kommuneoversikt
A1: Postnummer | B1: Poststed | C1: Kommunenummer | D1: Kommunenavn | E1: Fylke
A2: 1 | B2: OSLO | C2: 301 | D2: OSLO | E2: OSLO
A3: 10 | B3: OSLO | C3: 301 | D3: OSLO | E3: OSLO
A4: 15 | B4: OSLO | C4: 301 | D4: OSLO | E4: OSLO
A5: 18 | B5: OSLO | C5: 301 | D5: OSLO | E5: OSLO
A6: 21 | B6: OSLO | C6: 301 | D6: OSLO | E6: OSLO
A7: 24 | B7: OSLO | C7: 301 | D7: OSLO | E7: OSLO
A8: 26 | B8: OSLO | C8: 301 | D8: OSLO | E8: OSLO
A9: 28 | B9: OSLO | C9: 301 | D9: OSLO | E9: OSLO
A10: 30 | B10: OSLO | C10: 301 | D10: OSLO | E10: OSLO
A11: 31 | B11: OSLO | C11: 301 | D11: OSLO | E11: OSLO
A12: 32 | B12: OSLO | C12: 301 | D12: OSLO | E12: OSLO
A13: 33 | B13: OSLO | C13: 301 | D13: OSLO | E13: OSLO
... A4396: 8098 | B4396: LANDEGODE | C4396: 1804 | D4396: BODØ | E4396: NORDLAND
A4397: 8099 | B4397: JAN MAYEN | C4397: 2211 | D4397: JAN MAYEN | E4397: #N/A
A4398: 8100 | B4398: MISVÆR | C4398: 1804 | D4398: BODØ | E4398: NORDLAND
A4399: 8102 | B4399: SKJERSTAD | C4399: 1804 | D4399: BODØ | E4399: NORDLAND
A4400: 8103 | B4400: BREIVIK I SALTEN | C4400: 1804 | D4400: BODØ | E4400: NORDLAND
A4401: 8108 | B4401: MISVÆR | C4401: 1804 | D4401: BODØ | E4401: NORDLAND
A4402: 8110 | B4402: MOLDJORD | C4402: 1839 | D4402: BEIARN | E4402: NORDLAND
A4403: 8114 | B4403: TOLLÅ | C4403: 1839 | D4403: BEIARN | E4403: NORDLAND
A4404: 8118 | B4404: MOLDJORD | C4404: 1839 | D4404: BEIARN | E4404: NORDLAND
A4405: 8120 | B4405: NYGÅRDSJØEN | C4405: 1838 | D4405: GILDESKÅL | E4405: NORDLAND
A4406: 8128 | B4406: YTRE BEIARN | C4406: 1839 | D4406: BEIARN | E4406: NORDLAND
A4407: 8130 | B4407: SANDHORNØY | C4407: 1838 | D4407: GILDESKÅL | E4407: NORDLAND
A4408: 8134 | B4408: SØRARNØY | C4408: 1838 | D4408: GILDESKÅL | E4408: NORDLAND
A4409: 8135 | B4409: SØRARNØY | C4409: 1838 | D4409: GILDESKÅL | E4409: NORDLAND
... A4806: 9169 | B4806: BURFJORD | C4806: 5429 | D4806: KVÆNANGEN | E4806: TROMS OG FINNMARK
A4807: 9170 | B4807: LONGYEARBYEN | C4807: 2100 | D4807: SVALBARD | E4807: #N/A
A4808: 9171 | B4808: LONGYEARBYEN | C4808: 2100 | D4808: SVALBARD | E4808: #N/A
A4809: 9173 | B4809: NY-ÅLESUND | C4809: 2100 | D4809: SVALBARD | E4809: #N/A
A4810: 9174 | B4810: HOPEN | C4810: 2100 | D4810: SVALBARD | E4810: #N/A
A4811: 9175 | B4811: SVEAGRUVA | C4811: 2100 | D4811: SVALBARD | E4811: #N/A
A4812: 9176 | B4812: BJØRNØYA | C4812: 2100 | D4812: SVALBARD | E4812: #N/A
A4813: 9178 | B4813: BARENTSBURG | C4813: 2100 | D4813: SVALBARD | E4813: #N/A
A4814: 9180 | B4814: SKJERVØY | C4814: 5427 | D4814: SKJERVØY | E4814: TROMS OG FINNMARK
A4815: 9181 | B4815: HAMNEIDET | C4815: 5428 | D4815: NORDREISA | E4815: TROMS OG FINNMARK
A4816: 9182 | B4816: SEGLVIK | C4816: 5429 | D4816: KVÆNANGEN | E4816: TROMS OG FINNMARK
A4817: 9184 | B4817: REINFJORD | C4817: 5429 | D4817: KVÆNANGEN | E4817: TROMS OG FINNMARK
A4818: 9185 | B4818: SPILDRA | C4818: 5429 | D4818: KVÆNANGEN | E4818: TROMS OG FINNMARK
A4819: 9186 | B4819: ANDSNES | C4819: 5432 | D4819: LOPPA | E4819: TROMS OG FINNMARK
A4820: 9187 | B4820: VALANHAMN | C4820: 5429 | D4820: KVÆNANGEN | E4820: TROMS OG FINNMARK
A4821: 9189 | B4821: SKJERVØY | C4821: 5427 | D4821: SKJERVØY | E4821: TROMS OG FINNMARK
A4822: 9190 | B4822: AKKARVIK | C4822: 5427 | D4822: SKJERVØY | E4822: TROMS OG FINNMARK
A4823: 9192 | B4823: ARNØYHAMN | C4823: 5427 | D4823: SKJERVØY | E4823: TROMS OG FINNMARK
A4824: 9193 | B4824: NIKKEBY | C4824: 5427 | D4824: SKJERVØY | E4824: TROMS OG FINNMARK
A4825: 9194 | B4825: LAUKSLETTA | C4825: 5427 | D4825: SKJERVØY | E4825: TROMS OG FINNMARK
... A5094: 9991 | B5094: BÅTSFJORD | C5094: 5443 | D5094: BÅTSFJORD | E5094: TROMS OG FINNMARK

Sheet SHA
A1: Sykehusapoteket i Levanger | B1: Kirkegt. 2 | C1: 7600 | D1: Levanger | E1: Heidi Skjetne | F1: 41930547 | G1: Heidi.H.Skjetne@sykehusapoteket.no
A2: Sjukehusapoteka Førde | B2: Svanehaugvegen 2 | C2: 6812 | D2: Førde | E2: Gunvor Steine Tufte | F2: 41436975 | G2: gunvor.steine.tufte@ihelse.net
A3: Sjukehusapoteket i Bergen | B3: Jonas Lies veg 89 | C3: 5021 | D3: Bergen | E3: Pål Espen Johannsesen | F3: 99104972 | G3: pal.espen.johannessen@sav.no
A4: Sjukehusapoteket i Haugesund | B4: Karmsundgata 120 | C4: 5528 | D4: Haugesund | E4: Lene Svanberg Jakobsen | F4: 98845265 | G4: lene.svanberg.jakobsen@sav.no
A5: Sjukehusapoteket i Stavanger | B5: Gerd-Ragna Bloch Thorsens gate 8 | C5: 4011 | D5: Stavanger | E5: Tonje Folkvang | F5: 91144639 | G5: tonje.folkvang@sav.no
A6: Sykehusapoteket i Trondheim | B6: Edvard Griegsgt. 10 | C6: 7030 | D6: Trondheim | E6: Morten Loennechen / Maja Nesjan | F6: 99393313 | G6: Morten.Loennechen@sykehusapoteket.no
A7: Sjukehusapoteket i Ålesund | B7: Åsehaugen 5 | C7: 6017 | D7: Ålesund | E7: Åse Østrem | F7: 47885111 | G7: Ase.B.Ostrem@sykehusapoteket.no
A8: Sykehusapoteket i Tromsø | B8: Sykehusveien 38 | C8: 9038 | D8: Tromsø | E8: Sidsel Kristiansen | F8: 92427 919 | G8: Sidsel.Kristiansen@sykehusapotek-nord.no
A9: Sykehusapoteket i Bodø | B9: Parkveien 95 | C9: 8005 | D9: Bodø | E9: Cathrine Strømhaug | F9: 91723 838 | G9: Cathrine.Stromhaug@sykehusapotek-nord.no
A10: Sykehusapoteket Oslo, Ullevål | B10: Kirkeveien 166 | C10: 450 | D10: Oslo | E10: Jalil Djahromi | F10: 90685317 | G10: Jalil.djahromi@sykehusapotekene.no
A11: Sykehusapoteket Ahus, Nordbyhagen | B11: Sykehusveien 25 | C11: 1474 | D11: Lørenskog | E11: Ida Maugesten | F11: 99399550 | G11: ida.maugesten@sykehusapotekene.no
A12: Sykehusapoteket Gjøvik | B12: Kyrre Greppsgate 11 | C12: 2819 | D12: Gjøvik | E12: Trine Berg | F12: 90046076 | G12: Trine.berg@sykehusapotekene.no
A13: Sykehusapoteket Skien | B13: Ulefossvegen 55 (bygg 54) | C13: 3710 | D13: Skien | E13: Rose-Marie Stange Semb | F13: 99284476 | G13: Rose-Marie.Stange.Semb@sykehusapotekene.no
A14: Sykehusapoteket Kristiansand | B14: Egsveien 100 | C14: 4615 | D14: Kristiansand S | E14: Rune Vatnøy | F14: 90530225 | G14: Rune.vatnoy@sykehusapotekene.no
A15: Folkehelseinstituttet, Vaksineforsyning | B15: Myrens verksted 6J | C15: 473 | D15: Oslo | E15: Kari Opheim | F15: 95752748 | G15: Kari.Opheim@fhi.no
A100: Uke 52-20 | B100: Uke 53-20 | C100: Uke 1 | D100: Uke 2 | E100: Uke 3 | F100: Uke 4 | G100: Uke 5 | H100: Uke 6 | I100: Uke 7 | J100: Uke 8 | K100: Uke 9 | L100: Uke 10 | M100: Uke 11 | N100: Uke 12 | O100: Uke 13 | P100: Uke 14 | Q100: Uke 15 | R100: Uke 16 | S100: Uke 17 | T100: Uke 18 | U100: Uke 19 | V100: Uke 20 | W100: Uke 21 | X100: Uke 22 | Y100: Uke 23 | Z100: Uke 24 | AA100: Uke 25 | AB100: Uke 26 | AC100: Uke 27 | AD100: Uke 28 | AE100: Uke 29 | AF100: Uke 30 | AG100: Uke 31 | AH100: Uke 32 | AI100: Uke 33 | AJ100: Uke 34 | AK100: Uke 35 | AL100: Uke 36 | AM100: Uke 37 | AN100: Uke 38 | AO100: Uke 39 | AP100: Uke 40 | AQ100: Uke 41 | AR100: Uke 42 | AS100: Uke 43 | AT100: Uke 44 | AU100: Uke 45 | AV100: Uke 46 | AW100: Uke 47 | AX100: Uke 48 | AY100: Uke 49 | AZ100: Uke 50 | BA100: Uke 51 | BB100: Uke 52 | BC100: 2022 Uke 1 | BD100: 2022 Uke 2 | BE100: 2022 Uke 3 | BF100: 2022 Uke 4 | BG100: 2022 Uke 5 | BH100: 2022 Uke 6 | BI100: 2022 Uke 7 | BJ100: 2022 Uke 8 | BK100: 2022 Uke 9 | BL100: 2022 Uke 10 | BM100: 2022 Uke 11 | BN100: 2022 Uke 12 | BO100: 2022 Uke 13 | BP100: 2022 Uke 14 | BQ100: 2022 Uke 15 | BR100: 2022 Uke 16 | BS100: 2022 Uke 17 | BT100: 2022 Uke 18 | BU100: 2022 Uke 19 | BV100: 2022 Uke 20 | BW100: 2022 Uke 21 | BX100: 2022 Uke 22 | BY100: 2022 Uke 23 | BZ100: 2022 Uke 24 | CA100: 2022 Uke 25 | CB100: 2022 Uke 26 | CC100: 2022 Uke 27 | CD100: 2022 Uke 28

Sheet JETPAK NORD-NORGE FLYPLASS
A1: Transferpoint | B1: Supplier | C1: Street | D1: Postcode | E1: City
A2: ANX | B2: Norbase | C2: Flyplass | D2: 8480 | E2: Andenes
A3: BOO | B3: Svenns Transport | C3: Flyplass | D3: 8004 | E3: Bodø
A4: BNN | B4: WGH BNN | C4: Flyplass | D4: 8900 | E4: Brønnøysund
A5: LKN | B5: Norbase | C5: Flyplass | D5: 8370 | E5: Leknes
A6: RET | B6: WGH RET | C6: Flyplass | D6: 8064 | E6: Røst
A7: SSJ | B7: Helgeland Transport | C7: Flyplass | D7: 8804 | E7: Sandnessjøen
A8: SKN | B8: Norbase | C8: Flyplass | D8: 8450 | E8: Stokmarknes
A9: SVJ | B9: Norbase | C9: Flyplass | D9: 8300 | E9: Svolvær
A10: VRY | B10: N/A | C10: Flyplass | D10: 8063 | E10: Værøy
A11: ALF | B11: ALF SGH | C11: Flyplass | D11: 9515 | E11: Alta
A12: TOS | B12: Tromsø Budbilsentral A/S | C12: Flyplass | D12: 9016 | E12: Tromsø
A13: BVG | B13: WGH BVG | C13: Flyplass | D13: 9981 | E13: Berlevåg
... A25: LYR | B25: Pole-Position | C25: Flyplass | D25: 9170 | E25: Longyearbyen

Sheet Vaksinefordeling
A1: Vaksinetype | B1: Kommune | C1: Region | D1: Kommunenr. | E1: Kundenummer | F1: Mottakertype | G1: Leveringssted | H1: 2022 Uke 25
A2: AstraZeneca | B2: STEINKJER | C2: Levanger | D2: 5 006 | E2: 538176 | F2: Kommune | G2: Steinkjer teststasjon | H2: 0
A3: AstraZeneca | B3: STJØRDAL | C3: Levanger | D3: 5 035 | E3: 538556 | F3: Kommune | G3: Stjørdal Helsestasjon | H3: 0
A4: AstraZeneca | B4: LEVANGER | C4: Levanger | D4: 5 037 | E4: 538470 | F4: Kommune | G4: Levanger rådhus | H4: 0
A5: AstraZeneca | B5: NAMSOS | C5: Levanger | D5: 5 007 | E5: 538182 | F5: Kommune | G5: Namsos helsehus | H5: 0
A6: AstraZeneca | B6: VERDAL | C6: Levanger | D6: 5 038 | E6: 538561 | F6: Kommune | G6: Verdal Helsestasjon | H6: 0
A7: AstraZeneca | B7: NÆRØYSUND | C7: Levanger | D7: 5 060 | E7: 538509 | F7: Kommune | G7: Rørvik helsesenter | H7: 0
A8: AstraZeneca | B8: INDERØY | C8: Levanger | D8: 5 053 | E8: 538419 | F8: Kommune | G8: Inderøy helsestasjon | H8: 0
A9: AstraZeneca | B9: OVERHALLA | C9: Levanger | D9: 5 047 | E9: 538435 | F9: Kommune | G9: Overhalla helsestasjon | H9: 0
A10: AstraZeneca | B10: MERÅKER | C10: Levanger | D10: 5 034 | E10: 538430 | F10: Kommune | G10: Meråker Helsestasjon | H10: 0
A11: AstraZeneca | B11: FROSTA | C11: Levanger | D11: 5 036 | E11: 538495 | F11: Kommune | G11: Frosta Legekontor | H11: 0
A12: AstraZeneca | B12: GRONG | C12: Levanger | D12: 5 045 | E12: 538626 | F12: Kommune | G12: Grong legekontor | H12: 0
A13: AstraZeneca | B13: SNÅSA | C13: Levanger | D13: 5 041 | E13: 538599 | F13: Kommune | G13: Snåsa Helsestasjon | H13: 0
... A602: AstraZeneca | B602: Sykehusapoteket Oslo, Ullevål | C602: - | D602: 0 | E602: 538498 | F602: Helseforetak | G602: XXX | H602: 0
A603: AstraZeneca | B603: Forsvaret | C603: - | D603: Oslo, Ullevål | E603: 1 | F603: Andre grupper | H603: 0
A604: AstraZeneca | B604: FHI - vaksineforsyningen mf | C604: - | D604: Oslo, Ullevål | E604: 0 | H604: 0
A605: AstraZeneca | B605: Svalbard | C605: - | D605: Tromsø | E605: 0 | H605: 0
A606: AstraZeneca | B606: Rusinstusjoner | C606: - | D606: Oslo, Ullevål | E606: 0 | H606: 0
A607: AstraZeneca | B607: Diplomater med mer | C607: - | D607: Oslo, Ullevål | E607: 0 | H607: 0
A608: AstraZeneca | B608: OL, Oslo | C608: - | D608: Oslo, Ullevål | E608: 0 | H608: 0
A609: AstraZeneca | B609: OL, Stavanger | C609: - | D609: Stavanger | E609: 0 | H609: 0
A610: AstraZeneca | B610: OL, Bergen | C610: - | D610: Bergen | E610: 0 | H610: 0
A611: AstraZeneca | B611: OL, Trondheim | C611: - | D611: Trondheim | E611: 0 | H611: 0
A612: AstraZeneca | B612: 2.8.22 Skjold | C612: - | D612: Tromsø | E612: 0 | H612: 0
A613: AstraZeneca | B613: Fengselskommuner - Kristiansand | C613: - | D613: Kristiansand | E613: 0 | H613: 0
A614: AstraZeneca | B614: Fengselskommuner - Ahus | C614: - | D614: Ahus, Nordbyhagen | E614: 0 | H614: 0
A615: AstraZeneca | B615: Fengselskommuner - Gjøvik | C615: - | D615: Gjøvik | E615: 0 | H615: 0
... A618: AstraZeneca | B618: Fengselskommuner - Stavanger | C618: - | D618: Stavanger | E618: 0 | H618: 0
A619: Barnedoser Pfizer | B619: STEINKJER | D619: 5 006 | E619: 538176 | F619: Kommune | G619: Steinkjer teststasjon | H619: 0
A620: Barnedoser Pfizer | B620: STJØRDAL | D620: 5 035 | E620: 538556 | F620: Kommune | G620: Stjørdal Helsestasjon | H620: 0
A621: Barnedoser Pfizer | B621: LEVANGER | D621: 5 037 | E621: 538470 | F621: Kommune | G621: Levanger rådhus | H621: 0
A622: Barnedoser Pfizer | B622: NAMSOS | D622: 5 007 | E622: 538182 | F622: Kommune | G622: Namsos helsehus | H622: 10
A623: Barnedoser Pfizer | B623: VERDAL | D623: 5 038 | E623: 538561 | F623: Kommune | G623: Verdal Helsestasjon | H623: 0
A624: Barnedoser Pfizer | B624: NÆRØYSUND | D624: 5 060 | E624: 538509 | F624: Kommune | G624: Rørvik helsesenter | H624: 0
A625: Barnedoser Pfizer | B625: INDERØY | D625: 5 053 | E625: 538419 | F625: Kommune | G625: Inderøy helsestasjon | H625: 0
A626: Barnedoser Pfizer | B626: OVERHALLA | D626: 5 047 | E626: 538435 | F626: Kommune | G626: Overhalla helsestasjon | H626: 0
A627: Barnedoser Pfizer | B627: MERÅKER | D627: 5 034 | E627: 538430 | F627: Kommune | G627: Meråker Helsestasjon | H627: 0
A628: Barnedoser Pfizer | B628: FROSTA | D628: 5 036 | E628: 538495 | F628: Kommune | G628: Frosta Legekontor | H628: 0
A629: Barnedoser Pfizer | B629: GRONG | D629: 5 045 | E629: 538626 | F629: Kommune | G629: Grong legekontor | H629: 0
A630: Barnedoser Pfizer | B630: SNÅSA | D630: 5 041 | E630: 538599 | F630: Kommune | G630: Snåsa Helsestasjon | H630: 0
... A884: Barnedoser Pfizer | B884: BYKLE | D884: 4 222 | E884: 538149 | F884: Kommune | G884: Hovden Helsehus | H884: 0
A885: Barnedoser Pfizer | B885: OSLO B1 | C885: Oslo, Ullevål | D885: 13 011 | F885: Kommune - Byddel | G885: Oslo leveringssted 1 | H885: 0
A886: Barnedoser Pfizer | B886: OSLO B2 | C886: Oslo, Ullevål | D886: 23 012 | F886: Kommune - Byddel | G886: Oslo leveringssted 2 | H886: 0
A887: Barnedoser Pfizer | B887: OSLO B3 | C887: Oslo, Ullevål | D887: 33 013 | F887: Kommune - Byddel | G887: Oslo leveringssted 3 | H887: 0
A888: Barnedoser Pfizer | B888: OSLO B4 | C888: Oslo, Ullevål | D888: 43 014 | F888: Kommune - Byddel | G888: Oslo leveringssted 4 | H888: 0
A889: Barnedoser Pfizer | B889: OSLO B5 | C889: Oslo, Ullevål | D889: 53 015 | F889: Kommune - Byddel | G889: Oslo leveringssted 5 | H889: 0
A890: Barnedoser Pfizer | B890: OSLO B6 | C890: Oslo, Ullevål | D890: 63 016 | F890: Kommune - Byddel | G890: Oslo leveringssted 6 | H890: 0
A891: Barnedoser Pfizer | B891: OSLO B7 | C891: Oslo, Ullevål | D891: 73 017 | F891: Kommune - Byddel | G891: Oslo leveringssted 7 | H891: 0
A892: Barnedoser Pfizer | B892: OSLO B8 | C892: Oslo, Ullevål | D892: 83 018 | F892: Kommune - Byddel | G892: Oslo leveringssted 8 | H892: 0
A893: Barnedoser Pfizer | B893: OSLO B9 | C893: Oslo, Ullevål | D893: 93 019 | F893: Kommune - Byddel | G893: Oslo leveringssted 9 | H893: 0
A894: Barnedoser Pfizer | B894: OSLO B10 | C894: Oslo, Ullevål | D894: 103 020 | F894: Kommune - Byddel | G894: Oslo leveringssted 10 | H894: 0
A895: Barnedoser Pfizer | B895: OSLO | D895: 301 | E895: 538033 | F895: Kommune | G895: Ammerudhjemmet bo- og kultursenter | H895: 0
A896: Barnedoser Pfizer | B896: BÆRUM | D896: 3 024 | E896: 538338 | F896: Kommune | G896: Folkehelsekontoret Sandvika | H896: 0
A897: Barnedoser Pfizer | B897: DRAMMEN | D897: 3 005 | E897: 538137 | F897: Kommune | G897: Smittevernkontoret | H897: 12
A898: Barnedoser Pfizer | B898: ASKER | D898: 3 025 | E898: 538261 | F898: Kommune | G898: Søndre Borgen Sykehjem | H898: 0
A899: Barnedoser Pfizer | B899: RINGERIKE | D899: 3 007 | E899: 538467 | F899: Kommune | G899: Familiens hus i Hønefoss | H899: 4
A900: Barnedoser Pfizer | B900: KONGSBERG | D900: 3 006 | E900: 538178 | F900: Kommune | G900: Kongsberg interkommunale legevakt | H900: 0
A901: Barnedoser Pfizer | B901: LIER | D901: 3 049 | E901: 538316 | F901: Kommune | G901: Cater Drammen AS | H901: 4
A902: Barnedoser Pfizer | B902: ØVRE EIKER | D902: 3 048 | E902: 538181 | F902: Kommune | G902: Eikertun helsehus | H902: 4
A903: Barnedoser Pfizer | B903: MODUM | D903: 3 047 | E903: 538133 | F903: Kommune | G903: Modumheimen Sykehjem | H903: 0
A904: Barnedoser Pfizer | B904: JEVNAKER | D904: 3 053 | E904: 538256 | F904: Kommune | G904: Jevnaker omsorgs- og rehabiliteringssenter | H904: 2
A905: Barnedoser Pfizer | B905: HOLE | D905: 3 038 | E905: 538618 | F905: Kommune | G905: Hole Kommune, Helsestasjonen | H905: 0
A906: Barnedoser Pfizer | B906: ÅL | D906: 3 043 | E906: 538619 | F906: Kommune | G906: Ål helsestasjon | H906: 0
... A1279: Barnedoser Pfizer | B1279: Fengselskommuner - Stavanger | D1279: Stavanger | E1279: 0 | F1279: Andre grupper | G1279: - | H1279: 0
A1280: Moderna | B1280: STEINKJER | C1280: Levanger | D1280: 5 006 | E1280: 538176 | F1280: Kommune | G1280: Steinkjer teststasjon | H1280: 0
A1281: Moderna | B1281: STJØRDAL | C1281: Levanger | D1281: 5 035 | E1281: 538556 | F1281: Kommune | G1281: Stjørdal Helsestasjon | H1281: 0
A1282: Moderna | B1282: LEVANGER | C1282: Levanger | D1282: 5 037 | E1282: 538470 | F1282: Kommune | G1282: Levanger rådhus | H1282: 0
A1283: Moderna | B1283: NAMSOS | C1283: Levanger | D1283: 5 007 | E1283: 538182 | F1283: Kommune | G1283: Namsos helsehus | H1283: 0
A1284: Moderna | B1284: VERDAL | C1284: Levanger | D1284: 5 038 | E1284: 538561 | F1284: Kommune | G1284: Verdal Helsestasjon | H1284: 0
A1285: Moderna | B1285: NÆRØYSUND | C1285: Levanger | D1285: 5 060 | E1285: 538509 | F1285: Kommune | G1285: Rørvik helsesenter | H1285: 0
A1286: Moderna | B1286: INDERØY | C1286: Levanger | D1286: 5 053 | E1286: 538419 | F1286: Kommune | G1286: Inderøy helsestasjon | H1286: 0
A1287: Moderna | B1287: OVERHALLA | C1287: Levanger | D1287: 5 047 | E1287: 538435 | F1287: Kommune | G1287: Overhalla helsestasjon | H1287: 0
A1288: Moderna | B1288: MERÅKER | C1288: Levanger | D1288: 5 034 | E1288: 538430 | F1288: Kommune | G1288: Meråker Helsestasjon | H1288: 0
A1289: Moderna | B1289: FROSTA | C1289: Levanger | D1289: 5 036 | E1289: 538495 | F1289: Kommune | G1289: Frosta Legekontor | H1289: 0
A1290: Moderna | B1290: GRONG | C1290: Levanger | D1290: 5 045 | E1290: 538626 | F1290: Kommune | G1290: Grong legekontor | H1290: 0
A1291: Moderna | B1291: SNÅSA | C1291: Levanger | D1291: 5 041 | E1291: 538599 | F1291: Kommune | G1291: Snåsa Helsestasjon | H1291: 0
... A1545: Moderna | B1545: BYKLE | C1545: Kristiansand | D1545: 4 222 | E1545: 538149 | F1545: Kommune | G1545: Hovden Helsehus | H1545: 0
A1546: Moderna | B1546: OSLO B1 | C1546: Oslo, Ullevål | D1546: 13 011 | F1546: Kommune - Byddel | G1546: Oslo leveringssted 1
A1547: Moderna | B1547: OSLO B2 | C1547: Oslo, Ullevål | D1547: 23 012 | F1547: Kommune - Byddel | G1547: Oslo leveringssted 2 | H1547: 0
A1548: Moderna | B1548: OSLO B3 | C1548: Oslo, Ullevål | D1548: 33 013 | F1548: Kommune - Byddel | G1548: Oslo leveringssted 3 | H1548: 0
A1549: Moderna | B1549: OSLO B4 | C1549: Oslo, Ullevål | D1549: 43 014 | F1549: Kommune - Byddel | G1549: Oslo leveringssted 4 | H1549: 0
A1550: Moderna | B1550: OSLO B5 | C1550: Oslo, Ullevål | D1550: 53 015 | F1550: Kommune - Byddel | G1550: Oslo leveringssted 5 | H1550: 0
A1551: Moderna | B1551: OSLO B6 | C1551: Oslo, Ullevål | D1551: 63 016 | F1551: Kommune - Byddel | G1551: Oslo leveringssted 6 | H1551: 0
A1552: Moderna | B1552: OSLO B7 | C1552: Oslo, Ullevål | D1552: 73 017 | F1552: Kommune - Byddel | G1552: Oslo leveringssted 7 | H1552: 0
A1553: Moderna | B1553: OSLO B8 | C1553: Oslo, Ullevål | D1553: 83 018 | F1553: Kommune - Byddel | G1553: Oslo leveringssted 8 | H1553: 0
A1554: Moderna | B1554: OSLO B9 | C1554: Oslo, Ullevål | D1554: 93 019 | F1554: Kommune - Byddel | G1554: Oslo leveringssted 9 | H1554: 0
A1555: Moderna | B1555: OSLO B10 | C1555: Oslo, Ullevål | D1555: 103 020 | F1555: Kommune - Byddel | G1555: Oslo leveringssted 10 | H1555: 0
A1556: Moderna | B1556: OSLO | C1556: Oslo, Ullevål | D1556: 301 | E1556: 538033 | F1556: Kommune | G1556: Ammerudhjemmet bo- og kultursenter | H1556: 100
A1557: Moderna | B1557: BÆRUM | C1557: Oslo, Ullevål | D1557: 3 024 | E1557: 538338 | F1557: Kommune | G1557: Folkehelsekontoret Sandvika | H1557: 0
A1558: Moderna | B1558: DRAMMEN | C1558: Oslo, Ullevål | D1558: 3 005 | E1558: 538137 | F1558: Kommune | G1558: Smittevernkontoret | H1558: 50
A1559: Moderna | B1559: ASKER | C1559: Oslo, Ullevål | D1559: 3 025 | E1559: 538261 | F1559: Kommune | G1559: Søndre Borgen Sykehjem | H1559: 0
A1560: Moderna | B1560: RINGERIKE | C1560: Oslo, Ullevål | D1560: 3 007 | E1560: 538467 | F1560: Kommune | G1560: Familiens hus i Hønefoss | H1560: 0
A1561: Moderna | B1561: KONGSBERG | C1561: Oslo, Ullevål | D1561: 3 006 | E1561: 538178 | F1561: Kommune | G1561: Kongsberg interkommunale legevakt | H1561: 0
A1562: Moderna | B1562: LIER | C1562: Oslo, Ullevål | D1562: 3 049 | E1562: 538316 | F1562: Kommune | G1562: Cater Drammen AS | H1562: 0
A1563: Moderna | B1563: ØVRE EIKER | C1563: Oslo, Ullevål | D1563: 3 048 | E1563: 538181 | F1563: Kommune | G1563: Eikertun helsehus | H1563: 10
A1564: Moderna | B1564: MODUM | C1564: Oslo, Ullevål | D1564: 3 047 | E1564: 538133 | F1564: Kommune | G1564: Modumheimen Sykehjem | H1564: 0
A1565: Moderna | B1565: JEVNAKER | C1565: Oslo, Ullevål | D1565: 3 053 | E1565: 538256 | F1565: Kommune | G1565: Jevnaker omsorgs- og rehabiliteringssenter | H1565: 0
A1566: Moderna | B1566: HOLE | C1566: Oslo, Ullevål | D1566: 3 038 | E1566: 538618 | F1566: Kommune | G1566: Hole Kommune, Helsestasjonen | H1566: 0
A1567: Moderna | B1567: ÅL | C1567: Oslo, Ullevål | D1567: 3 043 | E1567: 538619 | F1567: Kommune | G1567: Ål helsestasjon | H1567: 0
... A2172: Novavax | B2172: BYKLE | C2172: Kristiansand | D2172: 4 222 | E2172: 538149 | F2172: Kommune | G2172: Hovden Helsehus | H2172: 0
...

Sheet Pandemiregister
A1: Fullt kommunenavn | B1: Kommunenavn | C1: Kommune-nummer | D1: Fylke | E1: Navn på leveringssted | F1: Opphentingssted | G1: Kundenr. hos FHI | H1: Gateadresse | I1: Postnr. | J1: Poststed | K1: Kontaktperson på leveringssted | L1: Email leveringskontakt | M1: Telefon leverings-kontakt | N1: Navn koordinator | O1: Email koordinator | P1: Telefon koordinator | Q1: Kommune ovelege /Smittevernlege | R1: Kommuneoverlege Epost | S1: Kommune-overlege telefon | T1: Primær tlf nr leveringskontakt | U1: Sortering | V1: Sortering_1 | W1: Område | X1: Column24 | Y1: Column25 | Z1: Column26 | AA1: Column27
A2: Akershus universitetssykehus (sykehusapoteket) | B2: Akershus universitetssykehus (sykehusapoteket) - Internt | C2: 3029 | D2: VIKEN | E2: Sykehusapoteket Ahus, Nordbyhagen - Internlevering HF | F2: Sykehusapoteket Ahus, Nordbyhagen | G2: 538361 | H2: Intern | I2: 1474 | J2: Nordbyhagen | K2: Ida Maugesten | L2: ida.maugesten@sykehusapotekene.no | M2: 99399550 | N2: Karl Johan Seim-Wikse | O2: Karl.Johan.Seim-Wikse@ahus.no | P2: 92221597 | R2: Oystein.maeland@ahus.no | T2: 99399550 | U2: Akershus universitetssykehus (sykehusapoteket) - Internt | V2: 627 | W2: Østlandet
A3: Akershus universitetssykehus HF | B3: Akershus universitetssykehus HF | C3: 3020 | D3: VIKEN | E3: Akershus universitetssykehus, Ski sykehus | F3: Sykehusapoteket Ahus, Nordbyhagen | G3: 538278 | H3: Vardåsveien 3 | I3: 1400 | J3: Ski | L3: v | U3: Akershus universitetssykehus, Ski sykehus | V3: 476 | W3: Østlandet
A4: Akershus universitetssykehus HF - Kongsvinger avd. røntgen | B4: Akershus universitetssykehus HF - Kongsvinger avd. røntgen | C4: 3401 | D4: INNLANDET | E4: Akershus universitetssykehus, Kongsvinger avd. røntgen | F4: Sykehusapoteket Ahus, Nordbyhagen | G4: 538277 | H4: Parkveien 35 | I4: 2212 | J4: Kongsvinger | U4: Akershus universitetssykehus, Kongsvinger avd. røntgen | V4: 504 | W4: Østlandet
A5: Akershus universitetssykehus HF - Kongsvinger, somatikk | B5: Akershus universitetssykehus HF - Kongsvinger, somatikk | C5: 3401 | D5: INNLANDET | E5: Akershus universitetssykehus, Kongsvinger, somatikk | F5: Sykehusapoteket Ahus, Nordbyhagen | G5: 538276 | H5: Parkveien 35 | I5: 2212 | J5: Kongsvinger | U5: Akershus universitetssykehus, Kongsvinger, somatikk | V5: 503 | W5: Østlandet
A6: Alvdal kommune | B6: Alvdal | C6: 3428 | D6: INNLANDET | E6: Alvdal legekontor | F6: Sykehusapoteket Gjøvik | G6: 538422 | H6: Gjelen 3 | I6: 2560 | J6: Alvdal | K6: Bente Havdal | L6: bente.havdal@alvdal.kommune.no | M6: 41410741 | N6: Anita Engelberg / Janne Kjeldsen / Bente Havdal | O6: anita.engelberg@alvdal.kommune.no / Janne.kjeldsen@alvdal.kommune.no / bente.havdal@alvdal.kommune.no | P6: 456 38 953 | Q6: Håkon Spæren Henningsen | R6: hakon.s.henningsen@alvdal.kommune.no | S6: 994 86 954 | T6: 41410741 | U6: Alvdal legekontor | V6: 208 | W6: Østlandet
A7: Aremark kommune | B7: Aremark | C7: 3012 | D7: VIKEN | E7: Aremark helsestasjon og legekontor | F7: Sykehusapoteket Ahus, Nordbyhagen | G7: 538603 | H7: Fossbyåsen 41 | I7: 1798 | J7: Aremark | K7: Helsesykepleier Hege Nøkleby | L7: hegenokleby@gmail.com | M7: 45406311 | N7: Rita Martinsen | O7: rita.martinsen@aremark.kommune.no | P7: 69199690/ 69198446 /97726217 | Q7: Rita Martinsen | R7: rita.martinsen@aremark.kommune.no | S7: 69199690/ 69198446 /97726217 | T7: 45406311 | U7: Aremark helsestasjon og legekontor | V7: 144 | W7: Østlandet
A8: Asker kommune | B8: Asker | C8: 3025 | D8: VIKEN | E8: Søndre Borgen sykehjem | F8: Sykehusapoteket Oslo, Ullevål | G8: 538261 | H8: Søndre Borgen 16 | I8: 1388 | J8: Asker | K8: Elias Heimdal Leon | L8: elias.heimdal.leon@asker.kommune.no | M8: 94002178/90828882 | N8: Elias Heimdal Leon/Matteo Botta | O8: elias.heimdal.leon@asker.kommune.no/matteo.botta@asker.kommune.no | P8: 94002178/46218288 | Q8: Kjell Daniel Sørli | R8: Kjell.Daniel.Sorli@asker.kommune.no | S8: 95118365 | T8: 94002178 | U8: Søndre Borgen Sykehjem | V8: 157 | W8: Østlandet
A9: Aurskog-Høland kommune | B9: Aurskog-Høland | C9: 3026 | D9: VIKEN | E9: Legevakten i Aurskog-Høland kommune | F9: Sykehusapoteket Ahus, Nordbyhagen | G9: 538577 | H9: Parkveien 2 | I9: 1940 | J9: Bjørkelangen | K9: Lasse Fure | L9: lasse.fure@ahk.no | M9: 95986560 | N9: Lasse Fure | O9: lasse.fure@ahk.no | P9: 95986560 | Q9: Lasse Christensen | R9: lasse.christensen@ahk.no | S9: 93049769 | T9: 95986560 | U9: Legevakten i Aurskog-Høland kommune | V9: 158 | W9: Østlandet
A10: Avonova Ringerike Rehabilitering | B10: Avonova Ringerike Rehabilitering | C10: 3038 | D10: VIKEN | E10: Avonova Ringerike Rehabilitering | F10: Sykehusapoteket Oslo, Ullevål | G10: 538232 | H10: Kapteinveien 9 | I10: 3512 | J10: Hønefoss | K10: Liv Simarud | L10: Liv.Simarud@avonova.no | M10: 23265320 | N10: Christina Nafstad | O10: Christina.Nafstad@avonova.no | P10: 91123907 | R10: Dikka.g.wibe@avonova.no | T10: 23265320 | U10: Avonova Ringerike Rehabilitering | V10: 496 | W10: Østlandet
A11: Bamble kommune | B11: Bamble | C11: 3813 | D11: VESTFOLD OG TELEMARK | E11: Rådhuset - Vaksinasjonskontoret Bamble | F11: Sykehusapoteket Skien | G11: 538048 | H11: Kirkeveien 12 | I11: 3970 | J11: Langesund | K11: Grete Vardheim | L11: grete.vardheim@bamble.kommune.no | M11: 97058581/35965165 | N11: Birgitte Giæver Johnsen | O11: birgitte.giaever.johnsen@bamble.kommune.no | P11: 35965165 | Q11: Anders Mølmen | R11: anders.molmen@bamble.kommune.no | S11: 996 36 415 | T11: 97058581 | U11: Rådhuset. Vaksinasjonskontoret | V11: 243 | W11: Østlandet
A12: Betanien Hospital | B12: Betanien Hospital | C12: 3807 | D12: VESTFOLD OG TELEMARK | E12: Betanien Hospital Skien | F12: Sykehusapoteket Skien | G12: 538365 | H12: Bjørnstjerne Bjørnsons gate 6 | I12: 3722 | J12: Skien | K12: Terje Danielsen | L12: terje.danielsen@betanienhospital.no | M12: 90933026 | N12: Terje Danielsen | O12: terje.danielsen@betanienhospital.no | P12: 90933026 | R12: terje.danielsen@betanienhospital.no | T12: 90933026 | U12: Betanien Hospital | V12: 539 | W12: Østlandet
A13: Blå Kors Borgestadklinikken.no | B13: Blå Kors Borgestadklinikken.no | C13: 3807 | D13: VESTFOLD OG TELEMARK | E13: Blå Kors Borgestadklinikken Skien | F13: Sykehusapoteket Skien | G13: 538172 | H13: Kongensgate 33 | I13: 3717 | J13: Skien | K13: Yngvar Thorjussen | L13: Yngvar.Thorjussen@borgestadklinikken.no | M13: 93422556 | N13: Ragnhild Lien | O13: Ragnhild.Lien@Borgestadklinikken.no | P13: 99560335 | R13: rn.Vadal@borgestadklinikken.no | T13: 93422556 | U13: Blå Kors Borgestadklinikken | V13: 537 | W13: Østlandet
A14: Bærum kommune | B14: Bærum | C14: 3024 | D14: VIKEN | E14: Fornebu teststasjon/Vaksinesenter | F14: Sykehusapoteket Oslo, Ullevål | G14: 538338 | H14: Forneburingen 51 | I14: 1360 | J14: Fornebu | K14: Gunn Elisabeth Næss | L14: gunn.nass@baerum.kommune.no | M14: 40450910/67503203 | N14: Rita Danese | O14: rita.danese@baerum.kommune.no, | P14: 47787172 | Q14: Bjørg Dysthe | R14: bjorg.dysthe@baerum.kommune.no | S14: 91516885 | T14: 40450910 | U14: Folkehelsekontoret Sandvika | V14: 156 | W14: Østlandet
A15: Capio Anoreksisenter | B15: Capio Anoreksisenter | C15: 3004 | D15: VIKEN | E15: Capio Anoreksisenter | F15: Sykehusapoteket Ahus, Nordbyhagen | G15: 113856 | H15: Jens Wilhelmsensgt.1, inngang E | I15: 1671 | J15: Kråkerøy | K15: Monika Fagerli 41808088 | M15: 41808088 | T15: 41808088 | U15: Capio Anoreksisenter | V15: 464 | W15: Østlandet
A16: CatoSenteret Vestby Son | B16: CatoSenteret | C16: 3019 | D16: VIKEN | E16: CatoSenteret Vestby Son | F16: Sykehusapoteket Ahus, Nordbyhagen | G16: 538130 | H16: Kvartsveien 2 | I16: 1555 | J16: Son | K16: Siri Skumlien | L16: siri.skumlien@catosenteret.no | M16: 93895390 | N16: Siri Skumlien | O16: siri.skumlien@catosenteret.no | P16: 93895390 | T16: 93895390 | U16: CatoSenteret | V16: 475 | W16: Østlandet
A17: CRUX Bergfløtt behandlingssenter | B17: CRUX Bergfløtt behandlingssenter | C17: 3049 | D17: VIKEN | E17: CRUX Bergfløtt behandlingssenter | F17: Sykehusapoteket Oslo, Ullevål | G17: 538218 | H17: Bergflødtveien 69 | I17: 3404 | J17: LIER | K17: Mette Kristine Dyve | L17: epost: mk.dyve@stiftelsencrux.no | M17: 92684636 | N17: Mette Kristine Dyve | O17: mk.dyve@stiftelsencrux.no | P17: 92684636 | T17: 92684636 | U17: CRUX Bergfløtt behandlingssenter | V17: 501 | W17: Østlandet
A18: Diakonhjemmet sykehus AS | B18: Diakonhjemmet sykehus AS | C18: 301 | D18: OSLO | E18: Diakonhjemmet sykehusapotek | F18: Sykehusapoteket Oslo, Ullevål | G18: 538368 | H18: Diakonveien 12, innkjøring Reidar Kobrosvei 5 | I18: 370 | J18: Oslo | K18: Randi Hukari | L18: Randi.hukari@diakonsyk.no | M18: 22451580/41646105 | N18: Kari Gaarder Osnes | O18: k-osnes@diakonsyk.no | P18: 95733447 | R18: AndersMohn.Frafjord@diakonsyk.no | T18: 41646105 | U18: Diakonhjemmet sykehusapotek | V18: 430 | W18: Østlandet
A19: DIAKONISTIFTELSEN RØYSUM | B19: DIAKONISTIFTELSEN RØYSUM | C19: 3446 | D19: INNLANDET | E19: DIAKONISTIFTELSEN RØYSUM, avdeling for rehabilitering | F19: Sykehusapoteket Gjøvik | G19: 538189 | H19: Røysumslinna 41 | I19: 2770 | J19: Jaren | K19: Heidi Hallum Framstad | L19: hf@roysumtunet.no | M19: 48118330 | N19: Heidi Hallum Framstad | O19: hf@roysumtunet.no | P19: 48118330 | R19: en@roysumtunet.no | T19: 48118330 | U19: DIAKONISTIFTELSEN RØYSUM, avdeling for rehabilitering | V19: 525 | W19: Østlandet
A20: Dovre kommune | B20: Dovre | C20: 3431 | D20: INNLANDET | E20: Helsehuset Dovre | F20: Sykehusapoteket Gjøvik | G20: 538031 | H20: Lars Moens veg 3 | I20: 2660 | J20: Dombås | K20: Legekontoret (ingen fast kontaktperson) | L20: post.legekontor@dovre.kommune.no | M20: 62 24 22 00 | N20: Anne-Irene Hole | O20: post.legekontor@dovre.kommune.no | P20: 414 48 591 | Q20: Gurgen Nazaretian | R20: gurgen.nazaretian@dovre.kommune.no | S20: 957 31 396 | T20: 62242200 | U20: Helsehuset | V20: 211 | W20: Østlandet
A21: Drammen kommune | B21: Drammen | C21: 3005 | D21: VIKEN | E21: Smittevernkontoret Drammen | F21: Sykehusapoteket Oslo, Ullevål | G21: 538137 | H21: Schwartzgate 6 | I21: 3043 | J21: Drammen | K21: Anette Solvang | L21: anette.solvang@drammen.kommune.no | M21: 93283732 | N21: Anette Solvang | O21: anette.solvang@drammen.kommune.no | P21: 93283732 | Q21: Einar Sagberg | R21: einar.sagberg@drammen.kommune.no | S21: 928 10 975 | T21: 93283732 | U21: Smittevernkontoret | V21: 140 | W21: Østlandet
A22: Drangedal kommune | B22: Drangedal | C22: 3815 | D22: VESTFOLD OG TELEMARK | E22: Drangedal Legekontor | F22: Sykehusapoteket Skien | G22: 538574 | H22: Stemmenveien 6 | I22: 3815 | J22: Drangedal | K22: Maria Aasen Dukefoss | L22: maria.dukefoss@drangedal.kommune.no | M22: 90559492 | N22: Eva Strand | O22: eva.strand@drangedal.kommune.no | P22: 35997124 / 40919153 | Q22: Ivar A. Skogvold | R22: ivar.skogvold@kragero.kommune.no | T22: 90559492 | U22: Drangedal Helsestasjon | V22: 245 | W22: Østlandet
A23: Eidskog kommune | B23: Eidskog | C23: 3416 | D23: INNLANDET | E23: Eidskog legesenter | F23: Sykehusapoteket Ahus, Nordbyhagen | G23: 538025 | H23: Boligvegen 43 | I23: 2230 | J23: Skotterud | K23: Åste Østgård | L23: aste.ostgard@eidskog.kommune.no | M23: 48868902 | N23: Åste Østgård | O23: aste.ostgard@eidskog.kommune.no | P23: 40448671 | Q23: Jan Øyvind Lorgen | R23: jan.oyvind.lorgen@eidskog.kommune.no | S23: 98481011 | T23: 48868902 | U23: Eidskog Helsetun | V23: 196 | W23: Østlandet
A24: Eidsvoll kommune | B24: Eidsvoll | C24: 3035 | D24: VIKEN | E24: Badet kulturtun Eidsvoll | F24: Sykehusapoteket Ahus, Nordbyhagen | G24: 538449 | H24: Eidsvollbakken 42 | I24: 2080 | J24: Eidsvoll | K24: Tina Limbodal | L24: tina.limbodal@eidsvoll.kommune.no | M24: 48121536 | N24: Tina Limbodal | O24: tina.limbodal@eidsvoll.kommune.no | P24: 48121536 | Q24: Carl Magnus Jensen | R24: carl.magnus.jensen@eidsvoll.kommune.no | S24: 41191855 | T24: 48121536 | U24: Eidsvoll helsestasjon | V24: 167 | W24: Østlandet
A25: Elverum kommune | B25: Elverum | C25: 3420 | D25: INNLANDET | E25: Helsestasjonen - Elverum | F25: Sykehusapoteket Gjøvik | G25: 538034 | H25: Skogvegen 3 | I25: 2413 | J25: Elverum | K25: Helene Skybakk | L25: Helene.Skybak@elverum.kommune.no | M25: 96942894/62436060 | N25: Helene Skybak | O25: Helene.Skybak@elverum.kommune.no | P25: 969 42 894 | Q25: Jon Iver Fougner | R25: jon.iver.fougner@elverum.kommune.no | S25: 902 19 873 | U25: Helsehuset i Elverum | V25: 200 | W25: Østlandet
A26: Elverum/HSØ | B26: Elverum/HSØ | C26: 3420 | D26: INNLANDET | E26: Hernes institutt | F26: Sykehusapoteket Gjøvik | G26: 538235 | H26: Instituttvegen 34 | I26: 2410 | J26: Hernes | K26: Åshild Fatland | L26: af@hernesinstitutt.no | M26: 62422400/92618062 | N26: Åshild Fatland | O26: af@hernesinstitutt.no | P26: 62422400/92618062 | R26: olejo@hernesinstitutt.no | T26: 92618062 | U26: Hernes institutt | V26: 517 | W26: Østlandet
A27: Enebakk kommune | B27: Enebakk | C27: 3028 | D27: VIKEN | E27: Smittevern og vaksinering, Enebakk | F27: Sykehusapoteket Ahus, Nordbyhagen | G27: 538437 | H27: Ignaveien 18 | I27: 1912 | J27: Enebakk | K27: Vibeke Bjørkås | L27: vibeke.bjorkas@enebakk.kommune.no | M27: 477 86 429 | N27: Trude Hellmann Holte | O27: trude.hellmann.holte@enebakk.kommune.no | P27: 90192769 | Q27: Lars-Erik Fikke | R27: lfikke@me.com | S27: 92668324 | T27: 477 86 429 | U27: Enebakk Helsestasjon | V27: 160 | W27: Østlandet
A28: Engerdal kommune | B28: Engerdal | C28: 3425 | D28: INNLANDET | E28: Engerdal helsesenter | F28: Sykehusapoteket Gjøvik | G28: 538589 | H28: Futveien 8 | I28: 2443 | J28: Drevsjø | K28: Andi Cornelia Berndtsson | L28: andi.cornelia.berndtsson@engerdal.kommune.no | M28: 40024965 | N28: Stine Spånberg Husfloen | O28: Stine.Husfloen.Spanberg@engerdal.kommune.no | Q28: Ilona Pliadiene | R28: ilkapli@gmail.com | S28: 48893990 | T28: 40024965 | U28: Engerdal helsesenter | V28: 205 | W28: Østlandet
A29: Etnedal Kommune | B29: Etnedal | C29: 3450 | D29: INNLANDET | E29: Etnedal Helsehus, legekontor | F29: Sykehusapoteket Gjøvik | G29: 583044 | H29: Kyrkjevegen 12 | I29: 2890 | J29: Etnedal | K29: Tor Inge Kristianslund | L29: tor.inge.kristianslund@etnedal.kommune.no | M29: 61121330 / 48070520 | N29: Aud Bakken | O29: a.bakken@etnedal.kommune.no | P29: 99518353 | Q29: Tor Inge Kristianslund | R29: tor.inge.kristianslund@etnedal.kommune.no | S29: 61121330 / 48070520 | T29: 48070520 | U29: Etnedal Helsehus, legekontor | V29: 228 | W29: Østlandet
A30: Flesberg kommune | B30: Flesberg | C30: 3050 | D30: VIKEN | E30: Flesbergtunet bo- og service senter | F30: Sykehusapoteket Oslo, Ullevål | G30: 538167 | H30: Lyngdalsvegen 30 | I30: 3623 | J30: Lampeland | K30: Nina Stølen | L30: nina.evensen.stolen@flesberg.kommune.no | M30: 46811959 | N30: Frøydis Lislevatn | O30: , froydis.lislevatn@flesberg.kommune.no | P30: 47508978 | Q30: Einar Braathen | R30: Einar.Braaten@kongsberg.kommune.no | S30: 40203004 | T30: 46811959 | U30: Flesbergtunet bo- og service senter | V30: 182 | W30: Østlandet
A31: Flå kommune | B31: Flå | C31: 3039 | D31: VIKEN | E31: Flå helsestasjon | F31: Sykehusapoteket Oslo, Ullevål | G31: 538434 | H31: Sentrumsvegen 24 | I31: 3539 | J31: Flå | K31: Siv Merethe Glesne | L31: siv.merethe.glesne@flaa.kommune.no | M31: 32053622 / 95148061 | N31: Siv Merethe Glesne | O31: siv.merethe.glesne@flaa.kommune.no | P31: 32053622 / 95148061 | Q31: Roger Hyldmo | R31: roger.hyldmo@flaa.kommune.no | S31: 48132475 / 32053627 | T31: 95148061 | U31: Flå helsestasjon | V31: 171 | W31: Østlandet
A32: Folldal kommune | B32: Folldal | C32: 3429 | D32: INNLANDET | E32: Folldal Legekontor | F32: Sykehusapoteket Gjøvik | G32: 538510 | H32: Wilhelms veg 15 | I32: 2580 | J32: Folldal | K32: Ann-Kristin U. Furuhovde | L32: ann-kristin.furuhovde@folldal.kommune.no | M32: 479 75 422 | N32: Ann-Kristin U. Furuhovde | O32: ann-kristin.furuhovde@folldal.kommune.no | P32: 479 75 422 | Q32: Barbara Inauen | R32: Barbara.inauen@folldal.kommune.no | S32: 48 95 27 14 | T32: 47975422 | U32: Folldal Legekontor | V32: 209 | W32: Østlandet
A33: Fredrikstad kommune | B33: Fredrikstad | C33: 3004 | D33: VIKEN | E33: Kråkerøy Helsestasjon | F33: Sykehusapoteket Ahus, Nordbyhagen | G33: 538021 | H33: Kråkerøyveien 21 | I33: 1671 | J33: Kråkerøy | K33: Inger Johanne Bråten | L33: ingebr@fredrikstad.kommune.no | M33: 99468752 | N33: Nina Holmen Pedersen | O33: nihp@fredrikstad.kommune.no | P33: 69 95 94 50 | Q33: Guro Steine Letting | R33: gurs@fredrikstad.kommune.no | S33: 996 02 781 | T33: 99468752 | U33: Fredrikstad korttidssenter | V33: 139 | W33: Østlandet
A34: Fredrikstad/ Helse Sør Øst | B34: Fredrikstad/ Helse Sør Øst | C34: 3004 | D34: VIKEN | E34: Capio Anoreksi Senter | F34: Sykehusapoteket Ahus, Nordbyhagen | G34: 538222 | H34: Jens Wilhemsens gate 1 E | I34: 1676 | J34: Kråkerøy | K34: Eva Ogre | L34: eva.ogre@capio.no | M34: 69367100 | N34: Eva Ogre | O34: eva.ogre@capio.no | P34: 69361900 | T34: 69367100 | U34: Capio Anoreksi Senter | V34: 462 | W34: Østlandet
A35: Friskstiftelsen | B35: Friskstiftelsen | C35: 301 | D35: OSLO | E35: Friskstiftelsen Elverum | F35: Sykehusapoteket Oslo, Ullevål | G35: 538230 | H35: Hamarvegen 112 | I35: 2406 | J35: Elverum | K35: Eirin Valerie Kårevik | L35: eirin.valerie.karevik@friskstiftelsen.no | M35: 99415821 | N35: Eirin Valerie Kårevik | O35: eirin.valerie.karevik@friskstiftelsen.no | P35: 99415821 | R35: runar.hedenstad@friskstiftelsen.no | T35: 99415821 | U35: Friskstiftelsen | V35: 420 | W35: Østlandet
A36: Frogn kommune | B36: Frogn | C36: 3022 | D36: VIKEN | E36: Ullerud Helsebygg | F36: Sykehusapoteket Ahus, Nordbyhagen | G36: 538257 | H36: Ullerudveien 28 | I36: 1443 | J36: Drøbak | K36: Mikael H. Karijord | L36: mikael.karijord@frogn.kommune.no | M36: 40027367 | N36: Maria Martinsen/Christine Haugen | O36: maria.martinsen@frogn.kommune.no/Christine.Haugan@frogn.kommune.no | P36: 48103605/94007538 | Q36: Merete Nordaas Hvistendahl | R36: merete.hvistendahl@frogn.kommune.no | S36: 95288013 | T36: 40027367 | U36: Ullerud Helsebygg | V36: 154 | W36: Østlandet
A37: Furukollen Psykiatriske Senter | B37: Furukollen Psykiatriske Senter | C37: 3034 | D37: VIKEN | E37: Furukollen Psykiatriske Senter | F37: Sykehusapoteket Ahus, Nordbyhagen | G37: 538219 | H37: Svarverudvegen 200A | I37: 2150 | J37: Årnes | K37: Irene Tveter | L37: irene.tveter@sfps.no | M37: 950 50 523 | N37: Irene Tveter | O37: irene.tveter@sfps.no | P37: 950 50 523 | R37: roger@sfps.no | T37: 95050523 | U37: Furukollen Psykiatriske Senter | V37: 493 | W37: Østlandet
A38: Fyresdal kommune | B38: Fyresdal | C38: 3823 | D38: VESTFOLD OG TELEMARK | E38: Fyresdal legekontor | F38: Sykehusapoteket Skien | G38: 538400 | H38: Landstadvegen 35 | I38: 3870 | J38: Fyresdal | K38: Nina Breivik | L38: nina.breivik@fyresdal.kommune.no | M38: 35067300/90897855 | N38: Ragnhild Bjorheim | O38: ragnhild.bjorheim@fyresdal.kommune.no | P38: 35067300/97146527 | Q38: Karin Kristin Østerhus | R38: karin.osterhus@fyresdal.kommune.no | S38: 35067300 / 99691499 | T38: 97146527 | U38: Fyresdal legekontor | V38: 253 | W38: Østlandet
A39: Fürst Medisinsk Laboratorium | B39: Fürst Medisinsk Laboratorium | C39: 301 | D39: OSLO | E39: Fürst Medisinsk Laboratorium Oslo | F39: Sykehusapoteket Oslo, Ullevål | G39: 538071 | H39: Søren Bullsvei 25 | I39: 1051 | J39: Oslo | K39: Vibeke C. Reiling | L39: vcreiling@furst.no | M39: 920 29 888 | N39: Vibeke C. Reiling | O39: vcreiling@furst.no | P39: 920 29 888 | T39: 92029888 | U39: Fürst Medisinsk Laboratorium | V39: 405 | W39: Østlandet
A40: Færder kommune | B40: Færder | C40: 3811 | D40: VESTFOLD OG TELEMARK | E40: Smidsrød helsehus Færder | F40: Sykehusapoteket Skien | G40: 538003 | H40: Øreveien 7 | I40: 3140 | J40: Nøtterøy | K40: Maria T.Rindsem | L40: maria.tandberg.rindsem@faerder.kommune.no | M40: 905 25 428 | N40: Maria T.Rindsem | O40: maria.tandberg.rindsem@faerder.kommune.no | P40: 905 25 428 | Q40: Elin Nordstrand Jakobsen | R40: elin.jakobsen@faerder.kommune.no | S40: 91620590 | T40: 90525428 | U40: Smidsrød helsehus | V40: 241 | W40: Østlandet
A41: Gausdal kommune | B41: Gausdal | C41: 3441 | D41: INNLANDET | E41: Gausdal helsestasjon | F41: Sykehusapoteket Gjøvik | G41: 538564 | H41: Vestringsvegen 8 | I41: 2651 | J41: Østre Gausdal | K41: Anders Wold | L41: anders.wold@gausdal.kommune.no | M41: 917 06 484 | N41: Gudbrand Aanstad | O41: gudbrand.aanstad@gausdal.kommune.no | P41: 905 37 200 | Q41: Anders Brabrand | R41: anders.brabrand1@gausdal.kommune.no | S41: 990 45 124 | T41: 91706484 | U41: Gausdal helsestasjon | V41: 221 | W41: Østlandet
A42: Gjerdrum kommune | B42: Gjerdrum | C42: 3032 | D42: VIKEN | E42: Familiesenteret Gjerdrum | F42: Sykehusapoteket Ahus, Nordbyhagen | G42: 538554 | H42: Prestmosvegen 5 | I42: 2030 | J42: Nannestad | K42: Hilde Marie Jahr Ørbeck | L42: hilde.marie.jahr.orbeck@gjerdrum.kommune.no | M42: 66 10 63 10 / 474 86 536 | N42: Hilde Marie Jahr Ørbeck | O42: hilde.marie.jahr.orbeck@gjerdrum.kommune.no | P42: 66 10 63 10/ 474 86 536 | Q42: Jorunn Karterud Arnø | R42: jorunn.karterud.arno@gjerdrum.kommune.no | S42: 66 10 64 60 / 902 13 233 | T42: 47486536 | U42: Familiesenteret (Gjerdrum) | V42: 164 | W42: Østlandet
A43: Gjøvik kommune | B43: Gjøvik | C43: 3407 | D43: INNLANDET | E43: Gjøvik Rådhus | F43: Sykehusapoteket Gjøvik | G43: 538594 | H43: Kauffeldsdtsplass 1 | I43: 2810 | J43: Gjøvik | K43: Anita Whist | L43: Anita.Wisth@gjovik.kommune.no | M43: 97015747 | N43: Anita Wisth | O43: Anita.Wisth@gjovik.kommune.no | P43: 970 15 747 | Q43: Siri Fuglem Berg | R43: Siri.Fuglem-Berg@gjovik.kommune.no | S43: 90701011 | T43: 97015747 | U43: Gjøvik Rådhus | V43: 190 | W43: Østlandet
A44: Gol Kommune | B44: Gol | C44: 3041 | D44: VIKEN | E44: Kommunelegekontoret i Gol | F44: Sykehusapoteket Oslo, Ullevål | G44: 538479 | H44: Gamlevegen 4 | I44: 3550 | J44: Gol | K44: Ingebjørg By Teigen | L44: ingebjorg.by.teigen@gol.kommune.no | M44: 91348300 | N44: Ingebjørg By Teigen | O44: ingebjorg.by.teigen@gol.kommune.no | P44: 91348300 | Q44: Jagannivasan Thurainayagam | R44: Jagannivasan.Thurainayagam@gol.kommune.no | S44: 40909270 | T44: 91348300 | U44: Kommunelegekontoret i Gol | V44: 173 | W44: Østlandet
A45: Gran kommune | B45: Gran | C45: 3446 | D45: INNLANDET | E45: Apotek 1, Brandbu | F45: Sykehusapoteket Gjøvik | G45: 538580 | H45: Parkvegen 2 | I45: 2760 | J45: Brandbu | K45: Sissel Ludvigsen | M45: 94792760 | N45: Jorun Haukeli | O45: jorun.haukeli@gran.kommune.no | P45: 90 11 39 31 | Q45: Are Løken | R45: are.loken@gran.kommune.no | S45: 93 27 47 44 | T45: 94792760 | U45: Jaren helsestasjon | V45: 224 | W45: Østlandet
A46: Grue kommune | B46: Grue | C46: 3417 | D46: INNLANDET | E46: Furubo legesenter Kirkenær | F46: Sykehusapoteket Ahus, Nordbyhagen | G46: 538483 | H46: Energiveien 19 | I46: 2260 | J46: Kirkenær | K46: Ragni Skogrand | L46: ragni.skogrand@grue.kommune.no | M46: 928 67 137 | N46: Ragni Skogrand | O46: ragni.skogrand@grue.kommune.no | P46: 928 67 137 | Q46: Jan-Øyvind Lorgen | R46: Jan-Oyvind.Lorgen@grue.kommune.no | S46: 477 86 572 / 984 81 011 | T46: 92867137 | U46: Furubo legesenter | V46: 197 | W46: Østlandet
A47: Halden kommune | B47: Halden | C47: 3001 | D47: VIKEN | E47: Helsekontoret Halden | F47: Sykehusapoteket Ahus, Nordbyhagen | G47: 538053 | H47: Jac. Blochsgt 4 | I47: 1776 | J47: Halden | K47: Lars Frode Bjørk/Halvard Bø | L47: larsfrode.bjork@halden.kommune.no/halvard.bo@halden.kommune.no | M47: 95148237/93244052 | N47: Lars Frode Bjørk | O47: larsfrode.bjork@halden.kommune.no | P47: 95148237 | Q47: Kjersti Gjøsund | R47: kjersti.gjosund@halden.kommune.no | S47: 98217672 | T47: 95148237 | U47: Kommunelegekontoret | V47: 136 | W47: Østlandet
A48: Hamar kommune | B48: Hamar | C48: 3403 | D48: INNLANDET | E48: Smittevernkontoret, Hamar rådhus | F48: Sykehusapoteket Gjøvik | G48: 538464 | H48: Vangsvegen 51 Smittevernkontoret | I48: 2317 | J48: Hamar | K48: Leila Barmaki | L48: leila.barmaki@hamar.kommune.no | M48: 91801137 | N48: Leila Barmaki | O48: leila.barmaki@hamar.kommune.no | P48: 91801137 | Q48: Yvonne Hagerup / Jorid Nygårdshaug Aas | R48: yvonne.hagerup@hamar.kommune.no / jorid.nygardshaug.aas@hamar.kommune.no | S48: 90832495 / 940 11 256 | T48: 91801137 | U48: Smittevernkontoret, Hamar rådhus | V48: 188 | W48: Østlandet
A49: Helse Sør Øst | B49: Helse Sør Øst | C49: 3443 | D49: INNLANDET | E49: Blå Kors behandlingssenter Eina | F49: Sykehusapoteket Gjøvik | G49: 538253 | H49: Einavegen 1820 | I49: 2843 | J49: Eina | K49: Therese Alm Ludvigsen | L49: therese.ludvigsen@blakors.no | M49: 400 30 611 | N49: Therese Alm Ludvigsen | O49: therese.ludvigsen@blakors.no | P49: 400 30 611 | R49: brith.sjovold@blakors.no | T49: 40030611 | U49: Blå Kors behandlingssenter Eina | V49: 523 | W49: Østlandet
A50: Helse Sør- Øst RHF - Godthaab | B50: Helse Sør- Øst RHF - Godthaab | C50: 3024 | D50: VIKEN | E50: Godthaab Helse og Rehabilitering | F50: Sykehusapoteket Oslo, Ullevål | G50: 538171 | H50: Gamle Ringeriksvei 148 | I50: 1356 | J50: Bekkestua | K50: Mirela Njegic | L50: mirela.njegic@godthaab.no | M50: 95525774 | N50: Mirela Njegic | O50: mirela.njegic@godthaab.no | P50: 95525774 | T50: 95525774 | U50: Godthaab Helse og Rehabilitering | V50: 480 | W50: Østlandet
A51: Helse Sør- Øst RHF - N.K.S. Helsehus Akershus as | B51: Helse Sør- Øst RHF - N.K.S. Helsehus Akershus as | C51: 3029 | D51: VIKEN | E51: NKS Helsehus Akershus as | F51: Sykehusapoteket Ahus, Nordbyhagen | G51: 538173 | H51: Rektor Wolansvei 11 | I51: 1474 | J51: Lørenskog | K51: Monica Holst | L51: monica@nks-helsehus.no | M51: 91153949 | N51: Monica Holst | P51: 64003810 eller 91153949 | T51: 91153949 | U51: NKS Helsehus Akershus as | V51: 488 | W51: Østlandet
A52: Helse Sør Øst TSB | B52: Helse Sør Øst TSB | C52: 3451 | D52: INNLANDET | E52: ValdresKlinikken | F52: Sykehusapoteket Gjøvik | G52: 538195 | H52: Sørreisvegen 13 | I52: 2910 | J52: Aurdal | K52: Anne Døvre | L52: anne.dovre@valdresklinikken.no | M52: 97480736 | N52: Anne Døvre | O52: anne.dovre@valdresklinikken.no | P52: 97480736 | R52: postmotak@helse-sorost.no | T52: 97480736 | U52: ValdresKlinikken | V52: 528 | W52: Østlandet
A53: Helse Sør/Øst | B53: Helse Sør/Øst | C53: 3411 | D53: INNLANDET | E53: Kirkens bymisjon, avd Vesleien | F53: Sykehusapoteket Gjøvik | G53: 538539 | H53: Houmsvegen 77 | I53: 2385 | J53: Brumunddal | K53: Elin Hagelund | L53: elin.hagelund@bymisjon.no | M53: 9156752 | N53: Elin Hagelund | O53: elin.hagelund@bymisjon.no | P53: 91561572 | R53: unnake@helse-sorost.no | T53: 9156752 | U53: Kirkens bymisjon, avd Vesleien | V53: 514 | W53: Østlandet
A54: Helse Sør-Øst | B54: Helse Sør-Øst | C54: 3001 | D54: VIKEN | E54: Blå Kors Behandlingssenter Slemdal | F54: Sykehusapoteket Ahus, Nordbyhagen | G54: 538252 | H54: Tennisveien 4 | I54: 777 | J54: Oslo | K54: Lars Sandene Tolpinrud | L54: lars.tolpinrud@blakors.no | M54: 99 79 77 87 | N54: Lars Sandene Tolpinrud | O54: lars.tolpinrud@blakors.no | P54: 99 79 77 87 | R54: vold@blakors.no | T54: 99797787 | U54: Blå Kors Behandlingssenter Slemdal | V54: 456 | W54: Østlandet
A55: Helse Sør-Øst | B55: Helse Sør-Øst | C55: 3443 | D55: INNLANDET | E55: Unicare Steffensrud | F55: Sykehusapoteket Gjøvik | G55: 538209 | H55: Vestre Totenvei 1530 | I55: 2846 | J55: Bøverbru | K55: Jolita Glatkauskiene | L55: Jolita.glatkauskiene@unicare.no | M55: 94989207 | N55: Trude Hirgum | O55: trude.hirgum@helse-sorost.no | P55: 99390360 | T55: 94989207 | U55: Unicare Steffensrud | V55: 524 | W55: Østlandet
A56: Hemsedal kommune | B56: Hemsedal | C56: 3042 | D56: VIKEN | E56: Hemsedal legekontor | F56: Sykehusapoteket Oslo, Ullevål | G56: 538542 | H56: Hemsedalsvegen 2887 | I56: 3560 | J56: HEMSEDAL | K56: Hilde Birgitte Smedsgård Haug | L56: hilde.birgitte.haug@hemsedal.kommune.no | M56: 415 05 773 | N56: Gunhild Hustad | O56: gunhild.hustad@hemsedal.kommune.no | P56: 48241147 | Q56: Camilla Cecilie Underland | R56: Camilla.Underland@hemsedal.kommune.no | S56: 99380307 | T56: 41505773 | U56: Hemsedal legekontor | V56: 174 | W56: Østlandet
A57: Hjartdal kommune | B57: Hjartdal | C57: 3819 | D57: VESTFOLD OG TELEMARK | E57: Hjartdal helsestasjon | F57: Sykehusapoteket Skien | G57: 538602 | H57: Hågånvegen 17 | I57: 3692 | J57: Sauland | K57: Mona Gundersen | L57: mona.gundersen@hjartdal.kommune.no | M57: 90549968 | N57: Inga Tho | O57: inga.Tho@hjartdal.kommune.no | P57: 92289115 | Q57: Inga Tho | R57: inga.tho@hjartdal.kommune.no | S57: 92289115 | T57: 90549968 | U57: Hjartdal helsestasjon | V57: 249 | W57: Østlandet
A58: HLF Briskeby rehabilitering og utadrettede tjenester as | B58: HLF Briskeby rehabilitering og utadrettede tjenester as | C58: 301 | D58: OSLO | E58: HLF Briskeby Oslo | F58: Sykehusapoteket Oslo, Ullevål | G58: 538244 | H58: Lovisenberggata 15 A, 3. etasje | I58: 456 | J58: OSlo | K58: Anne Jorun Lundstein | L58: anne.jorun.lundstein@hlfbriskeby.no | M58: 410 20 143 | N58: Anne Jorun Lundstein | O58: anne.jorun.lundstein@hlfbriskeby.no | P58: 410 20 143 | R58: inge.bossen.thorsen@hlfbriskeby.no | T58: 41020143 | U58: HLF Briskeby | V58: 411 | W58: Østlandet
A59: Hol kommune | B59: Hol | C59: 3044 | D59: VIKEN | E59: Geilo helsestasjon | F59: Sykehusapoteket Oslo, Ullevål | G59: 538523 | H59: Trekanten 2H | I59: 3580 | J59: Geilo | K59: Ann Kristin Trillhus | L59: ann.kristin.trillhus@hol.kommune.no | M59: 95986400 | N59: Hege J. Isungset | O59: hege.isungset@hol.kommune.no | P59: 95980488 | Q59: Geir Strømmen | R59: geir.strommen@hol.kommune.no | S59: 45880251 | T59: 95986400 | U59: Geilo helsestasjon | V59: 176 | W59: Østlandet
A60: Hole Kommune | B60: Hole | C60: 3038 | D60: VIKEN | E60: Hole Helsestasjonen | F60: Sykehusapoteket Oslo, Ullevål | G60: 538618 | H60: Viksveien 30 | I60: 3530 | J60: Røyse | K60: Mette Skogmo/Elisa Robertsen | L60: mette.skogmo@hole kommune.no | M60: 46926173/99557464 | N60: Linda Skutberg | O60: linda.skutberg@hole.kommune.no | P60: 938 11 869 | Q60: Rolf R Qvernheim | R60: rolf.qvernheim@hole kommune.no | S60: 969 46 158 | T60: 46926173 | U60: Hole Kommune, Helsestasjonen | V60: 170 | W60: Østlandet
A61: Holmestrand kommune | B61: Holmestrand | C61: 3802 | D61: VESTFOLD OG TELEMARK | E61: Koronasenteret i Holmestrand | F61: Sykehusapoteket Skien | G61: 538359 | H61: Langgata 48 | I61: 3080 | J61: Holmestrand | K61: Ida Sofie Aagensen Røed/Heidi Bakke Johansen | L61: ida.sofie.aagesen.roed@holmestrand.kommune.no | M61: 47906472/95924923/99574154 | N61: Andreas Thunes | O61: andreas.thunes@holmestrand.kommune.no | P61: 93030098 | Q61: Ole Johan Bakke | R61: ole.johan.bakke@holmestrand.kommune.no | S61: 97680358 | T61: 47906472 | U61: Kommunelegekontoret i Holmestrand | V61: 234 | W61: Østlandet
A62: Horten kommune | B62: Horten | C62: 3801 | D62: VESTFOLD OG TELEMARK | E62: Rådhuset Horten | F62: Sykehusapoteket Skien | G62: 538251 | H62: Teatergata 11 | I62: 3187 | J62: Horten | K62: Linda Østern | L62: linda.ostern@horten.kommune.no | M62: 94857252 | N62: Linda Østern | O62: linda.ostern@horten.kommune.no | P62: 94857252 | Q62: Niels Kirkhus | R62: Niels.Kirkhus@horten.kommune.no | S62: 90279120 | T62: 94857252 | U62: Nidaros | V62: 233 | W62: Østlandet
A63: Hurdal kommune | B63: Hurdal | C63: 3037 | D63: VIKEN | E63: Hurdal helsestasjon | F63: Sykehusapoteket Ahus, Nordbyhagen | G63: 538653 | H63: Minneåsvegen 3 | I63: 2090 | J63: Hurdal | K63: Tia Linna | L63: tia.linna@hurdal.kommune.no | N63: Marianne Flage | O63: Marianne.kaland.flage@hurdal.kommune.no | P63: 47628010 | Q63: Carl Magnus Jensen | R63: Carl.magnus.jensen@eidsvoll.kommune.no | S63: 411 91 855 | U63: Hurdal helsestasjon | V63: 169 | W63: Østlandet
A64: Hvaler kommune | B64: Hvaler | C64: 3011 | D64: VIKEN | E64: Dypedalåsen Sykehjem, Hvaler | F64: Sykehusapoteket Ahus, Nordbyhagen | G64: 538353 | H64: Fv108 208 | I64: 1684 | J64: Vesterøy | K64: Trude Irgens | L64: truirg@hvaler.kommune.no | M64: 95101133 | N64: Amund Bjørke | O64: amub@hvaler.kommune.no , | P64: 99638085 | Q64: Anne Gyro Karlsen | R64: anykar@hvaler.kommune.no | S64: 47786387 | T64: 95101133 | U64: Hvaler Helsestasjon | V64: 143 | W64: Østlandet
A65: Høyenhall Helse og Rehabilitering AS | B65: Høyenhall Helse og Rehabilitering AS | C65: 3038 | D65: VIKEN | E65: Høyenhall Helse og Rehabilitering AS Hole | F65: Sykehusapoteket Oslo, Ullevål | G65: 538148 | H65: Åsheimsvei 3 | I65: 3530 | J65: Røyse | K65: Liv Grethe Hagen | L65: liv.grethe.hagen@aberia.no | M65: 92 08 18 63 | N65: Liv Grethe Hagen | O65: liv.grethe.hagen@aberia.no | P65: 92 08 18 63 | R65: trond.bjorkeslett@aberia.no | T65: 92081863 | U65: Høyenhall Helse og Rehabilitering AS | V65: 497 | W65: Østlandet
A66: Ideelt - Avtale med Helse Sør-Øst | B66: Ideelt - Avtale med Helse Sør-Øst | C66: 3405 | D66: INNLANDET | E66: Revmatismesykehuset Lillehammer (N.K.S Kløverinstitusjon) | F66: Sykehusapoteket Gjøvik | G66: 538367 | H66: Margrethe Grundtvigs veg 6 | I66: 2609 | J66: Lillehammer | U66: Revmatismesykehuset Lillehammer (N.K.S Kløverinstitusjon) | V66: 510 | W66: Østlandet
A67: Ideelt (?) - Godkjent av Helfo | B67: Ideelt (?) - Godkjent av Helfo | C67: 3024 | D67: VIKEN | E67: Sandvika Nevrosenter (LHL) | F67: Sykehusapoteket Oslo, Ullevål | G67: 538291 | H67: Sandviksveien 178 | I67: 1337 | J67: Sandvika | U67: Sandvika Nevrosenter (LHL) | V67: 483 | W67: Østlandet
A68: Ideelt (?) - Godkjent av Helfo | B68: Ideelt (?) - Godkjent av Helfo | C68: 3801 | D68: VESTFOLD OG TELEMARK | E68: LHL-sykehuset Vestfold | F68: Sykehusapoteket Skien | G68: 538168 | H68: Harald Pedersens gate 9 | I68: 3182 | J68: Horten | U68: LHL-sykehuset Vestfold | V68: 530 | W68: Østlandet
A69: Idrettens Helsesenter - Helse Sørøst | B69: Idrettens Helsesenter - Helse Sørøst | C69: 301 | D69: OSLO | E69: Idrettens Helsesenter Oslo | F69: Sykehusapoteket Oslo, Ullevål | G69: 538112 | H69: Ekebergveien 101 | I69: 1178 | J69: Oslo | K69: Heidi Arset | L69: heidi@idrettshelse.no | M69: 99 27 91 99 | N69: Heidi Arset | O69: heidi@idrettshelse.no | P69: 99 27 91 99 | R69: espen.rooth@idrettshelse.no | T69: 99279199 | U69: Idrettens Helsesenter | V69: 418 | W69: Østlandet
A70: Incognito Klinikk | B70: Incognito Klinikk | C70: 301 | D70: OSLO | E70: Incognito Klinikk Oslo | F70: Sykehusapoteket Oslo, Ullevål | G70: 538241 | H70: Apalløkkveien 8 | I70: 956 | J70: Oslo | K70: Therese Falkenhall | L70: tf@incognito.no | M70: 22 90 26 84 | N70: Therese Falkenhall | O70: tf@incognito.no | P70: 22 90 26 84 | R70: rvs@incognito.no | T70: 22902684 | U70: Incognito Klinikk | V70: 409 | W70: Østlandet
A71: Indre Østfold kommune | B71: Indre Østfold | C71: 3014 | D71: VIKEN | E71: Indre Østfold legevakt | F71: Sykehusapoteket Ahus, Nordbyhagen | G71: 538258 | H71: Sykehusgt 2 | I71: 1807 | J71: Askim | K71: Kristian Devold | L71: kristian.devold@io.kommune.no | M71: 92680596 | N71: Barbro Kvaal | O71: barbro.kvaal@io.kommune.no | P71: 90823981 | Q71: Barbro Kvaal | R71: barbro.kvaal@io.kommune.no | S71: 90823981 | T71: 92680596 | U71: Indre Østfold legevakt | V71: 146 | W71: Østlandet
A72: Jevnaker kommune | B72: Jevnaker | C72: 3053 | D72: VIKEN | E72: Jevnaker omsorgs- og rehabiliteringssenter | F72: Sykehusapoteket Oslo, Ullevål | G72: 538256 | H72: Ole B. Bergers veg 1 | I72: 3520 | J72: Jevnaker | K72: Anne Synnøve Sørli | L72: ANS@Jevnaker.kommune.no | M72: 40920073 | N72: Anne Synnøve Sørli | O72: ANS@Jevnaker.kommune.no | P72: 45606733 | Q72: Marthe Amanda Ottersen Bergli | R72: marthe.bergli@jevnaker.kommune.no | S72: 91736346 /46744511 | T72: 40920073 | U72: Jevnaker omsorgs- og rehabiliteringssenter | V72: 185 | W72: Østlandet
A73: Jevnaker kommune | B73: Jevnaker | C73: 3053 | D73: VIKEN | E73: Jevnaker omsorgs- og rehabiliteringssenter (JORS) | F73: Sykehusapoteket Oslo, Ullevål | G73: 113863 | H73: Ole B. Bergers veg 1 | I73: 3520 | J73: Jevnaker | K73: Anne Synnøve Sørli | L73: ANS@Jevnaker.kommune.no | M73: 45606733 | N73: Anne Synnøve Sørli | O73: ANS@Jevnaker.kommune.no | P73: 45606733 | T73: 45606733 | U73: Jevnaker omsorgs- og rehabiliteringssenter (JORS) | V73: 502 | W73: Østlandet
A74: Kirkens Bymisjon, Origosenteret | B74: Kirkens Bymisjon, Origosenteret | C74: 3018 | D74: VIKEN | E74: Kirkens Bymisjon, Origosenteret Våler i Østfold | F74: Sykehusapoteket Ahus, Nordbyhagen | G74: 538543 | H74: Tyritoppen 1 | I74: 1593 | J74: Svinndal | K74: Siri Kjelberg | L74: siri.kjelberg@bymisjon.no | M74: 90536644 | N74: Siri Kjelberg | O74: siri.kjelberg@bymisjon.no | P74: 90536644 | R74: siri.kjelberg@bymisjon.no | T74: 90536644 | U74: Kirkens Bymisjon, Origosenteret | V74: 474 | W74: Østlandet
A75: Kongsberg Kommune | B75: Kongsberg | C75: 3006 | D75: VIKEN | E75: Kongsberg interkommunale legevakt | F75: Sykehusapoteket Oslo, Ullevål | G75: 538178 | H75: Wergelandsvei 3 | I75: 3613 | J75: Kongsberg | K75: Synnøve Korsnes Berget | L75: synnove.holte.korsnes@kongsberg.kommune.no | M75: 32770634 | N75: Hilde Vesetrud Foss | O75: hilde.vesetrud.foss@kongsberg.kommune.no | P75: 900 85 432/328 66 5 13 | Q75: Ane Wigenstad Kvamme | R75: ane.wigenstad.kvamme@kongsberg.kommune.no | S75: 476 53 354 | T75: 32770634 | U75: Kongsberg interkommunale legevakt | V75: 141 | W75: Østlandet
A76: Kongsberg Kommune | B76: Kongsberg | C76: 3006 | D76: VIKEN | E76: Heistadmoen leir | F76: Sykehusapoteket Oslo, Ullevål | G76: 538686 | H76: Heistadmoen leir | I76: 3608 | J76: Heistadmoen | K76: Erlend Winther Johnsen | M76: 41278701 | Q76: Magne Wiken Sunde | R76: msunde@fhi.no | S76: 48255183 | T76: 41278701 | W76: Østlandet
A77: Kongsvinger kommune | B77: Kongsvinger | C77: 3401 | D77: INNLANDET | E77: Kongsvinger kommune v/Legevakten, Ambulanseinngang | F77: Sykehusapoteket Ahus, Nordbyhagen | G77: 538436 | H77: Parkveien 35 | I77: 2212 | J77: Kongsvinger | K77: Linda Langfoss | L77: Arnhild.julseth@kongsvinger.kommune.no | M77: 90808267 | N77: Ida Torp Amundsen | O77: Ida.Torp.Amundsen@kongsvinger.kommune.no | P77: 980 12 109 | Q77: Camilla Kvalø Smedtorp | R77: Camilla.Kvalo.Smedtorp@kongsvinger.kommune.no | S77: 971 36 164 | T77: 90808267 | U77: Kongsvinger helsestasjon | V77: 187 | W77: Østlandet
A78: Kragerø kommune | B78: Kragerø | C78: 3814 | D78: VESTFOLD OG TELEMARK | E78: Kragerø legevakt | F78: Sykehusapoteket Skien | G78: 538457 | H78: Gamle Kragerøvei 32 | I78: 3770 | J78: Kragerø | K78: Tove Karin Jansen | L78: tove.jansen@kragero.kommune.no | M78: 48882205 | N78: Tove Karin Jansen | O78: tove.jansen@kragero.kommune.no | P78: 48882205 | Q78: Ivar Andreas Skogvold | R78: Ivar.Skogvold@kragero.kommune.no | S78: 98287806 | T78: 48882205 | U78: Kragerø helsestasjon | V78: 244 | W78: Østlandet
A79: Krødsherad kommune | B79: Krødsherad | C79: 3046 | D79: VIKEN | E79: Kryllingheimen Krødsherad | F79: Sykehusapoteket Oslo, Ullevål | G79: 538018 | H79: Norestrand 20 | I79: 3536 | J79: Noresund | K79: Janne Johannessen | L79: Janne.johannessen@krodsherad.kommune.no | M79: 46 44 44 15 / 45 86 44 01 | N79: Ellen Fremgaard | O79: Ellen.Fremgaard@krodsherad.kommune.no | Q79: Beate Smetbak | R79: Beate.Smetbak@modum.kommune.no | S79: 40808991 | T79: 46444415 | U79: Kryllingheimen | V79: 178 | W79: Østlandet
A80: Kviteseid kommune | B80: Kviteseid | C80: 3821 | D80: VESTFOLD OG TELEMARK | E80: Kviteseid legesenter | F80: Sykehusapoteket Skien | G80: 538439 | H80: Granlivegen 1A | I80: 3850 | J80: Kviteseid | K80: Ann Kristin Nordbø | L80: ann.nordbo@kviteseid.kommune.no | M80: 350 68 250 | N80: Ann Kristin Nordbø | O80: ann.nordbo@kviteseid.kommune.no | P80: 350 68 250 | Q80: Anne Ruth Syrtveit Mikalsen | R80: anne.mikalsen@kviteseid.kommune.no | S80: 47663349 | T80: 35068250 | U80: Kviteseid legesenter | V80: 251 | W80: Østlandet
A81: Landaasen Rehabilitering AS | B81: Landaasen Rehabilitering AS | C81: 3447 | D81: INNLANDET | E81: Unicare Landaasen | F81: Sykehusapoteket Gjøvik | G81: 538225 | H81: Landåsvegen 747 | I81: 2861 | J81: Landåsbygda | K81: Tone M. Cross | L81: tone.merete.cross@unicare.no | M81: 97776392 | N81: Tone M. Cross | O81: tone.merete.cross@unicare.no | P81: 97776392 | R81: oystein.torp@unicare.no | T81: 97776392 | U81: Unicare Landaasen | V81: 526 | W81: Østlandet
A82: Larvik kommune | B82: Larvik | C82: 3805 | D82: VESTFOLD OG TELEMARK | E82: Larvik Helsehus | F82: Sykehusapoteket Skien | G82: 538027 | H82: Byskogveien 5 | I82: 3257 | J82: Larvik | K82: Cecilie Lyngra Seierstad | L82: cecilie.lyngra.seierstad@larvik.kommune.no | M82: 98231490 | N82: May-Lill Kristoffersen | O82: may-lill.kristoffersen@larvik.kommune.no | P82: 98231925 | Q82: Dorthe Huse | R82: dorthe.huse@larvik.kommune.no | S82: 97664403 | T82: 98231490 | U82: Kanda AS | V82: 237 | W82: Østlandet
A83: Lesja Kommune | B83: Lesja | C83: 3432 | D83: INNLANDET | E83: Lesja legekontor | F83: Sykehusapoteket Gjøvik | G83: 538596 | H83: Romsdalsvegen 1382 | I83: 2665 | J83: Lesja | K83: Marita Aaheim | L83: marita.aaheim@lesja.kommune.no | M83: 94791575 | N83: Marita Aaheim | O83: marita.aaheim@lesja.kommune.no | P83: 94791575 | Q83: Kristine Stuedal | R83: kristine.stuedal@lesja.kommune.no | S83: 61244200 | T83: 94791575 | U83: Lesja Helsehus | V83: 212 | W83: Østlandet
A84: LHL- sykehuset Gardermoen | B84: LHL- sykehuset Gardermoen | C84: 3033 | D84: VIKEN | E84: LHL-sykehuset Gardermoen | F84: Sykehusapoteket Ahus, Nordbyhagen | G84: 538207 | H84: Ragnar Strøms veg 10 | I84: 2067 | J84: Jessheim | K84: Anne Marit Græe | L84: annemarit.graee@lhl.no | M84: 918 53 041 | N84: Anne Marit Græe | O84: annemarit.graee@lhl.no | P84: 918 53 041 | R84: bente.doknes@lhl.no | T84: 91853041 | U84: LHL-sykehuset Gardermoen | V84: 492 | W84: Østlandet
A85: Lier kommune | B85: Lier | C85: 3049 | D85: VIKEN | E85: Lier vaksinesenter | F85: Sykehusapoteket Oslo, Ullevål | G85: 538316 | H85: Terminalen 16 | I85: 3414 | J85: Lierstranda | K85: Camilla Halvorsen | L85: camilla.halvorsen@lier.kommune.no | M85: 95456950 | N85: Martine Fosse Linderman | O85: martine.fosse.linderman@lier.kommune.no | P85: 94247759 | Q85: Ingrid Bjerring | R85: Ingrid.Bjerring@lier.kommune.no | S85: 41907666 | T85: 95456950 | U85: Cater Drammen AS | V85: 181 | W85: Østlandet
A86: Lillehammer kommune | B86: Lillehammer | C86: 3405 | D86: INNLANDET | E86: Lillehammer Helsehus | F86: Sykehusapoteket Gjøvik | G86: 538075 | H86: Gudbransdalsvegen 235 | I86: 2619 | J86: Lillehammer | K86: Sigrun Jøndal | L86: sigrun.jondal@lillehammer.kommune.no | M86: 90296270/61107880 | N86: Håkon Kolden | O86: hakon.kolden@lillehammer.kommune.no | P86: 92245612 | Q86: Morten Bergkåsa | R86: morten.bergkasa@lillehammer.kommune.no | S86: 996 40 685 | T86: 90296270 | U86: Lillehammer Helsehus | V86: 189 | W86: Østlandet
A87: Lillehammer kommune | B87: Jørstadmoen leir | C87: 3405 | D87: INNLANDET | E87: Jørstadmoen sykestua, bygg 50 | F87: Sykehusapoteket Gjøvik | G87: 538672 | H87: Jørstadmoveien 600 | I87: 2625 | J87: Fåberg | K87: Berit Haugstad Mork | M87: 61103508/45241314 | Q87: Frode Oosterling | S87: 92051609 | T87: 61103508 | W87: Østlandet
A88: Lillestrøm kommune | B88: Lillestrøm | C88: 3030 | D88: VIKEN | E88: Fetsund kommunehus | F88: Sykehusapoteket Ahus, Nordbyhagen | G88: 538462 | H88: Kirkeveien 85 | I88: 1900 | J88: Fetsund | K88: Ranjan Chrisanthar | L88: ranjan.chrisanthar@lillestrom.kommune.no | M88: 94541880 | N88: Marianne Gossner/Isoda Moradi/Ranjan Chrisanthar | O88: marianne.gossner@lillestrom.kommune.no/isoda.moradi@lillestrom.kommune.no/ranjan.chrisanthar@lillestrom.kommune.no | P88: 9135664(Marianne)93633031(Marianne)/41720831(Isoda)/94541880(Ranjan) | Q88: Bettina Fossberg/Nilam Shakeel | R88: befo@lillestrom.kommune.no/nish01@lillestrom.kommune.no | S88: 95092794/45233802 | T88: 94541880 | U88: Lillestrøm rådhus | V88: 162 | W88: Østlandet
A89: Lom kommune | B89: Lom | C89: 3434 | D89: INNLANDET | E89: Lom helsesenter | F89: Sykehusapoteket Gjøvik | G89: 538532 | H89: Krokamyrvegen 18 | I89: 2686 | J89: Lom | K89: Hanne Stokke Moen | L89: Hanne.Stokke.Moen@lom.kommune.no | M89: 48092331 | N89: Hanne Stokke Moen | O89: Hanne.Stokke.Moen@lom.kommune.no | P89: 48092331 | Q89: Gro Nørstebø Moshagen | R89: gro.norstebo.moshagen@lom.kommune.no | S89: 45038070 | T89: 48092331 | U89: Lom helsesenter | V89: 214 | W89: Østlandet
A90: Lovisenberg Diakonale Sykehus | B90: Lovisenberg Diakonale Sykehus | C90: 301 | D90: OSLO | E90: Lovisenberg sykehusapotek | F90: Sykehusapoteket Oslo, Ullevål | G90: 538609 | H90: Lovisenberggata 17 | I90: 456 | J90: Oslo | K90: Anne Marit Pedersen-Bjergaard | L90: AnneMarit.Pedersen-Bjergaard@lds.no | M90: 97792093 | N90: Urszula Jadczak | O90: uaj@lds.no | P90: 47807377 | R90: Tone.Ikdahl@lds.no | T90: 97792093 | U90: Lovisenberg sykehusapotek | V90: 410 | W90: Østlandet
A91: Lukas stiftelsen - Skjelfoss psykiatriske senter | B91: Lukas stiftelsen - Skjelfoss psykiatriske senter | C91: 3014 | D91: VIKEN | E91: Skjelfoss psykiatriske senter | F91: Sykehusapoteket Ahus, Nordbyhagen | G91: 538224 | H91: Bråteveien 31 | I91: 1827 | J91: Hobøl | K91: Ragnhild Marie Olsen | L91: rte@skjelfoss.no | M91: 97650509 | N91: Ragnhild Marie Olsen | O91: rte@skjelfoss.no | P91: 97650509 | R91: sol@skjelfoss.no | T91: 97650509 | U91: Skjelfoss psykiatriske senter | V91: 471 | W91: Østlandet
A92: Lunner Kommune | B92: Lunner | C92: 3054 | D92: VIKEN | E92: Lunner Helsestasjon | F92: Sykehusapoteket Gjøvik | G92: 538440 | H92: Sandsvegen 1 | I92: 2740 | J92: Roa | K92: Mette Nilsen Hole | L92: mette.nilsen.hole@lunner.kommune.no | M92: 97719298 | N92: Camilla Worvik Orbraaten | O92: Camilla.Orbraaten@lunner.kommune.no | P92: 92688923 | Q92: Bjarne E. Oure | R92: bjarne.oure@lunner.kommune.no | S92: 41476679 | T92: 97719298 | U92: Lunner Helsestasjon | V92: 186 | W92: Østlandet
A93: Lørenskog kommune | B93: Lørenskog | C93: 3029 | D93: VIKEN | E93: Vaksinekontoret Lørenskog | F93: Sykehusapoteket Ahus, Nordbyhagen | G93: 538526 | H93: Festplassen 1, 7.etg., Lørenskog hus | I93: 1473 | J93: Lørenskog | K93: Hanne Bruhn Sørensen | L93: hansor@lorenskog.kommune.no | M93: 48267177 | N93: Angelika Johnsen | O93: angjoh@lorenskog.kommune.no | P93: 476 93 556 | Q93: Randi Mjøen | R93: ranmjo@lorenskog.kommune.no | S93: 902 79 674/477 93 611 | T93: 48267177 | U93: Vaksinekontoret | V93: 161 | W93: Østlandet
A94: Løten kommune | B94: Løten | C94: 3412 | D94: INNLANDET | E94: Løten legesenter | F94: Sykehusapoteket Gjøvik | G94: 538081 | H94: Stasjonsv 13 c | I94: 2340 | J94: Løten | K94: Sture Wold | L94: sture.wold@loten.kommune.no | M94: 90691024 | N94: Helga Arneberg | O94: helga.arneberg@loten.kommune.no | P94: 97506521 | Q94: Yvonne Hagerup / Jorid Nygårdshaug Aas | R94: yvonne.hagerup@hamar.kommune.no / jorid.nygardshaug.aas@hamar.kommune.no | S94: 90832495 / 940 11 256 | T94: 90691024 | U94: Løten legesenter | V94: 192 | W94: Østlandet
A95: Marker kommune | B95: Marker | C95: 3013 | D95: VIKEN | E95: Marker helsestasjon | F95: Sykehusapoteket Ahus, Nordbyhagen | G95: 538597 | H95: Rådhuset, Storgt. 60, | I95: 1870 | J95: ØRJE | K95: Åse Arneberg | L95: ase.arneberg@marker.kommune.no | M95: 45403925 | N95: Åse Arneberg | O95: ase.arneberg@marker.kommune.no | P95: 45403925 | Q95: Golbon Sadrzadeh | R95: golbon.sadrzadeh@marker.kommune.no | S95: 98912395 | T95: 45403925 | U95: Marker helsestasjon | V95: 145 | W95: Østlandet
A96: Martina Hansens Hospital | B96: Martina Hansens Hospital | C96: 3024 | D96: VIKEN | E96: Martina Hansens Hospital | F96: Sykehusapoteket Oslo, Ullevål | G96: 538169 | H96: Dønskiveien 8 | I96: 1346 | J96: Gjettum | K96: Katrine Barlund Lefdal | L96: katrine.barlund.Lefdal@mhh.no | M96: 91879658 | N96: Katrine Barlund Lefdal | O96: katrine.barlund.Lefdal@mhh.no | P96: 91879658 | R96: PSB@mhh.no | T96: 91879658 | U96: Martina Hansens Hospital | V96: 479 | W96: Østlandet
A97: Midt-Telemark kommune | B97: Midt-Telemark | C97: 3817 | D97: VESTFOLD OG TELEMARK | E97: Helsestasjonen i Midt-Telemark | F97: Sykehusapoteket Skien | G97: 538587 | H97: Lektorvegen 12 | I97: 3800 | J97: Bø i Telemark | K97: Gro Pershaug Tinnesand | L97: grti1004@mt.kommune.no | M97: 90988109 | N97: Gro Pershaug Tinnesand | O97: grti1004@mt.kommune.no | P97: 90988109 | Q97: Kristin Sekse | R97: krvi1601@mt.kommune.no / sonil2004@mt.kommune.no | S97: 40913939 | T97: 90988109 | U97: Helsestasjonen i Midt-Telemark | V97: 247 | W97: Østlandet
A98: Modum kommune | B98: Modum | C98: 3047 | D98: VIKEN | E98: Smittevernsenteret Modum kommune | F98: Sykehusapoteket Oslo, Ullevål | G98: 538133 | H98: Industriveien 42 | I98: 3340 | J98: Åmot | K98: Gro Mari Horne/Hanne Mjølid Braathen | L98: gro.mari.horne@modum.kommune.no | M98: 91162276/91574209 | N98: Eva-Kristine Hansen | O98: Eva-kristine.hansen@modum.kommune.no | P98: 977 01 073/ 957 02 435 | Q98: Beate Smetbak | R98: beate.smetbak@modum.kommune.no | S98: 40808991 | T98: 91162276 | U98: Modumheimen Sykehjem | V98: 179 | W98: Østlandet
A99: Moss kommune | B99: Moss | C99: 3002 | D99: VIKEN | E99: Smittevernkontoret, Moss og Våler | F99: Sykehusapoteket Ahus, Nordbyhagen | G99: 538029 | H99: Kirkegata 14, inngang A | I99: 1530 | J99: Moss | K99: Anne Mette Dalby | L99: Anne.Mette.Dalby@moss.kommune.no | M99: 96945925 | N99: Anne Mette Dalby/Sunniva | O99: Anne.Mette.Dalby@moss.kommune.no | P99: 96945925 | Q99: Kristian Kroghus | R99: Kristian.Krogshus@moss.kommune.no | S99: 69 24 80 00 | T99: 96945925 | U99: Rygge Sivile Lufthavn | V99: 137 | W99: Østlandet
A100: Moss kommune | B100: Rygge flystasjon | C100: 3002 | D100: VIKEN | E100: Rygge flystasjon/134LV/Baseskv/Sanitetsseksjonen | F100: Sykehusapoteket Ahus, Nordbyhagen | G100: 538680 | H100: Flyplassveien 300 | I100: 1580 | J100: Rygge | K100: Eivind Bunæs | M100: 69238134/69237066 | Q100: Sverre Vanvik | S100: 69237032 | T100: 69238134 | W100: Østlandet
...

Sheet Leveringsinfo
A1: Ordrenr. | B1: Informasjon om levering
A2: 390026663 | B2: Kontakt meg 10 minutter før levering, jeg har kontor et annet sted. Må rekke å komme.
A3: 390026500 | B3: Leveres til helsestasjonssjef Kjerstin Hagland -tlf 47261463
A4: 390027135 | B4: skal leveres vaktrom Observasjonsposten 5 etg
A5: 390027182 | B5: Ring 99548425 grunnet begrenset åpningstid
A6: 390026856 | B6: Ring oss hvis ytterdøren er låst ved levering, tlf 99708557
A7: 390026811 | B7: Leveres på lab i Fredrikstad mellom kl 08-15.
A8: 390026871 | B8: Leveres i 1.etasje, bydelskontoret
A9: 390027176 | B9: Andre Strømstad må bli ringt før levering. 92679768.
A10: 390026727 | B10: Ring serviceteam tlf 40027367
A11: 390026905 | B11: Ring 57839735 ved levering. Dersom ikke svar leveres vaksinene på kjølen på mikrobiologen.
A12: 390026375 | B12: Senere levering går til sykehjemmet. Samme bygg, men annen inngang.
A13: 390026477 | B13: Leveres i resepsjonen. Mottaker Andreas Voraa
... A34: 390026768 | B34: Leveres på Legekontoret

Sheet Marius cleanup
A1: K.nr - FHI | B1: Artikkelnr | C1: Ordrenr (muitple FHI) | D1: Nr 1 | E1: Nr 3 | F1: Vaxigrip | G1: Influvac | H1: Fluad | I1: Fluarix | J1: Antall kolli | K1: Ant. kolli CONTROL | L1: DIFF | M1: Volum | N1: Bruttovekt | O1: Sporingsnr. | P1: Sporingsnr control | Q1: Checksum | R1: Ant. Pakninger hetteglass | S1: Navn på leveringssted | T1: Adresselinje 1 | U1: Adresselinje 2 | V1: Postnr. | W1: Poststed | X1: Navn | Y1: Telefon1 | Z1: Navn opphentingssted | AA1: Adresselinje 1 | AB1: Adresselinje 2 | AC1: Postnr | AD1: Postested | AE1: Kontakperson | AF1: Telefonnr | AG1: Volum | AH1: Bruttovekt | AI1: Rute | AJ1: Container | AK1: Rekkefølge | AL1: Navn Sjåfør | AM1: Dato henting | AN1: Tidspunkt for henting | AO1: Dato levering | AP1: KM fra start | AQ1: Klokken | AR1: Ferge/Bom Fee | AS1: AWB | AT1: KN: Produkt | AU1: KN: XML
A2: =#REF! -> #REF! | B2: =#REF! -> #REF! | C2: =#REF! -> #REF! | D2: =#REF! -> #REF! | E2: =#REF! -> #REF! | F2: =#REF! -> #REF! | G2: =#REF! -> #REF! | H2: =#REF! -> #REF! | ... J2: =#REF! -> #REF! | K2: =D2+E2+F2+G2+H2+I2 -> #REF! | L2: =J2-K2 -> #REF! | M2: =D2*#REF!+'Marius cleanup'!E2*#REF!+'Marius cleanup'!F2*#REF!+'Marius cleanup'!G2*#REF!+'Marius cleanup'!H2*#REF!+'Marius cleanup'!I2*#REF! -> #REF! | N2: =D2*#REF!+'Marius cleanup'!E2*#REF!+'Marius cleanup'!F2*#REF!+'Marius cleanup'!G2*#REF!+'Marius cleanup'!H2*#REF!+'Marius cleanup'!I2*#REF! -> #REF! | O2: =#REF! -> #REF! | P2: =O2-Q2 -> 0 | Q2: =O2-P2 -> 390029280 | R2: =#REF! -> #REF! | S2: =#REF! -> #REF! | T2: =#REF! -> #REF! | U2: =#REF! -> #REF! | V2: =#REF! -> #REF! | W2: =#REF! -> #REF! | X2: =#REF! -> #REF! | Y2: =#REF! -> #REF! | Z2: =SHA!A$15 -> Folkehelseinstituttet, Vaksineforsyning | AA2: =SHA!B$15 -> Myrens verksted 6J | AC2: =SHA!C$15 -> 473 | AD2: =SHA!D$15 -> Oslo | AE2: =SHA!E$15 -> Kari Opheim | AF2: =SHA!F$15 -> 95752748 | AG2: =M2 -> #REF! | AH2: =N2 -> #REF!
A3: =#REF! -> #REF! | B3: =#REF! -> #REF! | C3: =#REF! -> #REF! | D3: =#REF! -> #REF! | E3: =#REF! -> #REF! | F3: =#REF! -> #REF! | G3: =#REF! -> #REF! | H3: =#REF! -> #REF! | ... J3: =#REF! -> #REF! | K3: =D3+E3+F3+G3+H3+I3 -> #REF! | L3: =J3-K3 -> #REF! | M3: =D3*#REF!+'Marius cleanup'!E3*#REF!+'Marius cleanup'!F3*#REF!+'Marius cleanup'!G3*#REF!+'Marius cleanup'!H3*#REF!+'Marius cleanup'!I3*#REF! -> #REF! | N3: =D3*#REF!+'Marius cleanup'!E3*#REF!+'Marius cleanup'!F3*#REF!+'Marius cleanup'!G3*#REF!+'Marius cleanup'!H3*#REF!+'Marius cleanup'!I3*#REF! -> #REF! | O3: =#REF! -> #REF! | P3: =O3-Q3 -> 0 | Q3: =O3-P3 -> 390029280 | R3: =#REF! -> #REF! | S3: =#REF! -> #REF! | T3: =#REF! -> #REF! | U3: =#REF! -> #REF! | V3: =#REF! -> #REF! | W3: =#REF! -> #REF! | X3: =#REF! -> #REF! | Y3: =#REF! -> #REF! | Z3: =SHA!A$15 -> Folkehelseinstituttet, Vaksineforsyning | AA3: =SHA!B$15 -> Myrens verksted 6J | AC3: =SHA!C$15 -> 473 | AD3: =SHA!D$15 -> Oslo | AE3: =SHA!E$15 -> Kari Opheim | AF3: =SHA!F$15 -> 95752748 | AG3: =M3 -> #REF! | AH3: =N3 -> #REF! | AW3: Volum
A4: =#REF! -> #REF! | B4: =#REF! -> #REF! | C4: =#REF! -> #REF! | D4: =#REF! -> #REF! | E4: =#REF! -> #REF! | F4: =#REF! -> #REF! | G4: =#REF! -> #REF! | H4: =#REF! -> #REF! | ... J4: =#REF! -> #REF! | K4: =D4+E4+F4+G4+H4+I4 -> #REF! | L4: =J4-K4 -> #REF! | M4: =D4*#REF!+'Marius cleanup'!E4*#REF!+'Marius cleanup'!F4*#REF!+'Marius cleanup'!G4*#REF!+'Marius cleanup'!H4*#REF!+'Marius cleanup'!I4*#REF! -> #REF! | N4: =D4*#REF!+'Marius cleanup'!E4*#REF!+'Marius cleanup'!F4*#REF!+'Marius cleanup'!G4*#REF!+'Marius cleanup'!H4*#REF!+'Marius cleanup'!I4*#REF! -> #REF! | O4: =#REF! -> #REF! | P4: =O4-Q4 -> 0 | Q4: =O4-P4 -> 390029280 | R4: =#REF! -> #REF! | S4: =#REF! -> #REF! | T4: =#REF! -> #REF! | U4: =#REF! -> #REF! | V4: =#REF! -> #REF! | W4: =#REF! -> #REF! | X4: =#REF! -> #REF! | Y4: =#REF! -> #REF! | Z4: =SHA!A$15 -> Folkehelseinstituttet, Vaksineforsyning | AA4: =SHA!B$15 -> Myrens verksted 6J | AC4: =SHA!C$15 -> 473 | AD4: =SHA!D$15 -> Oslo | AE4: =SHA!E$15 -> Kari Opheim | AF4: =SHA!F$15 -> 95752748 | AG4: =M4 -> #REF! | AH4: =N4 -> #REF! | AW4: 5 | AX4: =SUMIFS($AG:$AG,$AI:$AI,$AW4,$AJ:$AJ,RIGHT(AX$4,(LEN(AX$4)-5))) -> 0 | AY4: =SUMIFS($AG:$AG,$AI:$AI,$AW4,$AJ:$AJ,RIGHT(AY$4,(LEN(AY$4)-5))) -> 0 | AZ4: =SUMIFS($AG:$AG,$AI:$AI,$AW4,$AJ:$AJ,RIGHT(AZ$4,(LEN(AZ$4)-5))) -> 0 | BA4: =SUMIFS($AG:$AG,$AI:$AI,$AW4,$AJ:$AJ,RIGHT(BA$4,(LEN(BA$4)-5))) -> 0 | BB4: =SUMIFS($AG:$AG,$AI:$AI,$AW4,$AJ:$AJ,RIGHT(BB$4,(LEN(BB$4)-5))) -> 0 | BC4: =SUMIFS($AG:$AG,$AI:$AI,$AW4,$AJ:$AJ,RIGHT(BC$4,(LEN(BC$4)-5))) -> 0 | BH4: =VLOOKUP(BF4,Sjåførliste!A:B,2,FALSE) -> #N/A
A5: =#REF! -> #REF! | B5: =#REF! -> #REF! | C5: =#REF! -> #REF! | D5: =#REF! -> #REF! | E5: =#REF! -> #REF! | F5: =#REF! -> #REF! | G5: =#REF! -> #REF! | H5: =#REF! -> #REF! | ... J5: =#REF! -> #REF! | K5: =D5+E5+F5+G5+H5+I5 -> #REF! | L5: =J5-K5 -> #REF! | M5: =D5*#REF!+'Marius cleanup'!E5*#REF!+'Marius cleanup'!F5*#REF!+'Marius cleanup'!G5*#REF!+'Marius cleanup'!H5*#REF!+'Marius cleanup'!I5*#REF! -> #REF! | N5: =D5*#REF!+'Marius cleanup'!E5*#REF!+'Marius cleanup'!F5*#REF!+'Marius cleanup'!G5*#REF!+'Marius cleanup'!H5*#REF!+'Marius cleanup'!I5*#REF! -> #REF! | O5: =#REF! -> #REF! | P5: =O5-Q5 -> 0 | Q5: =O5-P5 -> 390029280 | R5: =#REF! -> #REF! | S5: =#REF! -> #REF! | T5: =#REF! -> #REF! | U5: =#REF! -> #REF! | V5: =#REF! -> #REF! | W5: =#REF! -> #REF! | X5: =#REF! -> #REF! | Y5: =#REF! -> #REF! | Z5: =SHA!A$15 -> Folkehelseinstituttet, Vaksineforsyning | AA5: =SHA!B$15 -> Myrens verksted 6J | AC5: =SHA!C$15 -> 473 | AD5: =SHA!D$15 -> Oslo | AE5: =SHA!E$15 -> Kari Opheim | AF5: =SHA!F$15 -> 95752748 | AG5: =M5 -> #REF! | AH5: =N5 -> #REF!
A6: =#REF! -> #REF! | B6: =#REF! -> #REF! | C6: =#REF! -> #REF! | D6: =#REF! -> #REF! | E6: =#REF! -> #REF! | F6: =#REF! -> #REF! | G6: =#REF! -> #REF! | H6: =#REF! -> #REF! | ... J6: =#REF! -> #REF! | K6: =D6+E6+F6+G6+H6+I6 -> #REF! | L6: =J6-K6 -> #REF! | M6: =D6*#REF!+'Marius cleanup'!E6*#REF!+'Marius cleanup'!F6*#REF!+'Marius cleanup'!G6*#REF!+'Marius cleanup'!H6*#REF!+'Marius cleanup'!I6*#REF! -> #REF! | N6: =D6*#REF!+'Marius cleanup'!E6*#REF!+'Marius cleanup'!F6*#REF!+'Marius cleanup'!G6*#REF!+'Marius cleanup'!H6*#REF!+'Marius cleanup'!I6*#REF! -> #REF! | O6: =#REF! -> #REF! | P6: =O6-Q6 -> 0 | Q6: =O6-P6 -> 390029280 | R6: =#REF! -> #REF! | S6: =#REF! -> #REF! | T6: =#REF! -> #REF! | U6: =#REF! -> #REF! | V6: =#REF! -> #REF! | W6: =#REF! -> #REF! | X6: =#REF! -> #REF! | Y6: =#REF! -> #REF! | Z6: =SHA!A$15 -> Folkehelseinstituttet, Vaksineforsyning | AA6: =SHA!B$15 -> Myrens verksted 6J | AC6: =SHA!C$15 -> 473 | AD6: =SHA!D$15 -> Oslo | AE6: =SHA!E$15 -> Kari Opheim | AF6: =SHA!F$15 -> 95752748 | AG6: =M6 -> #REF! | AH6: =N6 -> #REF!
A7: =#REF! -> #REF! | B7: =#REF! -> #REF! | C7: =#REF! -> #REF! | D7: =#REF! -> #REF! | E7: =#REF! -> #REF! | F7: =#REF! -> #REF! | G7: =#REF! -> #REF! | H7: =#REF! -> #REF! | ... J7: =#REF! -> #REF! | K7: =D7+E7+F7+G7+H7+I7 -> #REF! | L7: =J7-K7 -> #REF! | M7: =D7*#REF!+'Marius cleanup'!E7*#REF!+'Marius cleanup'!F7*#REF!+'Marius cleanup'!G7*#REF!+'Marius cleanup'!H7*#REF!+'Marius cleanup'!I7*#REF! -> #REF! | N7: =D7*#REF!+'Marius cleanup'!E7*#REF!+'Marius cleanup'!F7*#REF!+'Marius cleanup'!G7*#REF!+'Marius cleanup'!H7*#REF!+'Marius cleanup'!I7*#REF! -> #REF! | O7: =#REF! -> #REF! | P7: =O7-Q7 -> 0 | Q7: =O7-P7 -> 390029280 | R7: =#REF! -> #REF! | S7: =#REF! -> #REF! | T7: =#REF! -> #REF! | U7: =#REF! -> #REF! | V7: =#REF! -> #REF! | W7: =#REF! -> #REF! | X7: =#REF! -> #REF! | Y7: =#REF! -> #REF! | Z7: =SHA!A$15 -> Folkehelseinstituttet, Vaksineforsyning | AA7: =SHA!B$15 -> Myrens verksted 6J | AC7: =SHA!C$15 -> 473 | AD7: =SHA!D$15 -> Oslo | AE7: =SHA!E$15 -> Kari Opheim | AF7: =SHA!F$15 -> 95752748 | AG7: =M7 -> #REF! | AH7: =N7 -> #REF!
A8: =#REF! -> #REF! | B8: =#REF! -> #REF! | C8: =#REF! -> #REF! | D8: =#REF! -> #REF! | E8: =#REF! -> #REF! | F8: =#REF! -> #REF! | G8: =#REF! -> #REF! | H8: =#REF! -> #REF! | ... J8: =#REF! -> #REF! | K8: =D8+E8+F8+G8+H8+I8 -> #REF! | L8: =J8-K8 -> #REF! | M8: =D8*#REF!+'Marius cleanup'!E8*#REF!+'Marius cleanup'!F8*#REF!+'Marius cleanup'!G8*#REF!+'Marius cleanup'!H8*#REF!+'Marius cleanup'!I8*#REF! -> #REF! | N8: =D8*#REF!+'Marius cleanup'!E8*#REF!+'Marius cleanup'!F8*#REF!+'Marius cleanup'!G8*#REF!+'Marius cleanup'!H8*#REF!+'Marius cleanup'!I8*#REF! -> #REF! | O8: =#REF! -> #REF! | P8: =O8-Q8 -> 0 | Q8: =O8-P8 -> 390029280 | R8: =#REF! -> #REF! | S8: =#REF! -> #REF! | T8: =#REF! -> #REF! | U8: =#REF! -> #REF! | V8: =#REF! -> #REF! | W8: =#REF! -> #REF! | X8: =#REF! -> #REF! | Y8: =#REF! -> #REF! | Z8: =SHA!A$15 -> Folkehelseinstituttet, Vaksineforsyning | AA8: =SHA!B$15 -> Myrens verksted 6J | AC8: =SHA!C$15 -> 473 | AD8: =SHA!D$15 -> Oslo | AE8: =SHA!E$15 -> Kari Opheim | AF8: =SHA!F$15 -> 95752748 | AG8: =M8 -> #REF! | AH8: =N8 -> #REF!
A9: =#REF! -> #REF! | B9: =#REF! -> #REF! | C9: =#REF! -> #REF! | D9: =#REF! -> #REF! | E9: =#REF! -> #REF! | F9: =#REF! -> #REF! | G9: =#REF! -> #REF! | H9: =#REF! -> #REF! | ... J9: =#REF! -> #REF! | K9: =D9+E9+F9+G9+H9+I9 -> #REF! | L9: =J9-K9 -> #REF! | M9: =D9*#REF!+'Marius cleanup'!E9*#REF!+'Marius cleanup'!F9*#REF!+'Marius cleanup'!G9*#REF!+'Marius cleanup'!H9*#REF!+'Marius cleanup'!I9*#REF! -> #REF! | N9: =D9*#REF!+'Marius cleanup'!E9*#REF!+'Marius cleanup'!F9*#REF!+'Marius cleanup'!G9*#REF!+'Marius cleanup'!H9*#REF!+'Marius cleanup'!I9*#REF! -> #REF! | O9: =#REF! -> #REF! | P9: =O9-Q9 -> 0 | Q9: =O9-P9 -> 390029280 | R9: =#REF! -> #REF! | S9: =#REF! -> #REF! | T9: =#REF! -> #REF! | U9: =#REF! -> #REF! | V9: =#REF! -> #REF! | W9: =#REF! -> #REF! | X9: =#REF! -> #REF! | Y9: =#REF! -> #REF! | Z9: =SHA!A$15 -> Folkehelseinstituttet, Vaksineforsyning | AA9: =SHA!B$15 -> Myrens verksted 6J | AC9: =SHA!C$15 -> 473 | AD9: =SHA!D$15 -> Oslo | AE9: =SHA!E$15 -> Kari Opheim | AF9: =SHA!F$15 -> 95752748 | AG9: =M9 -> #REF! | AH9: =N9 -> #REF!
A10: =#REF! -> #REF! | B10: =#REF! -> #REF! | C10: =#REF! -> #REF! | D10: =#REF! -> #REF! | E10: =#REF! -> #REF! | F10: =#REF! -> #REF! | G10: =#REF! -> #REF! | H10: =#REF! -> #REF! | ... J10: =#REF! -> #REF! | K10: =D10+E10+F10+G10+H10+I10 -> #REF! | L10: =J10-K10 -> #REF! | M10: =D10*#REF!+'Marius cleanup'!E10*#REF!+'Marius cleanup'!F10*#REF!+'Marius cleanup'!G10*#REF!+'Marius cleanup'!H10*#REF!+'Marius cleanup'!I10*#REF! -> #REF! | N10: =D10*#REF!+'Marius cleanup'!E10*#REF!+'Marius cleanup'!F10*#REF!+'Marius cleanup'!G10*#REF!+'Marius cleanup'!H10*#REF!+'Marius cleanup'!I10*#REF! -> #REF! | O10: =#REF! -> #REF! | P10: =O10-Q10 -> 0 | Q10: =O10-P10 -> 390029280 | R10: =#REF! -> #REF! | S10: =#REF! -> #REF! | T10: =#REF! -> #REF! | U10: =#REF! -> #REF! | V10: =#REF! -> #REF! | W10: =#REF! -> #REF! | X10: =#REF! -> #REF! | Y10: =#REF! -> #REF! | Z10: =SHA!A$15 -> Folkehelseinstituttet, Vaksineforsyning | AA10: =SHA!B$15 -> Myrens verksted 6J | AC10: =SHA!C$15 -> 473 | AD10: =SHA!D$15 -> Oslo | AE10: =SHA!E$15 -> Kari Opheim | AF10: =SHA!F$15 -> 95752748 | AG10: =M10 -> #REF! | AH10: =N10 -> #REF!
A11: =#REF! -> #REF! | B11: =#REF! -> #REF! | C11: =#REF! -> #REF! | D11: =#REF! -> #REF! | E11: =#REF! -> #REF! | F11: =#REF! -> #REF! | G11: =#REF! -> #REF! | H11: =#REF! -> #REF! | ... J11: =#REF! -> #REF! | K11: =D11+E11+F11+G11+H11+I11 -> #REF! | L11: =J11-K11 -> #REF! | M11: =D11*#REF!+'Marius cleanup'!E11*#REF!+'Marius cleanup'!F11*#REF!+'Marius cleanup'!G11*#REF!+'Marius cleanup'!H11*#REF!+'Marius cleanup'!I11*#REF! -> #REF! | N11: =D11*#REF!+'Marius cleanup'!E11*#REF!+'Marius cleanup'!F11*#REF!+'Marius cleanup'!G11*#REF!+'Marius cleanup'!H11*#REF!+'Marius cleanup'!I11*#REF! -> #REF! | O11: =#REF! -> #REF! | P11: =O11-Q11 -> 0 | Q11: =O11-P11 -> 390029280 | R11: =#REF! -> #REF! | S11: =#REF! -> #REF! | T11: =#REF! -> #REF! | U11: =#REF! -> #REF! | V11: =#REF! -> #REF! | W11: =#REF! -> #REF! | X11: =#REF! -> #REF! | Y11: =#REF! -> #REF! | Z11: =SHA!A$15 -> Folkehelseinstituttet, Vaksineforsyning | AA11: =SHA!B$15 -> Myrens verksted 6J | AC11: =SHA!C$15 -> 473 | AD11: =SHA!D$15 -> Oslo | AE11: =SHA!E$15 -> Kari Opheim | AF11: =SHA!F$15 -> 95752748 | AG11: =M11 -> #REF! | AH11: =N11 -> #REF!
A12: =#REF! -> #REF! | B12: =#REF! -> #REF! | C12: =#REF! -> #REF! | D12: =#REF! -> #REF! | E12: =#REF! -> #REF! | F12: =#REF! -> #REF! | G12: =#REF! -> #REF! | H12: =#REF! -> #REF! | ... J12: =#REF! -> #REF! | K12: =D12+E12+F12+G12+H12+I12 -> #REF! | L12: =J12-K12 -> #REF! | M12: =D12*#REF!+'Marius cleanup'!E12*#REF!+'Marius cleanup'!F12*#REF!+'Marius cleanup'!G12*#REF!+'Marius cleanup'!H12*#REF!+'Marius cleanup'!I12*#REF! -> #REF! | N12: =D12*#REF!+'Marius cleanup'!E12*#REF!+'Marius cleanup'!F12*#REF!+'Marius cleanup'!G12*#REF!+'Marius cleanup'!H12*#REF!+'Marius cleanup'!I12*#REF! -> #REF! | O12: =#REF! -> #REF! | P12: =O12-Q12 -> 0 | Q12: =O12-P12 -> 390029280 | R12: =#REF! -> #REF! | S12: =#REF! -> #REF! | T12: =#REF! -> #REF! | U12: =#REF! -> #REF! | V12: =#REF! -> #REF! | W12: =#REF! -> #REF! | X12: =#REF! -> #REF! | Y12: =#REF! -> #REF! | Z12: =SHA!A$15 -> Folkehelseinstituttet, Vaksineforsyning | AA12: =SHA!B$15 -> Myrens verksted 6J | AC12: =SHA!C$15 -> 473 | AD12: =SHA!D$15 -> Oslo | AE12: =SHA!E$15 -> Kari Opheim | AF12: =SHA!F$15 -> 95752748 | AG12: =M12 -> #REF! | AH12: =N12 -> #REF!
A13: =#REF! -> #REF! | B13: =#REF! -> #REF! | C13: =#REF! -> #REF! | D13: =#REF! -> #REF! | E13: =#REF! -> #REF! | F13: =#REF! -> #REF! | G13: =#REF! -> #REF! | H13: =#REF! -> #REF! | ... J13: =#REF! -> #REF! | K13: =D13+E13+F13+G13+H13+I13 -> #REF! | L13: =J13-K13 -> #REF! | M13: =D13*#REF!+'Marius cleanup'!E13*#REF!+'Marius cleanup'!F13*#REF!+'Marius cleanup'!G13*#REF!+'Marius cleanup'!H13*#REF!+'Marius cleanup'!I13*#REF! -> #REF! | N13: =D13*#REF!+'Marius cleanup'!E13*#REF!+'Marius cleanup'!F13*#REF!+'Marius cleanup'!G13*#REF!+'Marius cleanup'!H13*#REF!+'Marius cleanup'!I13*#REF! -> #REF! | O13: =#REF! -> #REF! | P13: =O13-Q13 -> 0 | Q13: =O13-P13 -> 390029280 | R13: =#REF! -> #REF! | S13: =#REF! -> #REF! | T13: =#REF! -> #REF! | U13: =#REF! -> #REF! | V13: =#REF! -> #REF! | W13: =#REF! -> #REF! | X13: =#REF! -> #REF! | Y13: =#REF! -> #REF! | Z13: =SHA!A$15 -> Folkehelseinstituttet, Vaksineforsyning | AA13: =SHA!B$15 -> Myrens verksted 6J | AC13: =SHA!C$15 -> 473 | AD13: =SHA!D$15 -> Oslo | AE13: =SHA!E$15 -> Kari Opheim | AF13: =SHA!F$15 -> 95752748 | AG13: =M13 -> #REF! | AH13: =N13 -> #REF!
A14: =#REF! -> #REF! | B14: =#REF! -> #REF! | C14: =#REF! -> #REF! | D14: =#REF! -> #REF! | E14: =#REF! -> #REF! | F14: =#REF! -> #REF! | G14: =#REF! -> #REF! | H14: =#REF! -> #REF! | ... J14: =#REF! -> #REF! | K14: =D14+E14+F14+G14+H14+I14 -> #REF! | L14: =J14-K14 -> #REF! | M14: =D14*#REF!+'Marius cleanup'!E14*#REF!+'Marius cleanup'!F14*#REF!+'Marius cleanup'!G14*#REF!+'Marius cleanup'!H14*#REF!+'Marius cleanup'!I14*#REF! -> #REF! | N14: =D14*#REF!+'Marius cleanup'!E14*#REF!+'Marius cleanup'!F14*#REF!+'Marius cleanup'!G14*#REF!+'Marius cleanup'!H14*#REF!+'Marius cleanup'!I14*#REF! -> #REF! | O14: =#REF! -> #REF! | P14: =O14-Q14 -> 0 | Q14: =O14-P14 -> 390029280 | R14: =#REF! -> #REF! | S14: =#REF! -> #REF! | T14: =#REF! -> #REF! | U14: =#REF! -> #REF! | V14: =#REF! -> #REF! | W14: =#REF! -> #REF! | X14: =#REF! -> #REF! | Y14: =#REF! -> #REF! | Z14: =SHA!A$15 -> Folkehelseinstituttet, Vaksineforsyning | AA14: =SHA!B$15 -> Myrens verksted 6J | AC14: =SHA!C$15 -> 473 | AD14: =SHA!D$15 -> Oslo | AE14: =SHA!E$15 -> Kari Opheim | AF14: =SHA!F$15 -> 95752748 | AG14: =M14 -> #REF! | AH14: =N14 -> #REF!
A15: =#REF! -> #REF! | B15: =#REF! -> #REF! | C15: =#REF! -> #REF! | D15: =#REF! -> #REF! | E15: =#REF! -> #REF! | F15: =#REF! -> #REF! | G15: =#REF! -> #REF! | H15: =#REF! -> #REF! | ... J15: =#REF! -> #REF! | K15: =D15+E15+F15+G15+H15+I15 -> #REF! | L15: =J15-K15 -> #REF! | M15: =D15*#REF!+'Marius cleanup'!E15*#REF!+'Marius cleanup'!F15*#REF!+'Marius cleanup'!G15*#REF!+'Marius cleanup'!H15*#REF!+'Marius cleanup'!I15*#REF! -> #REF! | N15: =D15*#REF!+'Marius cleanup'!E15*#REF!+'Marius cleanup'!F15*#REF!+'Marius cleanup'!G15*#REF!+'Marius cleanup'!H15*#REF!+'Marius cleanup'!I15*#REF! -> #REF! | O15: =#REF! -> #REF! | P15: =O15-Q15 -> 0 | Q15: =O15-P15 -> 390029280 | R15: =#REF! -> #REF! | S15: =#REF! -> #REF! | T15: =#REF! -> #REF! | U15: =#REF! -> #REF! | V15: =#REF! -> #REF! | W15: =#REF! -> #REF! | X15: =#REF! -> #REF! | Y15: =#REF! -> #REF! | Z15: =SHA!A$15 -> Folkehelseinstituttet, Vaksineforsyning | AA15: =SHA!B$15 -> Myrens verksted 6J | AC15: =SHA!C$15 -> 473 | AD15: =SHA!D$15 -> Oslo | AE15: =SHA!E$15 -> Kari Opheim | AF15: =SHA!F$15 -> 95752748 | AG15: =M15 -> #REF! | AH15: =N15 -> #REF!
A16: =#REF! -> #REF! | B16: =#REF! -> #REF! | C16: =#REF! -> #REF! | D16: =#REF! -> #REF! | E16: =#REF! -> #REF! | F16: =#REF! -> #REF! | G16: =#REF! -> #REF! | H16: =#REF! -> #REF! | ... J16: =#REF! -> #REF! | K16: =D16+E16+F16+G16+H16+I16 -> #REF! | L16: =J16-K16 -> #REF! | M16: =D16*#REF!+'Marius cleanup'!E16*#REF!+'Marius cleanup'!F16*#REF!+'Marius cleanup'!G16*#REF!+'Marius cleanup'!H16*#REF!+'Marius cleanup'!I16*#REF! -> #REF! | N16: =D16*#REF!+'Marius cleanup'!E16*#REF!+'Marius cleanup'!F16*#REF!+'Marius cleanup'!G16*#REF!+'Marius cleanup'!H16*#REF!+'Marius cleanup'!I16*#REF! -> #REF! | O16: =#REF! -> #REF! | P16: =O16-Q16 -> 0 | Q16: =O16-P16 -> 390029280 | R16: =#REF! -> #REF! | S16: =#REF! -> #REF! | T16: =#REF! -> #REF! | U16: =#REF! -> #REF! | V16: =#REF! -> #REF! | W16: =#REF! -> #REF! | X16: =#REF! -> #REF! | Y16: =#REF! -> #REF! | Z16: =SHA!A$15 -> Folkehelseinstituttet, Vaksineforsyning | AA16: =SHA!B$15 -> Myrens verksted 6J | AC16: =SHA!C$15 -> 473 | AD16: =SHA!D$15 -> Oslo | AE16: =SHA!E$15 -> Kari Opheim | AF16: =SHA!F$15 -> 95752748 | AG16: =M16 -> #REF! | AH16: =N16 -> #REF!
... A282: =#REF! -> #REF! | B282: =#REF! -> #REF! | C282: =#REF! -> #REF! | D282: =#REF! -> #REF! | E282: =#REF! -> #REF! | F282: =#REF! -> #REF! | G282: =#REF! -> #REF! | H282: =#REF! -> #REF! | ... J282: =#REF! -> #REF! | K282: =D282+E282+F282+G282+H282+I282 -> #REF! | L282: =J282-K282 -> #REF! | M282: =D282*#REF!+'Marius cleanup'!E282*#REF!+'Marius cleanup'!F282*#REF!+'Marius cleanup'!G282*#REF!+'Marius cleanup'!H282*#REF!+'Marius cleanup'!I282*#REF! -> #REF! | N282: =D282*#REF!+'Marius cleanup'!E282*#REF!+'Marius cleanup'!F282*#REF!+'Marius cleanup'!G282*#REF!+'Marius cleanup'!H282*#REF!+'Marius cleanup'!I282*#REF! -> #REF! | O282: =#REF! -> #REF! | P282: =O282-Q282 -> 0 | Q282: =O282-P282 -> 390029280 | R282: =#REF! -> #REF! | S282: =#REF! -> #REF! | T282: =#REF! -> #REF! | U282: =#REF! -> #REF! | V282: =#REF! -> #REF! | W282: =#REF! -> #REF! | X282: =#REF! -> #REF! | Y282: =#REF! -> #REF! | Z282: =SHA!A$15 -> Folkehelseinstituttet, Vaksineforsyning | AA282: =SHA!B$15 -> Myrens verksted 6J | AC282: =SHA!C$15 -> 473 | AD282: =SHA!D$15 -> Oslo | AE282: =SHA!E$15 -> Kari Opheim | AF282: =SHA!F$15 -> 95752748 | AG282: =M282 -> #REF! | AH282: =N282 -> #REF!
A283: =#REF! -> #REF! | B283: =#REF! -> #REF! | C283: =#REF! -> #REF! | D283: =#REF! -> #REF! | E283: =#REF! -> #REF! | F283: =#REF! -> #REF! | G283: =#REF! -> #REF! | H283: =#REF! -> #REF! | ... J283: =#REF! -> #REF! | K283: =D283+E283+F283+G283+H283+I283 -> #REF! | L283: =J283-K283 -> #REF! | M283: =D283*#REF!+'Marius cleanup'!E283*#REF!+'Marius cleanup'!F283*#REF!+'Marius cleanup'!G283*#REF!+'Marius cleanup'!H283*#REF!+'Marius cleanup'!I283*#REF! -> #REF! | N283: =D283*#REF!+'Marius cleanup'!E283*#REF!+'Marius cleanup'!F283*#REF!+'Marius cleanup'!G283*#REF!+'Marius cleanup'!H283*#REF!+'Marius cleanup'!I283*#REF! -> #REF! | O283: =#REF! -> #REF! | P283: =O283-Q283 -> 0 | Q283: =O283-P283 -> 390029280 | R283: =#REF! -> #REF! | S283: =#REF! -> #REF! | T283: =#REF! -> #REF! | U283: =#REF! -> #REF! | V283: =#REF! -> #REF! | W283: =#REF! -> #REF! | X283: =#REF! -> #REF! | Y283: =#REF! -> #REF! | Z283: =SHA!A$15 -> Folkehelseinstituttet, Vaksineforsyning | AA283: =SHA!B$15 -> Myrens verksted 6J | AC283: =SHA!C$15 -> 473 | AD283: =SHA!D$15 -> Oslo | AE283: =SHA!E$15 -> Kari Opheim | AF283: =SHA!F$15 -> 95752748 | AG283: =M283 -> #REF! | AH283: =N283 -> #REF! | AW283: 10 | AX283: =SUMIFS($AG:$AG,$AI:$AI,$AW283,$AJ:$AJ,RIGHT(AX$4,(LEN(AX$4)-5))) -> 0 | AY283: =SUMIFS($AG:$AG,$AI:$AI,$AW283,$AJ:$AJ,RIGHT(AY$4,(LEN(AY$4)-5))) -> 0 | AZ283: =SUMIFS($AG:$AG,$AI:$AI,$AW283,$AJ:$AJ,RIGHT(AZ$4,(LEN(AZ$4)-5))) -> 0 | BA283: =SUMIFS($AG:$AG,$AI:$AI,$AW283,$AJ:$AJ,RIGHT(BA$4,(LEN(BA$4)-5))) -> 0 | BB283: =SUMIFS($AG:$AG,$AI:$AI,$AW283,$AJ:$AJ,RIGHT(BB$4,(LEN(BB$4)-5))) -> 0 | BC283: =SUMIFS($AG:$AG,$AI:$AI,$AW283,$AJ:$AJ,RIGHT(BC$4,(LEN(BC$4)-5))) -> 0 | BH283: =VLOOKUP(BF283,Sjåførliste!A:B,2,FALSE) -> #N/A
A284: =#REF! -> #REF! | B284: =#REF! -> #REF! | C284: =#REF! -> #REF! | D284: =#REF! -> #REF! | E284: =#REF! -> #REF! | F284: =#REF! -> #REF! | G284: =#REF! -> #REF! | H284: =#REF! -> #REF! | ... J284: =#REF! -> #REF! | K284: =D284+E284+F284+G284+H284+I284 -> #REF! | L284: =J284-K284 -> #REF! | M284: =D284*#REF!+'Marius cleanup'!E284*#REF!+'Marius cleanup'!F284*#REF!+'Marius cleanup'!G284*#REF!+'Marius cleanup'!H284*#REF!+'Marius cleanup'!I284*#REF! -> #REF! | N284: =D284*#REF!+'Marius cleanup'!E284*#REF!+'Marius cleanup'!F284*#REF!+'Marius cleanup'!G284*#REF!+'Marius cleanup'!H284*#REF!+'Marius cleanup'!I284*#REF! -> #REF! | O284: =#REF! -> #REF! | P284: =O284-Q284 -> 0 | Q284: =O284-P284 -> 390029280 | R284: =#REF! -> #REF! | S284: =#REF! -> #REF! | T284: =#REF! -> #REF! | U284: =#REF! -> #REF! | V284: =#REF! -> #REF! | W284: =#REF! -> #REF! | X284: =#REF! -> #REF! | Y284: =#REF! -> #REF! | Z284: =SHA!A$15 -> Folkehelseinstituttet, Vaksineforsyning | AA284: =SHA!B$15 -> Myrens verksted 6J | AC284: =SHA!C$15 -> 473 | AD284: =SHA!D$15 -> Oslo | AE284: =SHA!E$15 -> Kari Opheim | AF284: =SHA!F$15 -> 95752748 | AG284: =M284 -> #REF! | AH284: =N284 -> #REF!
A285: =#REF! -> #REF! | B285: =#REF! -> #REF! | C285: =#REF! -> #REF! | D285: =#REF! -> #REF! | E285: =#REF! -> #REF! | F285: =#REF! -> #REF! | G285: =#REF! -> #REF! | H285: =#REF! -> #REF! | ... J285: =#REF! -> #REF! | K285: =D285+E285+F285+G285+H285+I285 -> #REF! | L285: =J285-K285 -> #REF! | M285: =D285*#REF!+'Marius cleanup'!E285*#REF!+'Marius cleanup'!F285*#REF!+'Marius cleanup'!G285*#REF!+'Marius cleanup'!H285*#REF!+'Marius cleanup'!I285*#REF! -> #REF! | N285: =D285*#REF!+'Marius cleanup'!E285*#REF!+'Marius cleanup'!F285*#REF!+'Marius cleanup'!G285*#REF!+'Marius cleanup'!H285*#REF!+'Marius cleanup'!I285*#REF! -> #REF! | O285: =#REF! -> #REF! | P285: =O285-Q285 -> 0 | Q285: =O285-P285 -> 390029280 | R285: =#REF! -> #REF! | S285: =#REF! -> #REF! | T285: =#REF! -> #REF! | U285: =#REF! -> #REF! | V285: =#REF! -> #REF! | W285: =#REF! -> #REF! | X285: =#REF! -> #REF! | Y285: =#REF! -> #REF! | Z285: =SHA!A$15 -> Folkehelseinstituttet, Vaksineforsyning | AA285: =SHA!B$15 -> Myrens verksted 6J | AC285: =SHA!C$15 -> 473 | AD285: =SHA!D$15 -> Oslo | AE285: =SHA!E$15 -> Kari Opheim | AF285: =SHA!F$15 -> 95752748 | AG285: =M285 -> #REF! | AH285: =N285 -> #REF!
A286: =#REF! -> #REF! | B286: =#REF! -> #REF! | C286: =#REF! -> #REF! | D286: =#REF! -> #REF! | E286: =#REF! -> #REF! | F286: =#REF! -> #REF! | G286: =#REF! -> #REF! | H286: =#REF! -> #REF! | ... J286: =#REF! -> #REF! | K286: =D286+E286+F286+G286+H286+I286 -> #REF! | L286: =J286-K286 -> #REF! | M286: =D286*#REF!+'Marius cleanup'!E286*#REF!+'Marius cleanup'!F286*#REF!+'Marius cleanup'!G286*#REF!+'Marius cleanup'!H286*#REF!+'Marius cleanup'!I286*#REF! -> #REF! | N286: =D286*#REF!+'Marius cleanup'!E286*#REF!+'Marius cleanup'!F286*#REF!+'Marius cleanup'!G286*#REF!+'Marius cleanup'!H286*#REF!+'Marius cleanup'!I286*#REF! -> #REF! | O286: =#REF! -> #REF! | P286: =O286-Q286 -> 0 | Q286: =O286-P286 -> 390029280 | R286: =#REF! -> #REF! | S286: =#REF! -> #REF! | T286: =#REF! -> #REF! | U286: =#REF! -> #REF! | V286: =#REF! -> #REF! | W286: =#REF! -> #REF! | X286: =#REF! -> #REF! | Y286: =#REF! -> #REF! | Z286: =SHA!A$15 -> Folkehelseinstituttet, Vaksineforsyning | AA286: =SHA!B$15 -> Myrens verksted 6J | AC286: =SHA!C$15 -> 473 | AD286: =SHA!D$15 -> Oslo | AE286: =SHA!E$15 -> Kari Opheim | AF286: =SHA!F$15 -> 95752748 | AG286: =M286 -> #REF! | AH286: =N286 -> #REF!
A287: =#REF! -> #REF! | B287: =#REF! -> #REF! | C287: =#REF! -> #REF! | D287: =#REF! -> #REF! | E287: =#REF! -> #REF! | F287: =#REF! -> #REF! | G287: =#REF! -> #REF! | H287: =#REF! -> #REF! | ... J287: =#REF! -> #REF! | K287: =D287+E287+F287+G287+H287+I287 -> #REF! | L287: =J287-K287 -> #REF! | M287: =D287*#REF!+'Marius cleanup'!E287*#REF!+'Marius cleanup'!F287*#REF!+'Marius cleanup'!G287*#REF!+'Marius cleanup'!H287*#REF!+'Marius cleanup'!I287*#REF! -> #REF! | N287: =D287*#REF!+'Marius cleanup'!E287*#REF!+'Marius cleanup'!F287*#REF!+'Marius cleanup'!G287*#REF!+'Marius cleanup'!H287*#REF!+'Marius cleanup'!I287*#REF! -> #REF! | O287: =#REF! -> #REF! | P287: =O287-Q287 -> 0 | Q287: =O287-P287 -> 390029280 | R287: =#REF! -> #REF! | S287: =#REF! -> #REF! | T287: =#REF! -> #REF! | U287: =#REF! -> #REF! | V287: =#REF! -> #REF! | W287: =#REF! -> #REF! | X287: =#REF! -> #REF! | Y287: =#REF! -> #REF! | Z287: =SHA!A$15 -> Folkehelseinstituttet, Vaksineforsyning | AA287: =SHA!B$15 -> Myrens verksted 6J | AC287: =SHA!C$15 -> 473 | AD287: =SHA!D$15 -> Oslo | AE287: =SHA!E$15 -> Kari Opheim | AF287: =SHA!F$15 -> 95752748 | AG287: =M287 -> #REF! | AH287: =N287 -> #REF!
A288: =#REF! -> #REF! | B288: =#REF! -> #REF! | C288: =#REF! -> #REF! | D288: =#REF! -> #REF! | E288: =#REF! -> #REF! | F288: =#REF! -> #REF! | G288: =#REF! -> #REF! | H288: =#REF! -> #REF! | ... J288: =#REF! -> #REF! | K288: =D288+E288+F288+G288+H288+I288 -> #REF! | L288: =J288-K288 -> #REF! | M288: =D288*#REF!+'Marius cleanup'!E288*#REF!+'Marius cleanup'!F288*#REF!+'Marius cleanup'!G288*#REF!+'Marius cleanup'!H288*#REF!+'Marius cleanup'!I288*#REF! -> #REF! | N288: =D288*#REF!+'Marius cleanup'!E288*#REF!+'Marius cleanup'!F288*#REF!+'Marius cleanup'!G288*#REF!+'Marius cleanup'!H288*#REF!+'Marius cleanup'!I288*#REF! -> #REF! | O288: =#REF! -> #REF! | P288: =O288-Q288 -> 0 | Q288: =O288-P288 -> 390029280 | R288: =#REF! -> #REF! | S288: =#REF! -> #REF! | T288: =#REF! -> #REF! | U288: =#REF! -> #REF! | V288: =#REF! -> #REF! | W288: =#REF! -> #REF! | X288: =#REF! -> #REF! | Y288: =#REF! -> #REF! | Z288: =SHA!A$15 -> Folkehelseinstituttet, Vaksineforsyning | AA288: =SHA!B$15 -> Myrens verksted 6J | AC288: =SHA!C$15 -> 473 | AD288: =SHA!D$15 -> Oslo | AE288: =SHA!E$15 -> Kari Opheim | AF288: =SHA!F$15 -> 95752748 | AG288: =M288 -> #REF! | AH288: =N288 -> #REF!
A289: =#REF! -> #REF! | B289: =#REF! -> #REF! | C289: =#REF! -> #REF! | D289: =#REF! -> #REF! | E289: =#REF! -> #REF! | F289: =#REF! -> #REF! | G289: =#REF! -> #REF! | H289: =#REF! -> #REF! | ... J289: =#REF! -> #REF! | K289: =D289+E289+F289+G289+H289+I289 -> #REF! | L289: =J289-K289 -> #REF! | M289: =D289*#REF!+'Marius cleanup'!E289*#REF!+'Marius cleanup'!F289*#REF!+'Marius cleanup'!G289*#REF!+'Marius cleanup'!H289*#REF!+'Marius cleanup'!I289*#REF! -> #REF! | N289: =D289*#REF!+'Marius cleanup'!E289*#REF!+'Marius cleanup'!F289*#REF!+'Marius cleanup'!G289*#REF!+'Marius cleanup'!H289*#REF!+'Marius cleanup'!I289*#REF! -> #REF! | O289: =#REF! -> #REF! | P289: =O289-Q289 -> 0 | Q289: =O289-P289 -> 390029280 | R289: =#REF! -> #REF! | S289: =#REF! -> #REF! | T289: =#REF! -> #REF! | U289: =#REF! -> #REF! | V289: =#REF! -> #REF! | W289: =#REF! -> #REF! | X289: =#REF! -> #REF! | Y289: =#REF! -> #REF! | Z289: =SHA!A$15 -> Folkehelseinstituttet, Vaksineforsyning | AA289: =SHA!B$15 -> Myrens verksted 6J | AC289: =SHA!C$15 -> 473 | AD289: =SHA!D$15 -> Oslo | AE289: =SHA!E$15 -> Kari Opheim | AF289: =SHA!F$15 -> 95752748 | AG289: =M289 -> #REF! | AH289: =N289 -> #REF!
A290: =#REF! -> #REF! | B290: =#REF! -> #REF! | C290: =#REF! -> #REF! | D290: =#REF! -> #REF! | E290: =#REF! -> #REF! | F290: =#REF! -> #REF! | G290: =#REF! -> #REF! | H290: =#REF! -> #REF! | ... J290: =#REF! -> #REF! | K290: =D290+E290+F290+G290+H290+I290 -> #REF! | L290: =J290-K290 -> #REF! | M290: =D290*#REF!+'Marius cleanup'!E290*#REF!+'Marius cleanup'!F290*#REF!+'Marius cleanup'!G290*#REF!+'Marius cleanup'!H290*#REF!+'Marius cleanup'!I290*#REF! -> #REF! | N290: =D290*#REF!+'Marius cleanup'!E290*#REF!+'Marius cleanup'!F290*#REF!+'Marius cleanup'!G290*#REF!+'Marius cleanup'!H290*#REF!+'Marius cleanup'!I290*#REF! -> #REF! | O290: =#REF! -> #REF! | P290: =O290-Q290 -> 0 | Q290: =O290-P290 -> 390029280 | R290: =#REF! -> #REF! | S290: =#REF! -> #REF! | T290: =#REF! -> #REF! | U290: =#REF! -> #REF! | V290: =#REF! -> #REF! | W290: =#REF! -> #REF! | X290: =#REF! -> #REF! | Y290: =#REF! -> #REF! | Z290: =SHA!A$15 -> Folkehelseinstituttet, Vaksineforsyning | AA290: =SHA!B$15 -> Myrens verksted 6J | AC290: =SHA!C$15 -> 473 | AD290: =SHA!D$15 -> Oslo | AE290: =SHA!E$15 -> Kari Opheim | AF290: =SHA!F$15 -> 95752748 | AG290: =M290 -> #REF! | AH290: =N290 -> #REF!
A291: =#REF! -> #REF! | B291: =#REF! -> #REF! | C291: =#REF! -> #REF! | D291: =#REF! -> #REF! | E291: =#REF! -> #REF! | F291: =#REF! -> #REF! | G291: =#REF! -> #REF! | H291: =#REF! -> #REF! | ... J291: =#REF! -> #REF! | K291: =D291+E291+F291+G291+H291+I291 -> #REF! | L291: =J291-K291 -> #REF! | M291: =D291*#REF!+'Marius cleanup'!E291*#REF!+'Marius cleanup'!F291*#REF!+'Marius cleanup'!G291*#REF!+'Marius cleanup'!H291*#REF!+'Marius cleanup'!I291*#REF! -> #REF! | N291: =D291*#REF!+'Marius cleanup'!E291*#REF!+'Marius cleanup'!F291*#REF!+'Marius cleanup'!G291*#REF!+'Marius cleanup'!H291*#REF!+'Marius cleanup'!I291*#REF! -> #REF! | O291: =#REF! -> #REF! | P291: =O291-Q291 -> 0 | Q291: =O291-P291 -> 390029280 | R291: =#REF! -> #REF! | S291: =#REF! -> #REF! | T291: =#REF! -> #REF! | U291: =#REF! -> #REF! | V291: =#REF! -> #REF! | W291: =#REF! -> #REF! | X291: =#REF! -> #REF! | Y291: =#REF! -> #REF! | Z291: =SHA!A$15 -> Folkehelseinstituttet, Vaksineforsyning | AA291: =SHA!B$15 -> Myrens verksted 6J | AC291: =SHA!C$15 -> 473 | AD291: =SHA!D$15 -> Oslo | AE291: =SHA!E$15 -> Kari Opheim | AF291: =SHA!F$15 -> 95752748 | AG291: =M291 -> #REF! | AH291: =N291 -> #REF!
A292: =#REF! -> #REF! | B292: =#REF! -> #REF! | C292: =#REF! -> #REF! | D292: =#REF! -> #REF! | E292: =#REF! -> #REF! | F292: =#REF! -> #REF! | G292: =#REF! -> #REF! | H292: =#REF! -> #REF! | ... J292: =#REF! -> #REF! | K292: =D292+E292+F292+G292+H292+I292 -> #REF! | L292: =J292-K292 -> #REF! | M292: =D292*#REF!+'Marius cleanup'!E292*#REF!+'Marius cleanup'!F292*#REF!+'Marius cleanup'!G292*#REF!+'Marius cleanup'!H292*#REF!+'Marius cleanup'!I292*#REF! -> #REF! | N292: =D292*#REF!+'Marius cleanup'!E292*#REF!+'Marius cleanup'!F292*#REF!+'Marius cleanup'!G292*#REF!+'Marius cleanup'!H292*#REF!+'Marius cleanup'!I292*#REF! -> #REF! | O292: =#REF! -> #REF! | P292: =O292-Q292 -> 0 | Q292: =O292-P292 -> 390029280 | R292: =#REF! -> #REF! | S292: =#REF! -> #REF! | T292: =#REF! -> #REF! | U292: =#REF! -> #REF! | V292: =#REF! -> #REF! | W292: =#REF! -> #REF! | X292: =#REF! -> #REF! | Y292: =#REF! -> #REF! | Z292: =SHA!A$15 -> Folkehelseinstituttet, Vaksineforsyning | AA292: =SHA!B$15 -> Myrens verksted 6J | AC292: =SHA!C$15 -> 473 | AD292: =SHA!D$15 -> Oslo | AE292: =SHA!E$15 -> Kari Opheim | AF292: =SHA!F$15 -> 95752748 | AG292: =M292 -> #REF! | AH292: =N292 -> #REF!
A293: =#REF! -> #REF! | B293: =#REF! -> #REF! | C293: =#REF! -> #REF! | D293: =#REF! -> #REF! | E293: =#REF! -> #REF! | F293: =#REF! -> #REF! | G293: =#REF! -> #REF! | H293: =#REF! -> #REF! | ... J293: =#REF! -> #REF! | K293: =D293+E293+F293+G293+H293+I293 -> #REF! | L293: =J293-K293 -> #REF! | M293: =D293*#REF!+'Marius cleanup'!E293*#REF!+'Marius cleanup'!F293*#REF!+'Marius cleanup'!G293*#REF!+'Marius cleanup'!H293*#REF!+'Marius cleanup'!I293*#REF! -> #REF! | N293: =D293*#REF!+'Marius cleanup'!E293*#REF!+'Marius cleanup'!F293*#REF!+'Marius cleanup'!G293*#REF!+'Marius cleanup'!H293*#REF!+'Marius cleanup'!I293*#REF! -> #REF! | O293: =#REF! -> #REF! | P293: =O293-Q293 -> 0 | Q293: =O293-P293 -> 390029280 | R293: =#REF! -> #REF! | S293: =#REF! -> #REF! | T293: =#REF! -> #REF! | U293: =#REF! -> #REF! | V293: =#REF! -> #REF! | W293: =#REF! -> #REF! | X293: =#REF! -> #REF! | Y293: =#REF! -> #REF! | Z293: =SHA!A$15 -> Folkehelseinstituttet, Vaksineforsyning | AA293: =SHA!B$15 -> Myrens verksted 6J | AC293: =SHA!C$15 -> 473 | AD293: =SHA!D$15 -> Oslo | AE293: =SHA!E$15 -> Kari Opheim | AF293: =SHA!F$15 -> 95752748 | AG293: =M293 -> #REF! | AH293: =N293 -> #REF!
A294: =#REF! -> #REF! | B294: =#REF! -> #REF! | C294: =#REF! -> #REF! | D294: =#REF! -> #REF! | E294: =#REF! -> #REF! | F294: =#REF! -> #REF! | G294: =#REF! -> #REF! | H294: =#REF! -> #REF! | ... J294: =#REF! -> #REF! | K294: =D294+E294+F294+G294+H294+I294 -> #REF! | L294: =J294-K294 -> #REF! | M294: =D294*#REF!+'Marius cleanup'!E294*#REF!+'Marius cleanup'!F294*#REF!+'Marius cleanup'!G294*#REF!+'Marius cleanup'!H294*#REF!+'Marius cleanup'!I294*#REF! -> #REF! | N294: =D294*#REF!+'Marius cleanup'!E294*#REF!+'Marius cleanup'!F294*#REF!+'Marius cleanup'!G294*#REF!+'Marius cleanup'!H294*#REF!+'Marius cleanup'!I294*#REF! -> #REF! | O294: =#REF! -> #REF! | P294: =O294-Q294 -> 0 | Q294: =O294-P294 -> 390029280 | R294: =#REF! -> #REF! | S294: =#REF! -> #REF! | T294: =#REF! -> #REF! | U294: =#REF! -> #REF! | V294: =#REF! -> #REF! | W294: =#REF! -> #REF! | X294: =#REF! -> #REF! | Y294: =#REF! -> #REF! | Z294: =SHA!A$15 -> Folkehelseinstituttet, Vaksineforsyning | AA294: =SHA!B$15 -> Myrens verksted 6J | AC294: =SHA!C$15 -> 473 | AD294: =SHA!D$15 -> Oslo | AE294: =SHA!E$15 -> Kari Opheim | AF294: =SHA!F$15 -> 95752748 | AG294: =M294 -> #REF! | AH294: =N294 -> #REF!
A295: =#REF! -> #REF! | B295: =#REF! -> #REF! | C295: =#REF! -> #REF! | D295: =#REF! -> #REF! | E295: =#REF! -> #REF! | F295: =#REF! -> #REF! | G295: =#REF! -> #REF! | H295: =#REF! -> #REF! | ... J295: =#REF! -> #REF! | K295: =D295+E295+F295+G295+H295+I295 -> #REF! | L295: =J295-K295 -> #REF! | M295: =D295*#REF!+'Marius cleanup'!E295*#REF!+'Marius cleanup'!F295*#REF!+'Marius cleanup'!G295*#REF!+'Marius cleanup'!H295*#REF!+'Marius cleanup'!I295*#REF! -> #REF! | N295: =D295*#REF!+'Marius cleanup'!E295*#REF!+'Marius cleanup'!F295*#REF!+'Marius cleanup'!G295*#REF!+'Marius cleanup'!H295*#REF!+'Marius cleanup'!I295*#REF! -> #REF! | O295: =#REF! -> #REF! | P295: =O295-Q295 -> 0 | Q295: =O295-P295 -> 390029280 | R295: =#REF! -> #REF! | S295: =#REF! -> #REF! | T295: =#REF! -> #REF! | U295: =#REF! -> #REF! | V295: =#REF! -> #REF! | W295: =#REF! -> #REF! | X295: =#REF! -> #REF! | Y295: =#REF! -> #REF! | Z295: =SHA!A$15 -> Folkehelseinstituttet, Vaksineforsyning | AA295: =SHA!B$15 -> Myrens verksted 6J | AC295: =SHA!C$15 -> 473 | AD295: =SHA!D$15 -> Oslo | AE295: =SHA!E$15 -> Kari Opheim | AF295: =SHA!F$15 -> 95752748 | AG295: =M295 -> #REF! | AH295: =N295 -> #REF!
... A326: =#REF! -> #REF! | B326: =#REF! -> #REF! | C326: =#REF! -> #REF! | D326: =#REF! -> #REF! | E326: =#REF! -> #REF! | F326: =#REF! -> #REF! | G326: =#REF! -> #REF! | H326: =#REF! -> #REF! | ... J326: =#REF! -> #REF! | K326: =D326+E326+F326+G326+H326+I326 -> #REF! | L326: =J326-K326 -> #REF! | M326: =D326*#REF!+'Marius cleanup'!E326*#REF!+'Marius cleanup'!F326*#REF!+'Marius cleanup'!G326*#REF!+'Marius cleanup'!H326*#REF!+'Marius cleanup'!I326*#REF! -> #REF! | N326: =D326*#REF!+'Marius cleanup'!E326*#REF!+'Marius cleanup'!F326*#REF!+'Marius cleanup'!G326*#REF!+'Marius cleanup'!H326*#REF!+'Marius cleanup'!I326*#REF! -> #REF! | O326: =#REF! -> #REF! | P326: =O326-Q326 -> 0 | Q326: =O326-P326 -> 390029280 | R326: =#REF! -> #REF! | S326: =#REF! -> #REF! | T326: =#REF! -> #REF! | U326: =#REF! -> #REF! | V326: =#REF! -> #REF! | W326: =#REF! -> #REF! | X326: =#REF! -> #REF! | Y326: =#REF! -> #REF! | Z326: =SHA!A$15 -> Folkehelseinstituttet, Vaksineforsyning | AA326: =SHA!B$15 -> Myrens verksted 6J | AC326: =SHA!C$15 -> 473 | AD326: =SHA!D$15 -> Oslo | AE326: =SHA!E$15 -> Kari Opheim | AF326: =SHA!F$15 -> 95752748 | AG326: =M326 -> #REF! | AH326: =N326 -> #REF!
A327: =#REF! -> #REF! | B327: =#REF! -> #REF! | C327: =#REF! -> #REF! | D327: =#REF! -> #REF! | E327: =#REF! -> #REF! | F327: =#REF! -> #REF! | G327: =#REF! -> #REF! | H327: =#REF! -> #REF! | ... J327: =#REF! -> #REF! | K327: =D327+E327+F327+G327+H327+I327 -> #REF! | L327: =J327-K327 -> #REF! | M327: =D327*#REF!+'Marius cleanup'!E327*#REF!+'Marius cleanup'!F327*#REF!+'Marius cleanup'!G327*#REF!+'Marius cleanup'!H327*#REF!+'Marius cleanup'!I327*#REF! -> #REF! | N327: =D327*#REF!+'Marius cleanup'!E327*#REF!+'Marius cleanup'!F327*#REF!+'Marius cleanup'!G327*#REF!+'Marius cleanup'!H327*#REF!+'Marius cleanup'!I327*#REF! -> #REF! | O327: =#REF! -> #REF! | P327: =O327-Q327 -> 0 | Q327: =O327-P327 -> 390029280 | R327: =#REF! -> #REF! | S327: =#REF! -> #REF! | T327: =#REF! -> #REF! | U327: =#REF! -> #REF! | V327: =#REF! -> #REF! | W327: =#REF! -> #REF! | X327: =#REF! -> #REF! | Y327: =#REF! -> #REF! | Z327: =SHA!A$15 -> Folkehelseinstituttet, Vaksineforsyning | AA327: =SHA!B$15 -> Myrens verksted 6J | AC327: =SHA!C$15 -> 473 | AD327: =SHA!D$15 -> Oslo | AE327: =SHA!E$15 -> Kari Opheim | AF327: =SHA!F$15 -> 95752748 | AG327: =M327 -> #REF! | AH327: =N327 -> #REF! | AW327: 6 | AX327: =SUMIFS($AG:$AG,$AI:$AI,$AW327,$AJ:$AJ,RIGHT(AX$4,(LEN(AX$4)-5))) -> 0 | AY327: =SUMIFS($AG:$AG,$AI:$AI,$AW327,$AJ:$AJ,RIGHT(AY$4,(LEN(AY$4)-5))) -> 0 | AZ327: =SUMIFS($AG:$AG,$AI:$AI,$AW327,$AJ:$AJ,RIGHT(AZ$4,(LEN(AZ$4)-5))) -> 0 | BA327: =SUMIFS($AG:$AG,$AI:$AI,$AW327,$AJ:$AJ,RIGHT(BA$4,(LEN(BA$4)-5))) -> 0 | BB327: =SUMIFS($AG:$AG,$AI:$AI,$AW327,$AJ:$AJ,RIGHT(BB$4,(LEN(BB$4)-5))) -> 0 | BC327: =SUMIFS($AG:$AG,$AI:$AI,$AW327,$AJ:$AJ,RIGHT(BC$4,(LEN(BC$4)-5))) -> 0 | BH327: =VLOOKUP(BF327,Sjåførliste!A:B,2,FALSE) -> #N/A
A328: =#REF! -> #REF! | B328: =#REF! -> #REF! | C328: =#REF! -> #REF! | D328: =#REF! -> #REF! | E328: =#REF! -> #REF! | F328: =#REF! -> #REF! | G328: =#REF! -> #REF! | H328: =#REF! -> #REF! | ... J328: =#REF! -> #REF! | K328: =D328+E328+F328+G328+H328+I328 -> #REF! | L328: =J328-K328 -> #REF! | M328: =D328*#REF!+'Marius cleanup'!E328*#REF!+'Marius cleanup'!F328*#REF!+'Marius cleanup'!G328*#REF!+'Marius cleanup'!H328*#REF!+'Marius cleanup'!I328*#REF! -> #REF! | N328: =D328*#REF!+'Marius cleanup'!E328*#REF!+'Marius cleanup'!F328*#REF!+'Marius cleanup'!G328*#REF!+'Marius cleanup'!H328*#REF!+'Marius cleanup'!I328*#REF! -> #REF! | O328: =#REF! -> #REF! | P328: =O328-Q328 -> 0 | Q328: =O328-P328 -> 390029280 | R328: =#REF! -> #REF! | S328: =#REF! -> #REF! | T328: =#REF! -> #REF! | U328: =#REF! -> #REF! | V328: =#REF! -> #REF! | W328: =#REF! -> #REF! | X328: =#REF! -> #REF! | Y328: =#REF! -> #REF! | Z328: =SHA!A$15 -> Folkehelseinstituttet, Vaksineforsyning | AA328: =SHA!B$15 -> Myrens verksted 6J | AC328: =SHA!C$15 -> 473 | AD328: =SHA!D$15 -> Oslo | AE328: =SHA!E$15 -> Kari Opheim | AF328: =SHA!F$15 -> 95752748 | AG328: =M328 -> #REF! | AH328: =N328 -> #REF!
A329: =#REF! -> #REF! | B329: =#REF! -> #REF! | C329: =#REF! -> #REF! | D329: =#REF! -> #REF! | E329: =#REF! -> #REF! | F329: =#REF! -> #REF! | G329: =#REF! -> #REF! | H329: =#REF! -> #REF! | ... J329: =#REF! -> #REF! | K329: =D329+E329+F329+G329+H329+I329 -> #REF! | L329: =J329-K329 -> #REF! | M329: =D329*#REF!+'Marius cleanup'!E329*#REF!+'Marius cleanup'!F329*#REF!+'Marius cleanup'!G329*#REF!+'Marius cleanup'!H329*#REF!+'Marius cleanup'!I329*#REF! -> #REF! | N329: =D329*#REF!+'Marius cleanup'!E329*#REF!+'Marius cleanup'!F329*#REF!+'Marius cleanup'!G329*#REF!+'Marius cleanup'!H329*#REF!+'Marius cleanup'!I329*#REF! -> #REF! | O329: =#REF! -> #REF! | P329: =O329-Q329 -> 0 | Q329: =O329-P329 -> 390029280 | R329: =#REF! -> #REF! | S329: =#REF! -> #REF! | T329: =#REF! -> #REF! | U329: =#REF! -> #REF! | V329: =#REF! -> #REF! | W329: =#REF! -> #REF! | X329: =#REF! -> #REF! | Y329: =#REF! -> #REF! | Z329: =SHA!A$15 -> Folkehelseinstituttet, Vaksineforsyning | AA329: =SHA!B$15 -> Myrens verksted 6J | AC329: =SHA!C$15 -> 473 | AD329: =SHA!D$15 -> Oslo | AE329: =SHA!E$15 -> Kari Opheim | AF329: =SHA!F$15 -> 95752748 | AG329: =M329 -> #REF! | AH329: =N329 -> #REF!
A330: =#REF! -> #REF! | B330: =#REF! -> #REF! | C330: =#REF! -> #REF! | D330: =#REF! -> #REF! | E330: =#REF! -> #REF! | F330: =#REF! -> #REF! | G330: =#REF! -> #REF! | H330: =#REF! -> #REF! | ... J330: =#REF! -> #REF! | K330: =D330+E330+F330+G330+H330+I330 -> #REF! | L330: =J330-K330 -> #REF! | M330: =D330*#REF!+'Marius cleanup'!E330*#REF!+'Marius cleanup'!F330*#REF!+'Marius cleanup'!G330*#REF!+'Marius cleanup'!H330*#REF!+'Marius cleanup'!I330*#REF! -> #REF! | N330: =D330*#REF!+'Marius cleanup'!E330*#REF!+'Marius cleanup'!F330*#REF!+'Marius cleanup'!G330*#REF!+'Marius cleanup'!H330*#REF!+'Marius cleanup'!I330*#REF! -> #REF! | O330: =#REF! -> #REF! | P330: =O330-Q330 -> 0 | Q330: =O330-P330 -> 390029280 | R330: =#REF! -> #REF! | S330: =#REF! -> #REF! | T330: =#REF! -> #REF! | U330: =#REF! -> #REF! | V330: =#REF! -> #REF! | W330: =#REF! -> #REF! | X330: =#REF! -> #REF! | Y330: =#REF! -> #REF! | Z330: =SHA!A$15 -> Folkehelseinstituttet, Vaksineforsyning | AA330: =SHA!B$15 -> Myrens verksted 6J | AC330: =SHA!C$15 -> 473 | AD330: =SHA!D$15 -> Oslo | AE330: =SHA!E$15 -> Kari Opheim | AF330: =SHA!F$15 -> 95752748 | AG330: =M330 -> #REF! | AH330: =N330 -> #REF!
A331: =#REF! -> #REF! | B331: =#REF! -> #REF! | C331: =#REF! -> #REF! | D331: =#REF! -> #REF! | E331: =#REF! -> #REF! | F331: =#REF! -> #REF! | G331: =#REF! -> #REF! | H331: =#REF! -> #REF! | ... J331: =#REF! -> #REF! | K331: =D331+E331+F331+G331+H331+I331 -> #REF! | L331: =J331-K331 -> #REF! | M331: =D331*#REF!+'Marius cleanup'!E331*#REF!+'Marius cleanup'!F331*#REF!+'Marius cleanup'!G331*#REF!+'Marius cleanup'!H331*#REF!+'Marius cleanup'!I331*#REF! -> #REF! | N331: =D331*#REF!+'Marius cleanup'!E331*#REF!+'Marius cleanup'!F331*#REF!+'Marius cleanup'!G331*#REF!+'Marius cleanup'!H331*#REF!+'Marius cleanup'!I331*#REF! -> #REF! | O331: =#REF! -> #REF! | P331: =O331-Q331 -> 0 | Q331: =O331-P331 -> 390029280 | R331: =#REF! -> #REF! | S331: =#REF! -> #REF! | T331: =#REF! -> #REF! | U331: =#REF! -> #REF! | V331: =#REF! -> #REF! | W331: =#REF! -> #REF! | X331: =#REF! -> #REF! | Y331: =#REF! -> #REF! | Z331: =SHA!A$15 -> Folkehelseinstituttet, Vaksineforsyning | AA331: =SHA!B$15 -> Myrens verksted 6J | AC331: =SHA!C$15 -> 473 | AD331: =SHA!D$15 -> Oslo | AE331: =SHA!E$15 -> Kari Opheim | AF331: =SHA!F$15 -> 95752748 | AG331: =M331 -> #REF! | AH331: =N331 -> #REF!
A332: =#REF! -> #REF! | B332: =#REF! -> #REF! | C332: =#REF! -> #REF! | D332: =#REF! -> #REF! | E332: =#REF! -> #REF! | F332: =#REF! -> #REF! | G332: =#REF! -> #REF! | H332: =#REF! -> #REF! | ... J332: =#REF! -> #REF! | K332: =D332+E332+F332+G332+H332+I332 -> #REF! | L332: =J332-K332 -> #REF! | M332: =D332*#REF!+'Marius cleanup'!E332*#REF!+'Marius cleanup'!F332*#REF!+'Marius cleanup'!G332*#REF!+'Marius cleanup'!H332*#REF!+'Marius cleanup'!I332*#REF! -> #REF! | N332: =D332*#REF!+'Marius cleanup'!E332*#REF!+'Marius cleanup'!F332*#REF!+'Marius cleanup'!G332*#REF!+'Marius cleanup'!H332*#REF!+'Marius cleanup'!I332*#REF! -> #REF! | O332: =#REF! -> #REF! | P332: =O332-Q332 -> 0 | Q332: =O332-P332 -> 390029280 | R332: =#REF! -> #REF! | S332: =#REF! -> #REF! | T332: =#REF! -> #REF! | U332: =#REF! -> #REF! | V332: =#REF! -> #REF! | W332: =#REF! -> #REF! | X332: =#REF! -> #REF! | Y332: =#REF! -> #REF! | Z332: =SHA!A$15 -> Folkehelseinstituttet, Vaksineforsyning | AA332: =SHA!B$15 -> Myrens verksted 6J | AC332: =SHA!C$15 -> 473 | AD332: =SHA!D$15 -> Oslo | AE332: =SHA!E$15 -> Kari Opheim | AF332: =SHA!F$15 -> 95752748 | AG332: =M332 -> #REF! | AH332: =N332 -> #REF!
A333: =#REF! -> #REF! | B333: =#REF! -> #REF! | C333: =#REF! -> #REF! | D333: =#REF! -> #REF! | E333: =#REF! -> #REF! | F333: =#REF! -> #REF! | G333: =#REF! -> #REF! | H333: =#REF! -> #REF! | ... J333: =#REF! -> #REF! | K333: =D333+E333+F333+G333+H333+I333 -> #REF! | L333: =J333-K333 -> #REF! | M333: =D333*#REF!+'Marius cleanup'!E333*#REF!+'Marius cleanup'!F333*#REF!+'Marius cleanup'!G333*#REF!+'Marius cleanup'!H333*#REF!+'Marius cleanup'!I333*#REF! -> #REF! | N333: =D333*#REF!+'Marius cleanup'!E333*#REF!+'Marius cleanup'!F333*#REF!+'Marius cleanup'!G333*#REF!+'Marius cleanup'!H333*#REF!+'Marius cleanup'!I333*#REF! -> #REF! | O333: =#REF! -> #REF! | P333: =O333-Q333 -> 0 | Q333: =O333-P333 -> 390029280 | R333: =#REF! -> #REF! | S333: =#REF! -> #REF! | T333: =#REF! -> #REF! | U333: =#REF! -> #REF! | V333: =#REF! -> #REF! | W333: =#REF! -> #REF! | X333: =#REF! -> #REF! | Y333: =#REF! -> #REF! | Z333: =SHA!A$15 -> Folkehelseinstituttet, Vaksineforsyning | AA333: =SHA!B$15 -> Myrens verksted 6J | AC333: =SHA!C$15 -> 473 | AD333: =SHA!D$15 -> Oslo | AE333: =SHA!E$15 -> Kari Opheim | AF333: =SHA!F$15 -> 95752748 | AG333: =M333 -> #REF! | AH333: =N333 -> #REF!
A334: =#REF! -> #REF! | B334: =#REF! -> #REF! | C334: =#REF! -> #REF! | D334: =#REF! -> #REF! | E334: =#REF! -> #REF! | F334: =#REF! -> #REF! | G334: =#REF! -> #REF! | H334: =#REF! -> #REF! | ... J334: =#REF! -> #REF! | K334: =D334+E334+F334+G334+H334+I334 -> #REF! | L334: =J334-K334 -> #REF! | M334: =D334*#REF!+'Marius cleanup'!E334*#REF!+'Marius cleanup'!F334*#REF!+'Marius cleanup'!G334*#REF!+'Marius cleanup'!H334*#REF!+'Marius cleanup'!I334*#REF! -> #REF! | N334: =D334*#REF!+'Marius cleanup'!E334*#REF!+'Marius cleanup'!F334*#REF!+'Marius cleanup'!G334*#REF!+'Marius cleanup'!H334*#REF!+'Marius cleanup'!I334*#REF! -> #REF! | O334: =#REF! -> #REF! | P334: =O334-Q334 -> 0 | Q334: =O334-P334 -> 390029280 | R334: =#REF! -> #REF! | S334: =#REF! -> #REF! | T334: =#REF! -> #REF! | U334: =#REF! -> #REF! | V334: =#REF! -> #REF! | W334: =#REF! -> #REF! | X334: =#REF! -> #REF! | Y334: =#REF! -> #REF! | Z334: =SHA!A$15 -> Folkehelseinstituttet, Vaksineforsyning | AA334: =SHA!B$15 -> Myrens verksted 6J | AC334: =SHA!C$15 -> 473 | AD334: =SHA!D$15 -> Oslo | AE334: =SHA!E$15 -> Kari Opheim | AF334: =SHA!F$15 -> 95752748 | AG334: =M334 -> #REF! | AH334: =N334 -> #REF!
A335: =#REF! -> #REF! | B335: =#REF! -> #REF! | C335: =#REF! -> #REF! | D335: =#REF! -> #REF! | E335: =#REF! -> #REF! | F335: =#REF! -> #REF! | G335: =#REF! -> #REF! | H335: =#REF! -> #REF! | ... J335: =#REF! -> #REF! | K335: =D335+E335+F335+G335+H335+I335 -> #REF! | L335: =J335-K335 -> #REF! | M335: =D335*#REF!+'Marius cleanup'!E335*#REF!+'Marius cleanup'!F335*#REF!+'Marius cleanup'!G335*#REF!+'Marius cleanup'!H335*#REF!+'Marius cleanup'!I335*#REF! -> #REF! | N335: =D335*#REF!+'Marius cleanup'!E335*#REF!+'Marius cleanup'!F335*#REF!+'Marius cleanup'!G335*#REF!+'Marius cleanup'!H335*#REF!+'Marius cleanup'!I335*#REF! -> #REF! | O335: =#REF! -> #REF! | P335: =O335-Q335 -> 0 | Q335: =O335-P335 -> 390029280 | R335: =#REF! -> #REF! | S335: =#REF! -> #REF! | T335: =#REF! -> #REF! | U335: =#REF! -> #REF! | V335: =#REF! -> #REF! | W335: =#REF! -> #REF! | X335: =#REF! -> #REF! | Y335: =#REF! -> #REF! | Z335: =SHA!A$15 -> Folkehelseinstituttet, Vaksineforsyning | AA335: =SHA!B$15 -> Myrens verksted 6J | AC335: =SHA!C$15 -> 473 | AD335: =SHA!D$15 -> Oslo | AE335: =SHA!E$15 -> Kari Opheim | AF335: =SHA!F$15 -> 95752748 | AG335: =M335 -> #REF! | AH335: =N335 -> #REF!
A336: =#REF! -> #REF! | B336: =#REF! -> #REF! | C336: =#REF! -> #REF! | D336: =#REF! -> #REF! | E336: =#REF! -> #REF! | F336: =#REF! -> #REF! | G336: =#REF! -> #REF! | H336: =#REF! -> #REF! | ... J336: =#REF! -> #REF! | K336: =D336+E336+F336+G336+H336+I336 -> #REF! | L336: =J336-K336 -> #REF! | M336: =D336*#REF!+'Marius cleanup'!E336*#REF!+'Marius cleanup'!F336*#REF!+'Marius cleanup'!G336*#REF!+'Marius cleanup'!H336*#REF!+'Marius cleanup'!I336*#REF! -> #REF! | N336: =D336*#REF!+'Marius cleanup'!E336*#REF!+'Marius cleanup'!F336*#REF!+'Marius cleanup'!G336*#REF!+'Marius cleanup'!H336*#REF!+'Marius cleanup'!I336*#REF! -> #REF! | O336: =#REF! -> #REF! | P336: =O336-Q336 -> 0 | Q336: =O336-P336 -> 390029280 | R336: =#REF! -> #REF! | S336: =#REF! -> #REF! | T336: =#REF! -> #REF! | U336: =#REF! -> #REF! | V336: =#REF! -> #REF! | W336: =#REF! -> #REF! | X336: =#REF! -> #REF! | Y336: =#REF! -> #REF! | Z336: =SHA!A$15 -> Folkehelseinstituttet, Vaksineforsyning | AA336: =SHA!B$15 -> Myrens verksted 6J | AC336: =SHA!C$15 -> 473 | AD336: =SHA!D$15 -> Oslo | AE336: =SHA!E$15 -> Kari Opheim | AF336: =SHA!F$15 -> 95752748 | AG336: =M336 -> #REF! | AH336: =N336 -> #REF!
A337: =#REF! -> #REF! | B337: =#REF! -> #REF! | C337: =#REF! -> #REF! | D337: =#REF! -> #REF! | E337: =#REF! -> #REF! | F337: =#REF! -> #REF! | G337: =#REF! -> #REF! | H337: =#REF! -> #REF! | ... J337: =#REF! -> #REF! | K337: =D337+E337+F337+G337+H337+I337 -> #REF! | L337: =J337-K337 -> #REF! | M337: =D337*#REF!+'Marius cleanup'!E337*#REF!+'Marius cleanup'!F337*#REF!+'Marius cleanup'!G337*#REF!+'Marius cleanup'!H337*#REF!+'Marius cleanup'!I337*#REF! -> #REF! | N337: =D337*#REF!+'Marius cleanup'!E337*#REF!+'Marius cleanup'!F337*#REF!+'Marius cleanup'!G337*#REF!+'Marius cleanup'!H337*#REF!+'Marius cleanup'!I337*#REF! -> #REF! | O337: =#REF! -> #REF! | P337: =O337-Q337 -> 0 | Q337: =O337-P337 -> 390029280 | R337: =#REF! -> #REF! | S337: =#REF! -> #REF! | T337: =#REF! -> #REF! | U337: =#REF! -> #REF! | V337: =#REF! -> #REF! | W337: =#REF! -> #REF! | X337: =#REF! -> #REF! | Y337: =#REF! -> #REF! | Z337: =SHA!A$15 -> Folkehelseinstituttet, Vaksineforsyning | AA337: =SHA!B$15 -> Myrens verksted 6J | AC337: =SHA!C$15 -> 473 | AD337: =SHA!D$15 -> Oslo | AE337: =SHA!E$15 -> Kari Opheim | AF337: =SHA!F$15 -> 95752748 | AG337: =M337 -> #REF! | AH337: =N337 -> #REF!
A338: =#REF! -> #REF! | B338: =#REF! -> #REF! | C338: =#REF! -> #REF! | D338: =#REF! -> #REF! | E338: =#REF! -> #REF! | F338: =#REF! -> #REF! | G338: =#REF! -> #REF! | H338: =#REF! -> #REF! | ... J338: =#REF! -> #REF! | K338: =D338+E338+F338+G338+H338+I338 -> #REF! | L338: =J338-K338 -> #REF! | M338: =D338*#REF!+'Marius cleanup'!E338*#REF!+'Marius cleanup'!F338*#REF!+'Marius cleanup'!G338*#REF!+'Marius cleanup'!H338*#REF!+'Marius cleanup'!I338*#REF! -> #REF! | N338: =D338*#REF!+'Marius cleanup'!E338*#REF!+'Marius cleanup'!F338*#REF!+'Marius cleanup'!G338*#REF!+'Marius cleanup'!H338*#REF!+'Marius cleanup'!I338*#REF! -> #REF! | O338: =#REF! -> #REF! | P338: =O338-Q338 -> 0 | Q338: =O338-P338 -> 390029280 | R338: =#REF! -> #REF! | S338: =#REF! -> #REF! | T338: =#REF! -> #REF! | U338: =#REF! -> #REF! | V338: =#REF! -> #REF! | W338: =#REF! -> #REF! | X338: =#REF! -> #REF! | Y338: =#REF! -> #REF! | Z338: =SHA!A$15 -> Folkehelseinstituttet, Vaksineforsyning | AA338: =SHA!B$15 -> Myrens verksted 6J | AC338: =SHA!C$15 -> 473 | AD338: =SHA!D$15 -> Oslo | AE338: =SHA!E$15 -> Kari Opheim | AF338: =SHA!F$15 -> 95752748 | AG338: =M338 -> #REF! | AH338: =N338 -> #REF!
A339: =#REF! -> #REF! | B339: =#REF! -> #REF! | C339: =#REF! -> #REF! | D339: =#REF! -> #REF! | E339: =#REF! -> #REF! | F339: =#REF! -> #REF! | G339: =#REF! -> #REF! | H339: =#REF! -> #REF! | ... J339: =#REF! -> #REF! | K339: =D339+E339+F339+G339+H339+I339 -> #REF! | L339: =J339-K339 -> #REF! | M339: =D339*#REF!+'Marius cleanup'!E339*#REF!+'Marius cleanup'!F339*#REF!+'Marius cleanup'!G339*#REF!+'Marius cleanup'!H339*#REF!+'Marius cleanup'!I339*#REF! -> #REF! | N339: =D339*#REF!+'Marius cleanup'!E339*#REF!+'Marius cleanup'!F339*#REF!+'Marius cleanup'!G339*#REF!+'Marius cleanup'!H339*#REF!+'Marius cleanup'!I339*#REF! -> #REF! | O339: =#REF! -> #REF! | P339: =O339-Q339 -> 0 | Q339: =O339-P339 -> 390029280 | R339: =#REF! -> #REF! | S339: =#REF! -> #REF! | T339: =#REF! -> #REF! | U339: =#REF! -> #REF! | V339: =#REF! -> #REF! | W339: =#REF! -> #REF! | X339: =#REF! -> #REF! | Y339: =#REF! -> #REF! | Z339: =SHA!A$15 -> Folkehelseinstituttet, Vaksineforsyning | AA339: =SHA!B$15 -> Myrens verksted 6J | AC339: =SHA!C$15 -> 473 | AD339: =SHA!D$15 -> Oslo | AE339: =SHA!E$15 -> Kari Opheim | AF339: =SHA!F$15 -> 95752748 | AG339: =M339 -> #REF! | AH339: =N339 -> #REF!
... A458: =#REF! -> #REF! | B458: =#REF! -> #REF! | C458: =#REF! -> #REF! | D458: =#REF! -> #REF! | E458: =#REF! -> #REF! | F458: =#REF! -> #REF! | G458: =#REF! -> #REF! | H458: =#REF! -> #REF! | ... J458: =#REF! -> #REF! | K458: =D458+E458+F458+G458+H458+I458 -> #REF! | L458: =J458-K458 -> #REF! | M458: =D458*#REF!+'Marius cleanup'!E458*#REF!+'Marius cleanup'!F458*#REF!+'Marius cleanup'!G458*#REF!+'Marius cleanup'!H458*#REF!+'Marius cleanup'!I458*#REF! -> #REF! | N458: =D458*#REF!+'Marius cleanup'!E458*#REF!+'Marius cleanup'!F458*#REF!+'Marius cleanup'!G458*#REF!+'Marius cleanup'!H458*#REF!+'Marius cleanup'!I458*#REF! -> #REF! | O458: =#REF! -> #REF! | P458: =O458-Q458 -> 0 | Q458: =O458-P458 -> 390029280 | R458: =#REF! -> #REF! | S458: =#REF! -> #REF! | T458: =#REF! -> #REF! | U458: =#REF! -> #REF! | V458: =#REF! -> #REF! | W458: =#REF! -> #REF! | X458: =#REF! -> #REF! | Y458: =#REF! -> #REF! | Z458: =SHA!A$15 -> Folkehelseinstituttet, Vaksineforsyning | AA458: =SHA!B$15 -> Myrens verksted 6J | AC458: =SHA!C$15 -> 473 | AD458: =SHA!D$15 -> Oslo | AE458: =SHA!E$15 -> Kari Opheim | AF458: =SHA!F$15 -> 95752748 | AG458: =M458 -> #REF! | AH458: =N458 -> #REF!

Sheet Kjøreliste hele landet
A2: Kundenummer | B2: Postnummer | C2: Leveringsdato | D2: Rutenummer | E2: Rute rekkefølge
A3: 114200 | B3: 3221 | C3: 46314 | D3: 1 | E3: 1
A4: 1795 | B4: 3770 | C4: 46314 | D4: 1 | E4: 2
A5: 30809 | B5: 3770 | C5: 46314 | D5: 1 | E5: 3
A6: 79798 | B6: 3750 | C6: 46314 | D6: 1 | E6: 4
A7: 35204 | B7: 3855 | C7: 46314 | D7: 1 | E7: 5
A8: 34124 | B8: 3616 | C8: 46314 | D8: 2 | E8: 1
A9: 84061 | B9: 3692 | C9: 46314 | D9: 2 | E9: 2
A10: 39040 | B10: 3840 | C10: 46314 | D10: 2 | E10: 3
A11: 2870 | B11: 3850 | C11: 46314 | D11: 2 | E11: 4
A12: 2345 | B12: 3870 | C12: 46314 | D12: 2 | E12: 5
A13: 94128 | B13: 3880 | C13: 46314 | D13: 2 | E13: 6
A14: 8938 | B14: 3890 | C14: 46314 | D14: 2 | E14: 7
... A73: 112899 | B73: 2847 | C73: 46317 | D73: 11 | E73: 5
A74: 108866 | B74: 1364 | C74: 46314 | D74: 12 | E74: 1
A75: 114023 | B75: 1364 | C75: 46314 | D75: 12 | E75: 2
A76: 13839 | B76: 3340 | C76: 46314 | D76: 12 | E76: 3
A77: 103274 | B77: 3370 | C77: 46314 | D77: 12 | E77: 4
A78: 79848 | B78: 3536 | C78: 46314 | D78: 12 | E78: 5
A79: 87338 | B79: 3350 | C79: 46314 | D79: 12 | E79: 6
A80: 1100 | B80: 2609 | C80: 46318 | D80: 13 | E80: 1
A81: 113984 | B81: 2615 | C81: 46318 | D81: 13 | E81: 2
A82: 111060 | B82: 2625 | C82: 46318 | D82: 13 | E82: 3
A83: 115230 | B83: 2625 | C83: 46318 | D83: 13 | E83: 4
A84: 112515 | B84: 2651 | C84: 46318 | D84: 13 | E84: 5
A85: 100718 | B85: 2635 | C85: 46318 | D85: 13 | E85: 6
A86: 63511 | B86: 2647 | C86: 46317 | D86: 13 | E86: 7
... A94: 25312 | B94: 2058 | C94: 46315 | D94: 15 | E94: 3
A95: 106423 | B95: 2058 | C95: 46315 | D95: 15 | E95: 4
A96: 86496 | B96: 2120 | C96: 46315 | D96: 15 | E96: 5
A97: 109235 | B97: 1473 | C97: 46316 | D97: 16 | E97: 1
A98: 48918 | B98: 2010 | C98: 46316 | D98: 16 | E98: 2
A99: 114572 | B99: 2000 | C99: 46316 | D99: 16 | E99: 3
A100: 106725 | B100: 2003 | C100: 46316 | D100: 16 | E100: 4
A101: 114702 | B101: 2067 | C101: 46316 | D101: 16 | E101: 5
A102: 80705 | B102: 2770 | C102: 46316 | D102: 16 | E102: 6
A103: 28845 | B103: 2740 | C103: 46316 | D103: 16 | E103: 7
A104: 113863 | B104: 3520 | C104: 46316 | D104: 16 | E104: 8
A105: 102884 | B105: 3047 | C105: 46318 | D105: 17 | E105: 1
A106: 43414 | B106: 3300 | C106: 46318 | D106: 17 | E106: 2
A107: 12435 | B107: 3302 | C107: 46318 | D107: 17 | E107: 3
... A113: 1442 | B113: 1684 | C113: 46318 | D113: 17 | E113: 9
A114: 67926 | B114: 2211 | C114: 46317 | D114: 18 | E114: 1
A115: 28555 | B115: 2208 | C115: 46317 | D115: 18 | E115: 2
A116: 52001 | B116: 2212 | C116: 46317 | D116: 18 | E116: 3
A117: 30924 | B117: 3403 | C117: 46314 | D117: 19 | E117: 1
A118: 1928 | B118: 3080 | C118: 46314 | D118: 19 | E118: 2
A119: 30734 | B119: 3182 | C119: 46314 | D119: 19 | E119: 3
A120: 103291 | B120: 3170 | C120: 46314 | D120: 19 | E120: 4
A121: 106727 | B121: 3116 | C121: 46314 | D121: 19 | E121: 5
A122: 29314 | B122: 3140 | C122: 46314 | D122: 19 | E122: 6
A123: 114652 | B123: 3112 | C123: 46314 | D123: 19 | E123: 7
A124: 31435 | B124: 3211 | C124: 46314 | D124: 20 | E124: 1
A125: 112354 | B125: 3257 | C125: 46314 | D125: 20 | E125: 2
A126: 102293 | B126: 3264 | C126: 46314 | D126: 20 | E126: 3
... A172: 27946 | B172: 1415 | C172: 46317 | D172: 25 | E172: 9
A173: 56119 | B173: 181 | C173: 46321 | D173: 26 | E173: 1
A174: 75960 | B174: 0050 | C174: 46321 | D174: 26 | E174: 2
A175: 115296 | B175: 0154 | C175: 46321 | D175: 26 | E175: 3
A176: 26336 | B176: 0151 | C176: 46321 | D176: 26 | E176: 4
A177: 115468 | B177: 0157 | C177: 46321 | D177: 26 | E177: 5
A178: 114249 | B178: 0250 | C178: 46321 | D178: 26 | E178: 6
A179: 42770 | B179: 0251 | C179: 46321 | D179: 26 | E179: 7
A180: 10082 | B180: 0159 | C180: 46321 | D180: 26 | E180: 8
A181: 115256 | B181: 0182 | C181: 46321 | D181: 26 | E181: 9
A182: 61408 | B182: 0190 | C182: 46321 | D182: 26 | E182: 10
A183: 106511 | B183: 0650 | C183: 46321 | D183: 26 | E183: 11
A184: 1340 | B184: 0653 | C184: 46321 | D184: 26 | E184: 12
A185: 23531 | B185: 0658 | C185: 46321 | D185: 26 | E185: 13
... A307: 104217 | B307: 6018 | C307: 46328 | D307: 43 | E307: 1
A308: 104217 | B308: 6018 | C308: 46328 | D308: 43 | E308: 2
A309: 26708 | B309: 6017 | C309: 46328 | D309: 43 | E309: 3
A310: 102130 | B310: 6003 | C310: 46328 | D310: 43 | E310: 4
A311: 29223 | B311: 6050 | C311: 46328 | D311: 44 | E311: 1
A312: 78287 | B312: 6270 | C312: 46328 | D312: 44 | E312: 2
A313: 59253 | B313: 6030 | C313: 46328 | D313: 44 | E313: 3
A314: 84764 | B314: 6230 | C314: 46329 | D314: 45 | E314: 1
A315: 95653 | B315: 6200 | C315: 46329 | D315: 45 | E315: 2
A316: 95323 | B316: 6153 | C316: 46329 | D316: 45 | E316: 3
A317: 13714 | B317: 6100 | C317: 46329 | D317: 45 | E317: 4
A318: 106702 | B318: 6103 | C318: 46329 | D318: 45 | E318: 5
A319: 84418 | B319: 6060 | C319: 46328 | D319: 46 | E319: 1
A320: 107831 | B320: 6065 | C320: 46328 | D320: 46 | E320: 2
... A329: 115343 | B329: 4313 | C329: 46335 | D329: 47 | E329: 6
A330: 115258 | B330: 4313 | C330: 46335 | D330: 47 | E330: 7
A331: 31443 | B331: 4306 | C331: 46335 | D331: 48 | E331: 1
A332: 94953 | B332: 4016 | C332: 46335 | D332: 48 | E332: 2
A333: 64519 | B333: 4070 | C333: 46335 | D333: 49 | E333: 1
A334: 27805 | B334: 4050 | C334: 46335 | D334: 49 | E334: 2
A335: 75358 | B335: 5750 | C335: 46336 | D335: 50 | E335: 1
A336: 59857 | B336: 4200 | C336: 46336 | D336: 50 | E336: 2
A337: 98046 | B337: 4230 | C337: 46336 | D337: 50 | E337: 3
A338: 56671 | B338: 4440 | C338: 46336 | D338: 51 | E338: 1
A339: 57141 | B339: 4460 | C339: 46336 | D339: 51 | E339: 2
A340: 3251 | B340: 4380 | C340: 46336 | D340: 51 | E340: 3
A341: 84608 | B341: 4370 | C341: 46336 | D341: 51 | E341: 4
A342: 24943 | B342: 4389 | C342: 46336 | D342: 51 | E342: 5
... A441: 114091 | B441: 4630 | C441: 46337 | D441: 77 | E441: 4
